BEGIN:VCALENDAR
VERSION:2.0
PRODID:-//ArtsConnect - ECPv6.15.20//NONSGML v1.0//EN
CALSCALE:GREGORIAN
METHOD:PUBLISH
X-WR-CALNAME:ArtsConnect
X-ORIGINAL-URL:https://artsconnect.ing
X-WR-CALDESC:Events for ArtsConnect
REFRESH-INTERVAL;VALUE=DURATION:PT1H
X-Robots-Tag:noindex
X-PUBLISHED-TTL:PT1H
BEGIN:VTIMEZONE
TZID:America/Vancouver
BEGIN:DAYLIGHT
TZOFFSETFROM:-0800
TZOFFSETTO:-0700
TZNAME:PDT
DTSTART:20240310T100000
END:DAYLIGHT
BEGIN:STANDARD
TZOFFSETFROM:-0700
TZOFFSETTO:-0800
TZNAME:PST
DTSTART:20241103T090000
END:STANDARD
BEGIN:DAYLIGHT
TZOFFSETFROM:-0800
TZOFFSETTO:-0700
TZNAME:PDT
DTSTART:20250309T100000
END:DAYLIGHT
BEGIN:STANDARD
TZOFFSETFROM:-0700
TZOFFSETTO:-0800
TZNAME:PST
DTSTART:20251102T090000
END:STANDARD
BEGIN:DAYLIGHT
TZOFFSETFROM:-0800
TZOFFSETTO:-0700
TZNAME:PDT
DTSTART:20260308T100000
END:DAYLIGHT
BEGIN:STANDARD
TZOFFSETFROM:-0700
TZOFFSETTO:-0800
TZNAME:PST
DTSTART:20261101T090000
END:STANDARD
END:VTIMEZONE
BEGIN:VEVENT
DTSTART;TZID=America/Vancouver:20251203T183000
DTEND;TZID=America/Vancouver:20251203T210000
DTSTAMP:20260424T025912
CREATED:20251017T175226Z
LAST-MODIFIED:20251017T175226Z
UID:10000609-1764786600-1764795600@artsconnect.ing
SUMMARY:Artful Pints: Lino-Cut & Print - Totes & T-Shirts Edition
DESCRIPTION:Join us for Artful Pints – a monthly art night hosted by PoMoArts! Each month features a different hands-on art project led by local artists. Whether you’re a seasoned creative or just in it for the fun\, you’ll leave with something uniquely yours – and maybe a new favorite beer\, too. All materials provided. Just bring yourself and your imagination! Hosted the first Wednesday of every month at The Parkside Brewery. \nBeer and custom apparel? It’s a holiday dream! Learn the basics of lino carving and printing! In this hands-on workshop\, you’ll carve your own design and print it onto a shirt\, tote\, or a blank fabric patch to sew later. You can gift your creation to a loved one or to yourself (you’re a loved one too) this holiday season! This workshop will be led by local Illustrator\, Camila Szefler. All supplies are included. Drinks and snacks available to buy at Parkside. \nADMISSION \n$40 (includes tote or t-shirt)
URL:https://artsconnect.ing/artscalendar/artful-pints-lino-cut-print-totes-t-shirts-edition/
LOCATION:Parkside Brewery\, 2731 Murray Street\, Port Moody\, BC\, V3H 1X1\, Canada
CATEGORIES:Arts and Crafts
ATTACH;FMTTYPE=image/webp:https://artsconnect.ing/wp-content/uploads/2025/10/561463288_1247913937375111_5988833930748181702_n.webp
ORGANIZER;CN="PoMoArts":MAILTO:info@pomoarts.ca
END:VEVENT
BEGIN:VEVENT
DTSTART;TZID=America/Vancouver:20251207T120000
DTEND;TZID=America/Vancouver:20251207T150000
DTSTAMP:20260424T025912
CREATED:20251105T181523Z
LAST-MODIFIED:20251105T181523Z
UID:10000684-1765108800-1765119600@artsconnect.ing
SUMMARY:Heritage Holiday
DESCRIPTION:Visit us at Mackin House this holiday season to experience some heritage holiday traditions. Do crafts with the Coquitlam Public Library\, have some snacks\, try your hand at making some vintage Christmas ornaments\, and visit our train station to have your photo taken with Santa! \nFree. Registration Not Required. \nSanta photos by donation.
URL:https://artsconnect.ing/artscalendar/heritage-holiday/
LOCATION:Mackin House\, 1116 Brunette Avenue\, Coquitlam\, BC\, V3K 1G2\, Canada
CATEGORIES:Arts and Crafts
ATTACH;FMTTYPE=image/webp:https://artsconnect.ing/wp-content/uploads/2025/11/LegendsandLanterns.webp
ORGANIZER;CN="Coquitlam Heritage":MAILTO:info@coquitlamheritage.ca
END:VEVENT
BEGIN:VEVENT
DTSTART;TZID=America/Vancouver:20251212T173000
DTEND;TZID=America/Vancouver:20251212T203000
DTSTAMP:20260424T025912
CREATED:20251111T172437Z
LAST-MODIFIED:20251111T172437Z
UID:10000715-1765560600-1765571400@artsconnect.ing
SUMMARY:Mashup: DIY Ornaments
DESCRIPTION:Visit the museum on Friday evenings for some hot drinks and make you own winter hat ornament to take home! \nFree. No Registration Required. \nAll supplies and instructions will be included. \nMash-Up is our series of free events happening on select evenings each month. This series is focused around sharing and creating\, and features topics like craft nights\, book events\, and show and tells. Be sure to check our website for upcoming topics.
URL:https://artsconnect.ing/artscalendar/mashup-diy-ornaments/
LOCATION:Mackin House\, 1116 Brunette Avenue\, Coquitlam\, BC\, V3K 1G2\, Canada
CATEGORIES:Arts and Crafts
ATTACH;FMTTYPE=image/webp:https://artsconnect.ing/wp-content/uploads/2025/11/WebsiteEvents20251.webp
ORGANIZER;CN="Coquitlam Heritage":MAILTO:info@coquitlamheritage.ca
END:VEVENT
BEGIN:VEVENT
DTSTART;TZID=America/Vancouver:20251220T170000
DTEND;TZID=America/Vancouver:20251220T210000
DTSTAMP:20260424T025912
CREATED:20251219T184303Z
LAST-MODIFIED:20251219T184303Z
UID:10000798-1766250000-1766264400@artsconnect.ing
SUMMARY:CPKC Holiday Train: Featuring Barenaked Ladies
DESCRIPTION:See you at the CPKC Holiday Train\, featuring a performance by Barenaked Ladies\, this Saturday\, December 20. \n\n\n\nPre-Train Activities at Port Coquitlam Community Centre (4-6:30pm)\n Free arts and culture craft activities\n Hot chocolate & popcorn\n Family movie screening of How the Grinch Stole Christmas\, proudly sponsored by Valley Tech Production Group LTD.\n\n\n\nTrain Arrival on Kingsway Avenue\, between Wilson Ave & Mary Hill Rd (6:35pm)\n Festive train arrives\n Performance by Barenaked Ladies\n Bring a donation to the food bank\n\n\n\nRoad closures and parking impacts will be in effect:\n\n\n\n Kingsway Avenue (between Mary Hill Road and Wilson Avenue) will be closed from 5-9pm.\n West Coast Express parking lot will be closed for the event. Check out our parking map at portcoquitlam.ca/downtown for other parking options.
URL:https://artsconnect.ing/artscalendar/cpkc-holiday-train-featuring-barenaked-ladies/
LOCATION:Kingsway Ave (between Mary Hill Rd. & Wilson Ave)\, Kingsway Ave (between Mary Hill Rd. & Wilson Ave)\, Port Coquitlam\, BC\, Canada
CATEGORIES:Arts and Crafts,Film,Music
ATTACH;FMTTYPE=image/webp:https://artsconnect.ing/wp-content/uploads/2025/12/Screenshot-2025-10-23-153710.webp
ORGANIZER;CN="City of Port Coquitlam":MAILTO:info@portcoquitlam.ca
END:VEVENT
END:VCALENDAR