BEGIN:VCALENDAR
VERSION:2.0
PRODID:-//ArtsConnect - ECPv6.15.20//NONSGML v1.0//EN
CALSCALE:GREGORIAN
METHOD:PUBLISH
X-WR-CALNAME:ArtsConnect
X-ORIGINAL-URL:https://artsconnect.ing
X-WR-CALDESC:Events for ArtsConnect
REFRESH-INTERVAL;VALUE=DURATION:PT1H
X-Robots-Tag:noindex
X-PUBLISHED-TTL:PT1H
BEGIN:VTIMEZONE
TZID:America/Vancouver
BEGIN:DAYLIGHT
TZOFFSETFROM:-0800
TZOFFSETTO:-0700
TZNAME:PDT
DTSTART:20250309T100000
END:DAYLIGHT
BEGIN:STANDARD
TZOFFSETFROM:-0700
TZOFFSETTO:-0800
TZNAME:PST
DTSTART:20251102T090000
END:STANDARD
BEGIN:DAYLIGHT
TZOFFSETFROM:-0800
TZOFFSETTO:-0700
TZNAME:PDT
DTSTART:20260308T100000
END:DAYLIGHT
BEGIN:STANDARD
TZOFFSETFROM:-0700
TZOFFSETTO:-0800
TZNAME:PST
DTSTART:20261101T090000
END:STANDARD
BEGIN:DAYLIGHT
TZOFFSETFROM:-0800
TZOFFSETTO:-0700
TZNAME:PDT
DTSTART:20270314T100000
END:DAYLIGHT
BEGIN:STANDARD
TZOFFSETFROM:-0700
TZOFFSETTO:-0800
TZNAME:PST
DTSTART:20271107T090000
END:STANDARD
END:VTIMEZONE
BEGIN:VEVENT
DTSTART;TZID=America/Vancouver:20260107T183000
DTEND;TZID=America/Vancouver:20260107T200000
DTSTAMP:20260424T025921
CREATED:20251126T225928Z
LAST-MODIFIED:20251126T225928Z
UID:10000769-1767810600-1767816000@artsconnect.ing
SUMMARY:Artful Pints: Mini Petrykivka Art Cards
DESCRIPTION:Join us for Artful Pints – a monthly art night hosted by PoMoArts! Each month features a different hands-on art project led by local artists. Whether you’re a seasoned creative or just in it for the fun\, you’ll leave with something uniquely yours – and maybe a new favorite beer\, too. All materials provided. Just bring yourself and your imagination! Hosted the first Wednesday of every month at The Parkside Brewery. \nLearn from instructor Olesia Kharlamova\, to paint your very own Petrykivka Art Cards. Petrykivka cards are small traditional Ukrainian floral ornaments full of beautiful colours\, and natural\, floral designs! Fun fact: they are named Petrykivka because of the village they originated in. Join us to learn more about the cultural importance of this style of folk art and leave with your very own to cherish! All supplies are included. Drinks and snacks available to buy at Parkside Brewery.
URL:https://artsconnect.ing/artscalendar/artful-pints-mini-petrykivka-art-cards/
LOCATION:Parkside Brewery\, 2731 Murray Street\, Port Moody\, BC\, V3H 1X1\, Canada
CATEGORIES:Arts and Crafts,Visual Arts
ATTACH;FMTTYPE=image/webp:https://artsconnect.ing/wp-content/uploads/2025/11/68e99272a29eb2bcc51f702e_2025-Parkside-Brewery-Petrykivka-Workshop-Webbanner.webp
ORGANIZER;CN="PoMoArts":MAILTO:info@pomoarts.ca
END:VEVENT
BEGIN:VEVENT
DTSTART;TZID=America/Vancouver:20260117T140000
DTEND;TZID=America/Vancouver:20260117T160000
DTSTAMP:20260424T025921
CREATED:20260109T145815Z
LAST-MODIFIED:20260109T145815Z
UID:10000866-1768658400-1768665600@artsconnect.ing
SUMMARY:ARTsBirthday
DESCRIPTION:January 17 is the Birthday of ART! You’re invited to our annual celebration\, where you’ll create your own ARTsBirthday collage postcard inspired by Fluxus Art. Keep your finished piece as a souvenir or mail it to someone special.
URL:https://artsconnect.ing/artscalendar/artsbirthday/
LOCATION:PoMoArts\, 2425 St. Johns Street\, Port Moody\, BC\, V3H 2B2\, Canada
CATEGORIES:Arts and Crafts
ATTACH;FMTTYPE=image/webp:https://artsconnect.ing/wp-content/uploads/2026/01/69260793f9853a3857a9c81c_2026-ARTsBirthday-Website-Banner.webp
ORGANIZER;CN="PoMoArts":MAILTO:info@pomoarts.ca
END:VEVENT
END:VCALENDAR