BEGIN:VCALENDAR
VERSION:2.0
PRODID:-//ArtsConnect - ECPv6.15.20//NONSGML v1.0//EN
CALSCALE:GREGORIAN
METHOD:PUBLISH
X-ORIGINAL-URL:https://artsconnect.ing
X-WR-CALDESC:Events for ArtsConnect
REFRESH-INTERVAL;VALUE=DURATION:PT1H
X-Robots-Tag:noindex
X-PUBLISHED-TTL:PT1H
BEGIN:VTIMEZONE
TZID:America/Vancouver
BEGIN:DAYLIGHT
TZOFFSETFROM:-0800
TZOFFSETTO:-0700
TZNAME:PDT
DTSTART:20250309T100000
END:DAYLIGHT
BEGIN:STANDARD
TZOFFSETFROM:-0700
TZOFFSETTO:-0800
TZNAME:PST
DTSTART:20251102T090000
END:STANDARD
BEGIN:DAYLIGHT
TZOFFSETFROM:-0800
TZOFFSETTO:-0700
TZNAME:PDT
DTSTART:20260308T100000
END:DAYLIGHT
BEGIN:STANDARD
TZOFFSETFROM:-0700
TZOFFSETTO:-0800
TZNAME:PST
DTSTART:20261101T090000
END:STANDARD
BEGIN:DAYLIGHT
TZOFFSETFROM:-0800
TZOFFSETTO:-0700
TZNAME:PDT
DTSTART:20270314T100000
END:DAYLIGHT
BEGIN:STANDARD
TZOFFSETFROM:-0700
TZOFFSETTO:-0800
TZNAME:PST
DTSTART:20271107T090000
END:STANDARD
END:VTIMEZONE
BEGIN:VEVENT
DTSTART;TZID=America/Vancouver:20260304T183000
DTEND;TZID=America/Vancouver:20260304T200000
DTSTAMP:20260423T173301
CREATED:20260223T163931Z
LAST-MODIFIED:20260223T163931Z
UID:10001102-1772649000-1772654400@artsconnect.ing
SUMMARY:Artful Pints: Zine-Making
DESCRIPTION:Join us for Artful Pints – a monthly art night hosted by PoMoArts! Each month features a different hands-on art project led by local artists. Whether you’re a seasoned creative or just in it for the fun\, you’ll leave with something uniquely yours – and maybe a new favorite beer\, too. All materials provided. Just bring yourself and your imagination! Hosted the first Wednesday of every month at The Parkside Brewery. \nBecome a self-published writer and illustrator in this Zine-Making Workshop! In this workshop\, you’ll design and illustrate your own mini zine—from cover to content—and leave with a one-of-a-kind booklet to share or keep! This workshop will be led by local illustrator\, Camila Szefler. All supplies are included\, however you can bring any add-ons or inspiration you’d like from home. Drinks and snacks available to buy at Parkside Brewery. \nAbout the Instructor\nCamila Szefler is Canadian-Polish illustrator\, printmaker\, mixed media artist with a BFA from ECUAD who is also a current board member of Eart Hand Gleaners Society in Vancouver. She enjoys documenting the everyday\, wherever that might be\, inher small hand bound sketchbook with a captivation to drawing landscapes\, patterns and plants. \nFollow her on Instagram: @camila.sze
URL:https://artsconnect.ing/artscalendar/artful-pints-zine-making/
LOCATION:Parkside Brewery\, 2731 Murray Street\, Port Moody\, BC\, V3H 1X1\, Canada
CATEGORIES:Arts and Crafts,Literary Arts
ATTACH;FMTTYPE=image/webp:https://artsconnect.ing/wp-content/uploads/2026/02/68f17f7047d323280bc187ef_2025-Parkside-Brewery-Zine-Making-Workshop-Webbanner.webp
ORGANIZER;CN="PoMoArts":MAILTO:info@pomoarts.ca
END:VEVENT
BEGIN:VEVENT
DTSTART;TZID=America/Vancouver:20260312T160000
DTEND;TZID=America/Vancouver:20260312T190000
DTSTAMP:20260423T173301
CREATED:20260225T135841Z
LAST-MODIFIED:20260225T135841Z
UID:10001106-1773331200-1773342000@artsconnect.ing
SUMMARY:Mashup: Origami Night
DESCRIPTION:Try your hand at origami at this free drop-in event at Mackin House Museum! \nStop by the Museum on Thursday and Friday evening for our origami nights! Bring in the spring by folding some flowers\, boats\, cranes\, and much more. \nLearn the basics or try your hand at some more advanced techniques. All instructions and supplies included. \nMarch 12th from 4 PM – 7 PM.\nMarch 13th from 5 PM – 8 PM.\n1116 Brunette Avenue\, Coquitlam. \nFree. RSVP Appreciated. RSVP Here. \nBECOME A MEMBER \nSupport Mackin House Museum today by becoming a member! Members receive benefits like 10% off all paid events and workshops\, complimentary private tours\, and unlimited free admission to the Museum. Memberships start as low as $10 and support the Museum’s programming and archival work. \nTo learn more or purchase\, visit our website.
URL:https://artsconnect.ing/artscalendar/mashup-origami-night-3/2026-03-12/
LOCATION:Mackin House\, 1116 Brunette Avenue\, Coquitlam\, BC\, V3K 1G2\, Canada
CATEGORIES:Arts and Crafts
ATTACH;FMTTYPE=image/webp:https://artsconnect.ing/wp-content/uploads/2026/02/Mashup-Origami-WebImage.webp
ORGANIZER;CN="Coquitlam Heritage":MAILTO:info@coquitlamheritage.ca
END:VEVENT
BEGIN:VEVENT
DTSTART;TZID=America/Vancouver:20260312T180000
DTEND;TZID=America/Vancouver:20260312T220000
DTSTAMP:20260423T173301
CREATED:20260217T180630Z
LAST-MODIFIED:20260217T180953Z
UID:10001082-1773338400-1773352800@artsconnect.ing
SUMMARY:Creators of Port Moody
DESCRIPTION:A live storytelling event celebrating the people shaping culture in our city. \n\n\n\n\nCreators of Port Moody is a live storytelling event celebrating the people shaping culture in our city across the creative sector from art\, design\, craft\, dance\, business innovation\, and beyond. \nThursday\, March 12\nInlet Theatre \nReception 6:00pm · Show 7:00–10pm (with intermission) \nThis evening brings together a curated lineup of local creators for a fast-paced\, PechaKucha-style show: short\, visual talks that pull back the curtain on creative practice\, process\, risk-taking\, and the work happening behind the scenes in Port Moody. This pilot event is about listening\, connecting\, and seeing our city within a broader definition of the creative sector workers that make up the City of the Arts. \nYou’ll meet people who are building things\, telling stories\, designing spaces\, and behind the scenes shaping culture every day. Join us to hear their stories\, meet fellow creators and supporters\, and spend an evening inside Port Moody’s creative ecosystem.
URL:https://artsconnect.ing/artscalendar/creators-of-port-moody/
LOCATION:Inlet Theatre\, 100 Newport Drive\, Port Moody\, BC\, V3H 5C9\, Canada
CATEGORIES:Arts and Crafts
ATTACH;FMTTYPE=image/webp:https://artsconnect.ing/wp-content/uploads/2026/02/Creators-of-PoMo-2026.webp
END:VEVENT
BEGIN:VEVENT
DTSTART;TZID=America/Vancouver:20260313T170000
DTEND;TZID=America/Vancouver:20260313T200000
DTSTAMP:20260423T173302
CREATED:20260225T135841Z
LAST-MODIFIED:20260225T135841Z
UID:10001107-1773421200-1773432000@artsconnect.ing
SUMMARY:Mashup: Origami Night
DESCRIPTION:Try your hand at origami at this free drop-in event at Mackin House Museum! \nStop by the Museum on Thursday and Friday evening for our origami nights! Bring in the spring by folding some flowers\, boats\, cranes\, and much more. \nLearn the basics or try your hand at some more advanced techniques. All instructions and supplies included. \nMarch 12th from 4 PM – 7 PM.\nMarch 13th from 5 PM – 8 PM.\n1116 Brunette Avenue\, Coquitlam. \nFree. RSVP Appreciated. RSVP Here. \nBECOME A MEMBER \nSupport Mackin House Museum today by becoming a member! Members receive benefits like 10% off all paid events and workshops\, complimentary private tours\, and unlimited free admission to the Museum. Memberships start as low as $10 and support the Museum’s programming and archival work. \nTo learn more or purchase\, visit our website.
URL:https://artsconnect.ing/artscalendar/mashup-origami-night-3/2026-03-13/
LOCATION:Mackin House\, 1116 Brunette Avenue\, Coquitlam\, BC\, V3K 1G2\, Canada
CATEGORIES:Arts and Crafts
ATTACH;FMTTYPE=image/webp:https://artsconnect.ing/wp-content/uploads/2026/02/Mashup-Origami-WebImage.webp
ORGANIZER;CN="Coquitlam Heritage":MAILTO:info@coquitlamheritage.ca
END:VEVENT
BEGIN:VEVENT
DTSTART;TZID=America/Vancouver:20260321T090000
DTEND;TZID=America/Vancouver:20260321T110000
DTSTAMP:20260423T173302
CREATED:20260314T180952Z
LAST-MODIFIED:20260314T181636Z
UID:10001178-1774083600-1774090800@artsconnect.ing
SUMMARY:Mail Art Workshop
DESCRIPTION:Come by the hatchery to join other community members and our volunteers in making mail art! This free postcard making workshop will be led by Mariia Semenova\, an Emily Carr University Interaction Design student. Pick a prompt or someone else’s postcard\, add your own take on it\, and leave it for the next person to add to it\, like telephone! \nLeave your email to see the final pieces\, which may also be displayed in Mariia’s grad exhibition at Emily Carr University\, from May 13th to May 27th. All ages and art abilities are welcome to participate. No registration is required\, and materials as well as light snacks will be provided.
URL:https://artsconnect.ing/artscalendar/5462/
LOCATION:Noons Creek Hatchery\, 340 Ioco Road\, Port Moody\, BC\, V3H 2V7\, Canada
CATEGORIES:Arts and Crafts
ATTACH;FMTTYPE=image/webp:https://artsconnect.ing/wp-content/uploads/2026/03/650785833_18537292549071789_8164509064414761888_n.webp
ORGANIZER;CN="Noons Creek Hatchery":MAILTO:PortMoodyEcologicalSociety@hotmail.com
END:VEVENT
BEGIN:VEVENT
DTSTART;TZID=America/Vancouver:20260326T180000
DTEND;TZID=America/Vancouver:20260326T193000
DTSTAMP:20260423T173302
CREATED:20260225T143321Z
LAST-MODIFIED:20260225T143944Z
UID:10001116-1774548000-1774553400@artsconnect.ing
SUMMARY:Map Making Workshop
DESCRIPTION:Outdoor educator and cartographer Steve Chapman will pull back the curtain on how modern maps are designed and created\, share stories from unique mapping projects\, and guide participants through the essentials of reading maps. \nThe session will also feature a curated selection of historic and international maps\, offering a fascinating look at how people have understood and represented the world across time. \nPerfect for outdoor enthusiasts\, history lovers\, and curious minds of all ages. \nThursday\, March 26th from 6 PM to 7:30 PM\nFree. RSVP Required (click here)\n1116 Brunette Avenue\, Coquitlam
URL:https://artsconnect.ing/artscalendar/workshop/
LOCATION:Mackin House\, 1116 Brunette Avenue\, Coquitlam\, BC\, V3K 1G2\, Canada
CATEGORIES:Arts and Crafts,Discussion
ATTACH;FMTTYPE=image/webp:https://artsconnect.ing/wp-content/uploads/2026/02/MapMakingWorkshop-WebImage.webp
ORGANIZER;CN="Coquitlam Heritage":MAILTO:info@coquitlamheritage.ca
END:VEVENT
END:VCALENDAR