BEGIN:VCALENDAR
VERSION:2.0
PRODID:-//ArtsConnect - ECPv6.15.20//NONSGML v1.0//EN
CALSCALE:GREGORIAN
METHOD:PUBLISH
X-WR-CALNAME:ArtsConnect
X-ORIGINAL-URL:https://artsconnect.ing
X-WR-CALDESC:Events for ArtsConnect
REFRESH-INTERVAL;VALUE=DURATION:PT1H
X-Robots-Tag:noindex
X-PUBLISHED-TTL:PT1H
BEGIN:VTIMEZONE
TZID:America/Vancouver
BEGIN:DAYLIGHT
TZOFFSETFROM:-0800
TZOFFSETTO:-0700
TZNAME:PDT
DTSTART:20250309T100000
END:DAYLIGHT
BEGIN:STANDARD
TZOFFSETFROM:-0700
TZOFFSETTO:-0800
TZNAME:PST
DTSTART:20251102T090000
END:STANDARD
BEGIN:DAYLIGHT
TZOFFSETFROM:-0800
TZOFFSETTO:-0700
TZNAME:PDT
DTSTART:20260308T100000
END:DAYLIGHT
BEGIN:STANDARD
TZOFFSETFROM:-0700
TZOFFSETTO:-0800
TZNAME:PST
DTSTART:20261101T090000
END:STANDARD
BEGIN:DAYLIGHT
TZOFFSETFROM:-0800
TZOFFSETTO:-0700
TZNAME:PDT
DTSTART:20270314T100000
END:DAYLIGHT
BEGIN:STANDARD
TZOFFSETFROM:-0700
TZOFFSETTO:-0800
TZNAME:PST
DTSTART:20271107T090000
END:STANDARD
END:VTIMEZONE
BEGIN:VEVENT
DTSTART;TZID=America/Vancouver:20260510T110000
DTEND;TZID=America/Vancouver:20260510T160000
DTSTAMP:20260423T140551
CREATED:20260401T131116Z
LAST-MODIFIED:20260401T131116Z
UID:10001212-1778410800-1778428800@artsconnect.ing
SUMMARY:Mother's Day Tea on the Train
DESCRIPTION:Early Bird tickets are selling to members from April 5th to April 12th. If you are not a member and wish to secure a spot before tickets are open to the public\, purchase your membership today!\n\nTickets will be open to the public from April 13th to May 9th.\n\nImagine it’s 1921 and you are on a trip across Canada\, sitting in the dining car\, and watching the Rocky Mountains pass by. Come aboard with your family and friends on our historic first-class train car on May 10th (11 am\, 1 pm\, or 3 pm) and experience history as you enjoy tea and appetizers!\n\nThank you for your patience! We are excited to have you on board!\n\nContact info@pomo.museum or call (604) 939-1648 and have the number of guests\, if any applicable dietary restrictions\, and what time of seating\, available.
URL:https://artsconnect.ing/artscalendar/mothers-day-tea-on-the-train/
LOCATION:POMO Museum\, 2734 Murray Street\, Port Moody\, BC\, V3H 1X2\, Canada
CATEGORIES:Arts and Crafts
ATTACH;FMTTYPE=image/png:https://artsconnect.ing/wp-content/uploads/2026/04/mothers-day-tea-2026-no-QR-code-1.png
ORGANIZER;CN="POMO Museum":MAILTO:info@pomo.museum
END:VEVENT
END:VCALENDAR