BEGIN:VCALENDAR
VERSION:2.0
PRODID:-//ArtsConnect - ECPv6.15.20//NONSGML v1.0//EN
CALSCALE:GREGORIAN
METHOD:PUBLISH
X-ORIGINAL-URL:https://artsconnect.ing
X-WR-CALDESC:Events for ArtsConnect
REFRESH-INTERVAL;VALUE=DURATION:PT1H
X-Robots-Tag:noindex
X-PUBLISHED-TTL:PT1H
BEGIN:VTIMEZONE
TZID:America/Vancouver
BEGIN:DAYLIGHT
TZOFFSETFROM:-0800
TZOFFSETTO:-0700
TZNAME:PDT
DTSTART:20250309T100000
END:DAYLIGHT
BEGIN:STANDARD
TZOFFSETFROM:-0700
TZOFFSETTO:-0800
TZNAME:PST
DTSTART:20251102T090000
END:STANDARD
BEGIN:DAYLIGHT
TZOFFSETFROM:-0800
TZOFFSETTO:-0700
TZNAME:PDT
DTSTART:20260308T100000
END:DAYLIGHT
BEGIN:STANDARD
TZOFFSETFROM:-0700
TZOFFSETTO:-0800
TZNAME:PST
DTSTART:20261101T090000
END:STANDARD
BEGIN:DAYLIGHT
TZOFFSETFROM:-0800
TZOFFSETTO:-0700
TZNAME:PDT
DTSTART:20270314T100000
END:DAYLIGHT
BEGIN:STANDARD
TZOFFSETFROM:-0700
TZOFFSETTO:-0800
TZNAME:PST
DTSTART:20271107T090000
END:STANDARD
END:VTIMEZONE
BEGIN:VEVENT
DTSTART;TZID=America/Vancouver:20260207T120000
DTEND;TZID=America/Vancouver:20260207T150000
DTSTAMP:20260424T015415
CREATED:20260106T162428Z
LAST-MODIFIED:20260106T162516Z
UID:10000856-1770465600-1770476400@artsconnect.ing
SUMMARY:Lunar New Year Celebration
DESCRIPTION:Celebrate the year of the horse with us at Mackin House on February 7 from 12pm-3pm! Learn about Lunar New Year traditions through stories and songs with Yuto Books\, with story time sessions available throughout the day in three different languages (English\, Mandarin\, Cantonese). We will also have English and Chinese books available from Yuto Books for browsing. \nThere will also be crafts available throughout the day\, and various snacks and drinks to try out. Stop by our kitchen during select times to chat with community member Jessica Yue and learn how you can make traditional New Year snacks at home. Also be sure to visit our decorated photoshoot space upstairs and get a Lunar New Year photo taken by our staff. \nAll ages and language backgrounds are welcome. \nFree. RSVP appreciated but not required. \n12:30pm-1pm: Cantonese Storytelling \n1pm-1:30pm: New Year snacks demo \n1:30pm-2pm: Mandarin Storytelling \n2pm-2:30pm: New Year snacks demo \n2:30pm-3pm: English Storytelling
URL:https://artsconnect.ing/artscalendar/lunar-new-year-celebration/
LOCATION:Mackin House\, 1116 Brunette Avenue\, Coquitlam\, BC\, V3K 1G2\, Canada
CATEGORIES:Arts and Crafts,Literary Arts
ATTACH;FMTTYPE=image/jpeg:https://artsconnect.ing/wp-content/uploads/2026/01/LunarNewYear.jpg
ORGANIZER;CN="Coquitlam Heritage":MAILTO:info@coquitlamheritage.ca
END:VEVENT
END:VCALENDAR