BEGIN:VCALENDAR
VERSION:2.0
PRODID:-//ArtsConnect - ECPv6.15.20//NONSGML v1.0//EN
CALSCALE:GREGORIAN
METHOD:PUBLISH
X-WR-CALNAME:ArtsConnect
X-ORIGINAL-URL:https://artsconnect.ing
X-WR-CALDESC:Events for ArtsConnect
REFRESH-INTERVAL;VALUE=DURATION:PT1H
X-Robots-Tag:noindex
X-PUBLISHED-TTL:PT1H
BEGIN:VTIMEZONE
TZID:America/Vancouver
BEGIN:DAYLIGHT
TZOFFSETFROM:-0800
TZOFFSETTO:-0700
TZNAME:PDT
DTSTART:20250309T100000
END:DAYLIGHT
BEGIN:STANDARD
TZOFFSETFROM:-0700
TZOFFSETTO:-0800
TZNAME:PST
DTSTART:20251102T090000
END:STANDARD
BEGIN:DAYLIGHT
TZOFFSETFROM:-0800
TZOFFSETTO:-0700
TZNAME:PDT
DTSTART:20260308T100000
END:DAYLIGHT
BEGIN:STANDARD
TZOFFSETFROM:-0700
TZOFFSETTO:-0800
TZNAME:PST
DTSTART:20261101T090000
END:STANDARD
BEGIN:DAYLIGHT
TZOFFSETFROM:-0800
TZOFFSETTO:-0700
TZNAME:PDT
DTSTART:20270314T100000
END:DAYLIGHT
BEGIN:STANDARD
TZOFFSETFROM:-0700
TZOFFSETTO:-0800
TZNAME:PST
DTSTART:20271107T090000
END:STANDARD
END:VTIMEZONE
BEGIN:VEVENT
DTSTART;TZID=America/Vancouver:20260213T180000
DTEND;TZID=America/Vancouver:20260213T210000
DTSTAMP:20260424T032715
CREATED:20260106T162945Z
LAST-MODIFIED:20260106T162945Z
UID:10000857-1771005600-1771016400@artsconnect.ing
SUMMARY:Date Night at the Museum
DESCRIPTION:Step back into history and spend a romantic Date Night at the Museum for Valentines Day! \nPick up some drinks and snacks and enjoy them in our Edwardian style parlour before heading upstairs to check out our current exhibits. Learn about 1800s dating rituals and try your hand at some vintage crafts and card making. Vintage enthusiasts are also encouraged to take this opportunity to show off your best historic date night outfits! \nAnd of course\, don’t forget to pop into our photo session room to get a complimentary polaroid photo taken by our staff. \nFriday\, February 13th from 6 PM – 9 PM.\nEntry by donation. RSVP appreciated but not required.\nAges 18+\n1116 Brunette Avenue\, Coquitlam \nPlease note: Mackin House Museum strives to be a safe space for people of all genders\, sexualities\, and orientations. LGBTQ+ couples and individuals are welcomed and encouraged to join us at this event.
URL:https://artsconnect.ing/artscalendar/date-night-at-the-museum/
LOCATION:Mackin House\, 1116 Brunette Avenue\, Coquitlam\, BC\, V3K 1G2\, Canada
CATEGORIES:Arts and Crafts,Discussion
ATTACH;FMTTYPE=image/jpeg:https://artsconnect.ing/wp-content/uploads/2026/01/ValentinesDate-WebsiteImage.jpg
ORGANIZER;CN="Coquitlam Heritage":MAILTO:info@coquitlamheritage.ca
END:VEVENT
BEGIN:VEVENT
DTSTART;TZID=America/Vancouver:20260214T100000
DTEND;TZID=America/Vancouver:20260214T160000
DTSTAMP:20260424T032715
CREATED:20260106T163357Z
LAST-MODIFIED:20260106T163357Z
UID:10000858-1771063200-1771084800@artsconnect.ing
SUMMARY:Valentine’s Crafting
DESCRIPTION:Spend Valentine’s Day as a family at Mackin House Museum \nLove is in the air\, and if you’re family is looking for a fun\, hands-on activity\, look no further! Come by Mackin House Museum during our open hours for some drop-in Valentine’s-themed crafting! Snacks and drinks will be provided. \nSaturday\, February 14th from 10 AM – 4 PM\nFree. RSVP appreciated but not required.\nAll ages welcome.
URL:https://artsconnect.ing/artscalendar/valentines-crafting/
LOCATION:Mackin House\, 1116 Brunette Avenue\, Coquitlam\, BC\, V3K 1G2\, Canada
CATEGORIES:Arts and Crafts
ATTACH;FMTTYPE=image/jpeg:https://artsconnect.ing/wp-content/uploads/2026/01/ValentinesCrafting-WebsiteImage.jpg
ORGANIZER;CN="Coquitlam Heritage":MAILTO:info@coquitlamheritage.ca
END:VEVENT
BEGIN:VEVENT
DTSTART;TZID=America/Vancouver:20260215T110000
DTEND;TZID=America/Vancouver:20260215T160000
DTSTAMP:20260424T032715
CREATED:20260110T001100Z
LAST-MODIFIED:20260110T001629Z
UID:10000869-1771153200-1771171200@artsconnect.ing
SUMMARY:Heritage Tea on the Train
DESCRIPTION:Early Bird tickets are selling to members from January 12 to January 18. If you are not a member and wish to secure a spot before tickets are open to the public\, purchase your membership today! \nTickets will be open to the public from January 19 to February 11. \nImagine it’s 1921 and you are on a trip across Canada\, sitting in the dining car\, and watching the Rocky Mountains pass by. Come aboard with your family and friends on our historic first-class train car on February 15th (11 am\, 1 pm\, or 3 pm) and experience history as you enjoy tea and appetizers! \nThank you for your patience. We are excited to have you on board and participate in BC Heritage Week 2026!
URL:https://artsconnect.ing/artscalendar/heritage-tea-on-the-train/
LOCATION:POMO Museum\, 2734 Murray Street\, Port Moody\, BC\, V3H 1X2\, Canada
CATEGORIES:Arts and Crafts
ATTACH;FMTTYPE=image/webp:https://artsconnect.ing/wp-content/uploads/2026/01/Heritage-tea-website-.webp
ORGANIZER;CN="POMO Museum":MAILTO:info@pomo.museum
END:VEVENT
END:VCALENDAR