BEGIN:VCALENDAR
VERSION:2.0
PRODID:-//ArtsConnect - ECPv6.15.20//NONSGML v1.0//EN
CALSCALE:GREGORIAN
METHOD:PUBLISH
X-ORIGINAL-URL:https://artsconnect.ing
X-WR-CALDESC:Events for ArtsConnect
REFRESH-INTERVAL;VALUE=DURATION:PT1H
X-Robots-Tag:noindex
X-PUBLISHED-TTL:PT1H
BEGIN:VTIMEZONE
TZID:America/Vancouver
BEGIN:DAYLIGHT
TZOFFSETFROM:-0800
TZOFFSETTO:-0700
TZNAME:PDT
DTSTART:20250309T100000
END:DAYLIGHT
BEGIN:STANDARD
TZOFFSETFROM:-0700
TZOFFSETTO:-0800
TZNAME:PST
DTSTART:20251102T090000
END:STANDARD
BEGIN:DAYLIGHT
TZOFFSETFROM:-0800
TZOFFSETTO:-0700
TZNAME:PDT
DTSTART:20260308T100000
END:DAYLIGHT
BEGIN:STANDARD
TZOFFSETFROM:-0700
TZOFFSETTO:-0800
TZNAME:PST
DTSTART:20261101T090000
END:STANDARD
BEGIN:DAYLIGHT
TZOFFSETFROM:-0800
TZOFFSETTO:-0700
TZNAME:PDT
DTSTART:20270314T100000
END:DAYLIGHT
BEGIN:STANDARD
TZOFFSETFROM:-0700
TZOFFSETTO:-0800
TZNAME:PST
DTSTART:20271107T090000
END:STANDARD
END:VTIMEZONE
BEGIN:VEVENT
DTSTART;TZID=America/Vancouver:20260216T120000
DTEND;TZID=America/Vancouver:20260216T160000
DTSTAMP:20260424T032342
CREATED:20260109T150302Z
LAST-MODIFIED:20260109T150302Z
UID:10000867-1771243200-1771257600@artsconnect.ing
SUMMARY:Family Day Photo Album Making
DESCRIPTION:Looking for a fun way to spend family day with your loved ones? \nStop by the Mackin House Museum on Family Day Monday and create your own photo album! Senior-in-Residence\, Merril Hall\, will be leading visitors through creating their own photo collage album that they can look back on for years to come! \nAll supplies provided. Guests are encouraged to bring their own photos. \nMonday\, February 16th from 12 PM – 4 PM\nFree. RSVP appreciated but not required.\nAll ages welcome.\n1116 Brunette Avenue\, Coquitlam. \nABOUT OUR SENIOR IN RESIDENCE PROGRAM \nLocal seniors play a vital role in our community as knowledge keepers. Our Senior in Residence Program is a project dedicated to helping bridge the gap between seniors and other generations\, to ensure cultural practices\, artforms\, and knowledge sources are shared between different age demographics. Through workshops\, open-studio dates\, curated exhibits\, and presentations\, we’ve worked to platform skills like upcycling\, memoir-making\, nature-sketching\, stamp-carving\, and more! \nOur Senior-in-Residence program is funded by the Government of Canada’s New Horizons for Seniors Grant.
URL:https://artsconnect.ing/artscalendar/family-day-photo-album-making/
LOCATION:Mackin House\, 1116 Brunette Avenue\, Coquitlam\, BC\, V3K 1G2\, Canada
CATEGORIES:Arts and Crafts
ATTACH;FMTTYPE=image/webp:https://artsconnect.ing/wp-content/uploads/2026/01/PhotoAlbumActivity-WebsiteImage.webp
ORGANIZER;CN="Coquitlam Heritage":MAILTO:info@coquitlamheritage.ca
END:VEVENT
BEGIN:VEVENT
DTSTART;TZID=America/Vancouver:20260218T180000
DTEND;TZID=America/Vancouver:20260218T203000
DTSTAMP:20260424T032342
CREATED:20260115T175549Z
LAST-MODIFIED:20260115T175549Z
UID:10000878-1771437600-1771446600@artsconnect.ing
SUMMARY:Sip in Style: Your Handmade Mug
DESCRIPTION:Get ready for a fun\, hands-on pottery adventure where you’ll create your very own ceramic mug! \nMugs might look tricky at first\, but they’re surprisingly beginner-friendly. Using simple hand-building techniques like pinching and coiling\, you’ll shape your mug\, add a circular base\, and then get playful with all kinds of quirky and creative handle designs. You can even add characters or fun designs with surface decorations! \nInstructors will guide you step by step\, making it easy and enjoyable. Bring your imagination\, experiment with textures and personal touches\, and enjoy a relaxed\, playful workshop where you’ll take home a unique mug made entirely by you. Due to the kiln-firing process\, finished mugs will be ready for pickup approximately 3–4 weeks after the workshop. \nAbout the Instructor\nDasha Berezhnova is a multimedia artist who picked up ceramics in 2020\, and never looked back. She loves to bring whimsy to wheel-thrown and hand-build forms by incorporating sculptural elements\, cheeky details\, and bright colours. She approaches art-making in a lighthearted and experimental way\, and enjoys helping students find their unique artistic voice\, develop their confidence\, and have fun!
URL:https://artsconnect.ing/artscalendar/sip-in-style-your-handmade-mug/
LOCATION:PoMoArts\, 2425 St. Johns Street\, Port Moody\, BC\, V3H 2B2\, Canada
CATEGORIES:Arts and Crafts,Visual Arts
ATTACH;FMTTYPE=image/jpeg:https://artsconnect.ing/wp-content/uploads/2026/01/616407647_1321274720039032_1373874189590105750_n.jpg
ORGANIZER;CN="PoMoArts":MAILTO:info@pomoarts.ca
END:VEVENT
BEGIN:VEVENT
DTSTART;TZID=America/Vancouver:20260221T120000
DTEND;TZID=America/Vancouver:20260221T150000
DTSTAMP:20260424T032342
CREATED:20260117T183030Z
LAST-MODIFIED:20260117T183030Z
UID:10000886-1771675200-1771686000@artsconnect.ing
SUMMARY:Black History Month Celebration
DESCRIPTION:This event will feature music\, food\, vendors to browse through\, and activities for kids that celebrate the history and culture of the Black Diaspora. It’s the perfect way for the whole family to get involved in the occasion! \nFebruary marks Black History Month\, shining a spotlight on Black culture and history that often gets overlooked. Whether it be through celebration\, education\, or reflection\, Black History Month represents an important time of year for the Black community of Coquitlam and Greater Vancouver\, making it a part of our shared heritage as a city. \nSaturday\, February 21st from 12 PM – 3 PM\nFree. RSVP appreciated but not required. \n\nAll ages and backgrounds welcome.\n1116 Brunette Avenue\, Coquitlam.
URL:https://artsconnect.ing/artscalendar/black-history-month-celebration/
LOCATION:Mackin House\, 1116 Brunette Avenue\, Coquitlam\, BC\, V3K 1G2\, Canada
CATEGORIES:Arts and Crafts,Music,Vendor Market
ATTACH;FMTTYPE=image/webp:https://artsconnect.ing/wp-content/uploads/2026/01/WebsiteEvents2026.webp
ORGANIZER;CN="Coquitlam Heritage":MAILTO:info@coquitlamheritage.ca
END:VEVENT
END:VCALENDAR