BEGIN:VCALENDAR
VERSION:2.0
PRODID:-//ArtsConnect - ECPv6.15.20//NONSGML v1.0//EN
CALSCALE:GREGORIAN
METHOD:PUBLISH
X-WR-CALNAME:ArtsConnect
X-ORIGINAL-URL:https://artsconnect.ing
X-WR-CALDESC:Events for ArtsConnect
REFRESH-INTERVAL;VALUE=DURATION:PT1H
X-Robots-Tag:noindex
X-PUBLISHED-TTL:PT1H
BEGIN:VTIMEZONE
TZID:America/Vancouver
BEGIN:DAYLIGHT
TZOFFSETFROM:-0800
TZOFFSETTO:-0700
TZNAME:PDT
DTSTART:20250309T100000
END:DAYLIGHT
BEGIN:STANDARD
TZOFFSETFROM:-0700
TZOFFSETTO:-0800
TZNAME:PST
DTSTART:20251102T090000
END:STANDARD
BEGIN:DAYLIGHT
TZOFFSETFROM:-0800
TZOFFSETTO:-0700
TZNAME:PDT
DTSTART:20260308T100000
END:DAYLIGHT
BEGIN:STANDARD
TZOFFSETFROM:-0700
TZOFFSETTO:-0800
TZNAME:PST
DTSTART:20261101T090000
END:STANDARD
BEGIN:DAYLIGHT
TZOFFSETFROM:-0800
TZOFFSETTO:-0700
TZNAME:PDT
DTSTART:20270314T100000
END:DAYLIGHT
BEGIN:STANDARD
TZOFFSETFROM:-0700
TZOFFSETTO:-0800
TZNAME:PST
DTSTART:20271107T090000
END:STANDARD
END:VTIMEZONE
BEGIN:VEVENT
DTSTART;TZID=America/Vancouver:20260321T090000
DTEND;TZID=America/Vancouver:20260321T110000
DTSTAMP:20260424T045711
CREATED:20260314T180952Z
LAST-MODIFIED:20260314T181636Z
UID:10001178-1774083600-1774090800@artsconnect.ing
SUMMARY:Mail Art Workshop
DESCRIPTION:Come by the hatchery to join other community members and our volunteers in making mail art! This free postcard making workshop will be led by Mariia Semenova\, an Emily Carr University Interaction Design student. Pick a prompt or someone else’s postcard\, add your own take on it\, and leave it for the next person to add to it\, like telephone! \nLeave your email to see the final pieces\, which may also be displayed in Mariia’s grad exhibition at Emily Carr University\, from May 13th to May 27th. All ages and art abilities are welcome to participate. No registration is required\, and materials as well as light snacks will be provided.
URL:https://artsconnect.ing/artscalendar/5462/
LOCATION:Noons Creek Hatchery\, 340 Ioco Road\, Port Moody\, BC\, V3H 2V7\, Canada
CATEGORIES:Arts and Crafts
ATTACH;FMTTYPE=image/webp:https://artsconnect.ing/wp-content/uploads/2026/03/650785833_18537292549071789_8164509064414761888_n.webp
ORGANIZER;CN="Noons Creek Hatchery":MAILTO:PortMoodyEcologicalSociety@hotmail.com
END:VEVENT
END:VCALENDAR