BEGIN:VCALENDAR
VERSION:2.0
PRODID:-//ArtsConnect - ECPv6.15.20//NONSGML v1.0//EN
CALSCALE:GREGORIAN
METHOD:PUBLISH
X-WR-CALNAME:ArtsConnect
X-ORIGINAL-URL:https://artsconnect.ing
X-WR-CALDESC:Events for ArtsConnect
REFRESH-INTERVAL;VALUE=DURATION:PT1H
X-Robots-Tag:noindex
X-PUBLISHED-TTL:PT1H
BEGIN:VTIMEZONE
TZID:America/Vancouver
BEGIN:DAYLIGHT
TZOFFSETFROM:-0800
TZOFFSETTO:-0700
TZNAME:PDT
DTSTART:20250309T100000
END:DAYLIGHT
BEGIN:STANDARD
TZOFFSETFROM:-0700
TZOFFSETTO:-0800
TZNAME:PST
DTSTART:20251102T090000
END:STANDARD
BEGIN:DAYLIGHT
TZOFFSETFROM:-0800
TZOFFSETTO:-0700
TZNAME:PDT
DTSTART:20260308T100000
END:DAYLIGHT
BEGIN:STANDARD
TZOFFSETFROM:-0700
TZOFFSETTO:-0800
TZNAME:PST
DTSTART:20261101T090000
END:STANDARD
BEGIN:DAYLIGHT
TZOFFSETFROM:-0800
TZOFFSETTO:-0700
TZNAME:PDT
DTSTART:20270314T100000
END:DAYLIGHT
BEGIN:STANDARD
TZOFFSETFROM:-0700
TZOFFSETTO:-0800
TZNAME:PST
DTSTART:20271107T090000
END:STANDARD
END:VTIMEZONE
BEGIN:VEVENT
DTSTART;TZID=America/Vancouver:20260413T183000
DTEND;TZID=America/Vancouver:20260413T230000
DTSTAMP:20260423T154912
CREATED:20260305T185044Z
LAST-MODIFIED:20260321T175057Z
UID:10001197-1776105000-1776121200@artsconnect.ing
SUMMARY:Train Wreck Brewing: Open Mic
DESCRIPTION:Join us every Monday and share your talents. Music\, comedy\, poetry\, or whatever you’ve got. The stage is yours!
URL:https://artsconnect.ing/artscalendar/train-wreck-brewing-open-mic-3/2026-04-13/
LOCATION:Train Wreck Brewing\, 3044 St Johns Street\, Port Moody\, BC\, V3H 2C5\, Canada
CATEGORIES:Comedy,Music,Open Mic,Poetry
ATTACH;FMTTYPE=image/jpeg:https://artsconnect.ing/wp-content/uploads/2026/03/655832404_10163996512723805_4157259386927779590_n.jpg
ORGANIZER;CN="Train Wreck Brewing":MAILTO:info@trainwreckbrewing.ca
END:VEVENT
BEGIN:VEVENT
DTSTART;TZID=America/Vancouver:20260417T183000
DTEND;TZID=America/Vancouver:20260417T213000
DTSTAMP:20260423T154912
CREATED:20260316T134653Z
LAST-MODIFIED:20260316T134736Z
UID:10001182-1776450600-1776461400@artsconnect.ing
SUMMARY:The Improv Centre LIVE at Site-B
DESCRIPTION:The Improv Centre brings a night of laughs to Site B! Quick wit\, wild scenes\, and community vibes—don’t miss the fun April 17th! \n\n\n\nGet ready for a night of fast-paced\, spontaneous improv comedy featuring some of The Improv Centre’s funniest performers! Three talented IMPROV actors will bring their sharp wit and quick thinking to the stage in a show full of audience-inspired scenes and unscripted hilarity. \nAll three are members of The Improv Centre’s mainstage ensemble and have performed to acclaim with both local and touring improv groups and comedy legends! Together\, they bring experience\, chemistry\, and charm — and when they hit the stage\, you know things are going to get hysterical! \n6:30pm – Doors Open \n6:30-7:00pm – Mingle & Drinks \n7:00-8:30pm – Show \n8:30-9:30pm – Music\, mingle\, & drinks.
URL:https://artsconnect.ing/artscalendar/the-improv-centre-live-at-site-b-3/
LOCATION:Site B\, 3012 Murray Street\, Port Moody\, BC\, V3H 1X2\, Canada
CATEGORIES:Comedy,Theatre
ATTACH;FMTTYPE=image/webp:https://artsconnect.ing/wp-content/uploads/2026/03/Improve-Centre-April-20-2026.webp
ORGANIZER;CN="Site B":MAILTO:info@siteb.life
END:VEVENT
END:VCALENDAR