BEGIN:VCALENDAR
VERSION:2.0
PRODID:-//ArtsConnect - ECPv6.15.20//NONSGML v1.0//EN
CALSCALE:GREGORIAN
METHOD:PUBLISH
X-ORIGINAL-URL:https://artsconnect.ing
X-WR-CALDESC:Events for ArtsConnect
REFRESH-INTERVAL;VALUE=DURATION:PT1H
X-Robots-Tag:noindex
X-PUBLISHED-TTL:PT1H
BEGIN:VTIMEZONE
TZID:America/Vancouver
BEGIN:DAYLIGHT
TZOFFSETFROM:-0800
TZOFFSETTO:-0700
TZNAME:PDT
DTSTART:20240310T100000
END:DAYLIGHT
BEGIN:STANDARD
TZOFFSETFROM:-0700
TZOFFSETTO:-0800
TZNAME:PST
DTSTART:20241103T090000
END:STANDARD
BEGIN:DAYLIGHT
TZOFFSETFROM:-0800
TZOFFSETTO:-0700
TZNAME:PDT
DTSTART:20250309T100000
END:DAYLIGHT
BEGIN:STANDARD
TZOFFSETFROM:-0700
TZOFFSETTO:-0800
TZNAME:PST
DTSTART:20251102T090000
END:STANDARD
BEGIN:DAYLIGHT
TZOFFSETFROM:-0800
TZOFFSETTO:-0700
TZNAME:PDT
DTSTART:20260308T100000
END:DAYLIGHT
BEGIN:STANDARD
TZOFFSETFROM:-0700
TZOFFSETTO:-0800
TZNAME:PST
DTSTART:20261101T090000
END:STANDARD
END:VTIMEZONE
BEGIN:VEVENT
DTSTART;TZID=America/Vancouver:20251101T110000
DTEND;TZID=America/Vancouver:20251101T140000
DTSTAMP:20260424T195612
CREATED:20251018T182915Z
LAST-MODIFIED:20251018T183009Z
UID:10000614-1761994800-1762005600@artsconnect.ing
SUMMARY:Drumbeats and Arirang
DESCRIPTION:Drumbeats and Arirang presented by Garden of Compassion Society \nTheme: Harmony and Unity \nVoices of History\, Songs of Reconcilation and Tradition \nIndigenous & Korean Music\, Dance\, Art and Folk Exhibitions \nComplimentary lunch included \nNovember 1\, 2025 11am-2pm \nTickets $30.00 \nFor tickets https://www.eventbrite.ca/e/drumbeats-and-arirang-presented-under-the-theme-of-harmony-unity-tickets-1752233480509 \nHave questions? Email:  2024compassion@gmail.com
URL:https://artsconnect.ing/artscalendar/drumbeats-and-arirang/
LOCATION:Inlet Theatre\, 100 Newport Drive\, Port Moody\, BC\, V3H 5C9\, Canada
CATEGORIES:Arts and Crafts,Dance,Music
ATTACH;FMTTYPE=image/webp:https://artsconnect.ing/wp-content/uploads/2025/10/3c6df3f0-a965-45f4-a1c6-b36b0008912f.webp
ORGANIZER;CN="Garden of Compassion Society":MAILTO:2024compassion@gmail.com
END:VEVENT
BEGIN:VEVENT
DTSTART;TZID=America/Vancouver:20251113T193000
DTEND;TZID=America/Vancouver:20251113T210000
DTSTAMP:20260424T195612
CREATED:20251015T153118Z
LAST-MODIFIED:20251015T153118Z
UID:10000598-1763062200-1763067600@artsconnect.ing
SUMMARY:Ballet BC: Annex
DESCRIPTION:BALLET BC: ANNEX\n\n\nBallet BC Annex is a project led by Canada’s leading contemporary dance company\, Ballet BC. Based in Vancouver\, the program offers an invaluable opportunity for schools and communities across BC to engage in world-class dance and educational programming. Each season\, a junior company of Annex dancers training with Modus Operandi and Arts Umbrella Dance tour throughout the Lower Mainland and across BC\, bringing contemporary dance repertoire and professional performances to audiences of all ages. \nIn the 2025/26 season\, Ballet BC Annex will share two new dance creations by acclaimed Vancouver-based choreographers Alexis Fletcher and Vanessa Goodman. In schools\, insightful workshops and Q&A sessions led by dancers and Ballet BC’s Education and Engagement team will accompany each performance\, offering a closer look into the choreographic process and the career path of a dancer. Students learn excerpts from the performance and engage in creative dialogue. \n\n\n\nSINGLE TICKETS ON SALE JULY 01!\nAdults: $43 | Seniors: $39 | Students: $16 \nBOX OFFICE: 604.927.6555 | Open Monday – Saturday\, 12 – 5PM
URL:https://artsconnect.ing/artscalendar/ballet-bc-annex/
LOCATION:Evergreen Cultural Centre Studio Theatre\, 1205 Pinetree Way\, Coquitlam\, BC\, V3B 7Y3\, Canada
CATEGORIES:Dance
ATTACH;FMTTYPE=image/webp:https://artsconnect.ing/wp-content/uploads/2025/10/Artists-of-Ballet-BC-Annex-in-_A-Dance-with-Destiny_-by-Zachary-Seto.-Image-by-Duy-Le_2-scaled-1.webp
END:VEVENT
BEGIN:VEVENT
DTSTART;TZID=America/Vancouver:20251122T130000
DTEND;TZID=America/Vancouver:20251122T160000
DTSTAMP:20260424T195612
CREATED:20251114T195538Z
LAST-MODIFIED:20251114T195538Z
UID:10000728-1763816400-1763827200@artsconnect.ing
SUMMARY:Stage Spark - Song & Dance Fun Sessions with Imagine This!
DESCRIPTION:Ever wanted to sing\, dance\, and feel the magic of musical theatre — just for fun? ✨ \nWe’re running one-day “STAGE SPARK” sessions for adults starting with Song & Dance! Spend an afternoon singing\, dancing\, and laughing as we learn a fun musical theatre number. No experience is needed — just bring your enthusiasm and a willingness to play! 💃🎶 \nAt Imagine This\, perfection isn’t the goal — joy is. Come spark your love for the stage\, embrace creativity\, and have a blast! \n✨ Saturday\, Nov 22 | 1–4 PM | Port Moody\nhttps://classes.imaginethispresents.com/adults.html
URL:https://artsconnect.ing/artscalendar/stage-spark-song-dance-fun-sessions-with-imagine-this/
LOCATION:Imagine This\, 2208 St Johns St\, Port Moody\, BC\, V3H 2A7\, Canada
CATEGORIES:Dance,Music,Theatre
ATTACH;FMTTYPE=image/webp:https://artsconnect.ing/wp-content/uploads/2025/11/581227199_122274497534227086_7806207760918668578_n.webp
ORGANIZER;CN="Imagine This":MAILTO:Hello@ImagineThisPresents.com
END:VEVENT
BEGIN:VEVENT
DTSTART;TZID=America/Vancouver:20251129T130000
DTEND;TZID=America/Vancouver:20251129T160000
DTSTAMP:20260424T195612
CREATED:20251114T195710Z
LAST-MODIFIED:20251114T195710Z
UID:10000729-1764421200-1764432000@artsconnect.ing
SUMMARY:Stage Spark - Song & Dance Fun Sessions with Imagine This!
DESCRIPTION:Ever wanted to sing\, dance\, and feel the magic of musical theatre — just for fun? ✨ \nWe’re running one-day “STAGE SPARK” sessions for adults starting with Song & Dance! Spend an afternoon singing\, dancing\, and laughing as we learn a fun musical theatre number. No experience is needed — just bring your enthusiasm and a willingness to play! 💃🎶 \nAt Imagine This\, perfection isn’t the goal — joy is. Come spark your love for the stage\, embrace creativity\, and have a blast! \n✨ Saturday\, Nov 29 | 1–4 PM | Port Moody\nhttps://classes.imaginethispresents.com/adults.html
URL:https://artsconnect.ing/artscalendar/stage-spark-song-dance-fun-sessions-with-imagine-this-2/
LOCATION:Imagine This\, 2208 St Johns St\, Port Moody\, BC\, V3H 2A7\, Canada
CATEGORIES:Dance,Music,Theatre
ATTACH;FMTTYPE=image/webp:https://artsconnect.ing/wp-content/uploads/2025/11/581227199_122274497534227086_7806207760918668578_n.webp
ORGANIZER;CN="Imagine This":MAILTO:Hello@ImagineThisPresents.com
END:VEVENT
END:VCALENDAR