BEGIN:VCALENDAR
VERSION:2.0
PRODID:-//ArtsConnect - ECPv6.15.20//NONSGML v1.0//EN
CALSCALE:GREGORIAN
METHOD:PUBLISH
X-WR-CALNAME:ArtsConnect
X-ORIGINAL-URL:https://artsconnect.ing
X-WR-CALDESC:Events for ArtsConnect
REFRESH-INTERVAL;VALUE=DURATION:PT1H
X-Robots-Tag:noindex
X-PUBLISHED-TTL:PT1H
BEGIN:VTIMEZONE
TZID:America/Vancouver
BEGIN:DAYLIGHT
TZOFFSETFROM:-0800
TZOFFSETTO:-0700
TZNAME:PDT
DTSTART:20240310T100000
END:DAYLIGHT
BEGIN:STANDARD
TZOFFSETFROM:-0700
TZOFFSETTO:-0800
TZNAME:PST
DTSTART:20241103T090000
END:STANDARD
BEGIN:DAYLIGHT
TZOFFSETFROM:-0800
TZOFFSETTO:-0700
TZNAME:PDT
DTSTART:20250309T100000
END:DAYLIGHT
BEGIN:STANDARD
TZOFFSETFROM:-0700
TZOFFSETTO:-0800
TZNAME:PST
DTSTART:20251102T090000
END:STANDARD
BEGIN:DAYLIGHT
TZOFFSETFROM:-0800
TZOFFSETTO:-0700
TZNAME:PDT
DTSTART:20260308T100000
END:DAYLIGHT
BEGIN:STANDARD
TZOFFSETFROM:-0700
TZOFFSETTO:-0800
TZNAME:PST
DTSTART:20261101T090000
END:STANDARD
END:VTIMEZONE
BEGIN:VEVENT
DTSTART;TZID=America/Vancouver:20251129T130000
DTEND;TZID=America/Vancouver:20251129T160000
DTSTAMP:20260424T183853
CREATED:20251114T195710Z
LAST-MODIFIED:20251114T195710Z
UID:10000729-1764421200-1764432000@artsconnect.ing
SUMMARY:Stage Spark - Song & Dance Fun Sessions with Imagine This!
DESCRIPTION:Ever wanted to sing\, dance\, and feel the magic of musical theatre — just for fun? ✨ \nWe’re running one-day “STAGE SPARK” sessions for adults starting with Song & Dance! Spend an afternoon singing\, dancing\, and laughing as we learn a fun musical theatre number. No experience is needed — just bring your enthusiasm and a willingness to play! 💃🎶 \nAt Imagine This\, perfection isn’t the goal — joy is. Come spark your love for the stage\, embrace creativity\, and have a blast! \n✨ Saturday\, Nov 29 | 1–4 PM | Port Moody\nhttps://classes.imaginethispresents.com/adults.html
URL:https://artsconnect.ing/artscalendar/stage-spark-song-dance-fun-sessions-with-imagine-this-2/
LOCATION:Imagine This\, 2208 St Johns St\, Port Moody\, BC\, V3H 2A7\, Canada
CATEGORIES:Dance,Music,Theatre
ATTACH;FMTTYPE=image/webp:https://artsconnect.ing/wp-content/uploads/2025/11/581227199_122274497534227086_7806207760918668578_n.webp
ORGANIZER;CN="Imagine This":MAILTO:Hello@ImagineThisPresents.com
END:VEVENT
END:VCALENDAR