BEGIN:VCALENDAR
VERSION:2.0
PRODID:-//ArtsConnect - ECPv6.15.20//NONSGML v1.0//EN
CALSCALE:GREGORIAN
METHOD:PUBLISH
X-WR-CALNAME:ArtsConnect
X-ORIGINAL-URL:https://artsconnect.ing
X-WR-CALDESC:Events for ArtsConnect
REFRESH-INTERVAL;VALUE=DURATION:PT1H
X-Robots-Tag:noindex
X-PUBLISHED-TTL:PT1H
BEGIN:VTIMEZONE
TZID:America/Vancouver
BEGIN:DAYLIGHT
TZOFFSETFROM:-0800
TZOFFSETTO:-0700
TZNAME:PDT
DTSTART:20240310T100000
END:DAYLIGHT
BEGIN:STANDARD
TZOFFSETFROM:-0700
TZOFFSETTO:-0800
TZNAME:PST
DTSTART:20241103T090000
END:STANDARD
BEGIN:DAYLIGHT
TZOFFSETFROM:-0800
TZOFFSETTO:-0700
TZNAME:PDT
DTSTART:20250309T100000
END:DAYLIGHT
BEGIN:STANDARD
TZOFFSETFROM:-0700
TZOFFSETTO:-0800
TZNAME:PST
DTSTART:20251102T090000
END:STANDARD
BEGIN:DAYLIGHT
TZOFFSETFROM:-0800
TZOFFSETTO:-0700
TZNAME:PDT
DTSTART:20260308T100000
END:DAYLIGHT
BEGIN:STANDARD
TZOFFSETFROM:-0700
TZOFFSETTO:-0800
TZNAME:PST
DTSTART:20261101T090000
END:STANDARD
END:VTIMEZONE
BEGIN:VEVENT
DTSTART;TZID=America/Vancouver:20251216T190000
DTEND;TZID=America/Vancouver:20251216T210000
DTSTAMP:20260424T142212
CREATED:20251015T154758Z
LAST-MODIFIED:20251015T154758Z
UID:10000601-1765911600-1765918800@artsconnect.ing
SUMMARY:Ballet Victoria: The Gift of The Nutcracker
DESCRIPTION:THE GIFT OF THE NUTCRACKER\nBallet Victoria\n\n\nBallet Victoria’s The Gift of The Nutcracker is a 21st century updated family tradition with everything you expect from a ballet production. An original Christmas tale danced to the timeless score of the Nutcracker with humorous pantomime\, beautiful costumes\, magic and as always\, surprises for the whole family. The score drives the imaginative choreography for the company dancers. We invite you come and enjoy the timeless tale guaranteed to warm your heart and spread holiday cheer. Watch the story come alive and enthral the whole family! \nThe Nutcracker is a Christmas classic that the whole family can enjoy. The Nutcracker dates back to 1892 at the Mariinksy theatre in Saint Petersburg. Originally choreographed by Marius Petipa and Lev Ivanov\, with Pyotr Ilyich Tchaikovsky’s Nutcracker score\, it has become a world-renowned holiday classic. The traditional ballet takes a trip to the ‘Land of Sweets’ where each sweet is represented by a different country around the world. The Nutcracker is still being performed seasonally by many ballet companies and continues to adapt to the modern world. \n\n\n\n\nSINGLE TICKETS ON SALE JULY 01!\nAdults: $45 | Seniors: $41 | Students: $16 \nBOX OFFICE: 604.927.6555 | Open Monday – Saturday\, 12 – 5PM
URL:https://artsconnect.ing/artscalendar/ballet-victoria-the-gift-of-the-nutcracker/2025-12-16/
LOCATION:Evergreen Cultural Centre Studio Theatre\, 1205 Pinetree Way\, Coquitlam\, BC\, V3B 7Y3\, Canada
CATEGORIES:Dance
ATTACH;FMTTYPE=image/webp:https://artsconnect.ing/wp-content/uploads/2025/10/2-4.webp
END:VEVENT
BEGIN:VEVENT
DTSTART;TZID=America/Vancouver:20251217T150000
DTEND;TZID=America/Vancouver:20251217T170000
DTSTAMP:20260424T142212
CREATED:20251015T154758Z
LAST-MODIFIED:20251015T154758Z
UID:10000602-1765983600-1765990800@artsconnect.ing
SUMMARY:Ballet Victoria: The Gift of The Nutcracker
DESCRIPTION:THE GIFT OF THE NUTCRACKER\nBallet Victoria\n\n\nBallet Victoria’s The Gift of The Nutcracker is a 21st century updated family tradition with everything you expect from a ballet production. An original Christmas tale danced to the timeless score of the Nutcracker with humorous pantomime\, beautiful costumes\, magic and as always\, surprises for the whole family. The score drives the imaginative choreography for the company dancers. We invite you come and enjoy the timeless tale guaranteed to warm your heart and spread holiday cheer. Watch the story come alive and enthral the whole family! \nThe Nutcracker is a Christmas classic that the whole family can enjoy. The Nutcracker dates back to 1892 at the Mariinksy theatre in Saint Petersburg. Originally choreographed by Marius Petipa and Lev Ivanov\, with Pyotr Ilyich Tchaikovsky’s Nutcracker score\, it has become a world-renowned holiday classic. The traditional ballet takes a trip to the ‘Land of Sweets’ where each sweet is represented by a different country around the world. The Nutcracker is still being performed seasonally by many ballet companies and continues to adapt to the modern world. \n\n\n\n\nSINGLE TICKETS ON SALE JULY 01!\nAdults: $45 | Seniors: $41 | Students: $16 \nBOX OFFICE: 604.927.6555 | Open Monday – Saturday\, 12 – 5PM
URL:https://artsconnect.ing/artscalendar/ballet-victoria-the-gift-of-the-nutcracker/2025-12-17/1/
LOCATION:Evergreen Cultural Centre Studio Theatre\, 1205 Pinetree Way\, Coquitlam\, BC\, V3B 7Y3\, Canada
CATEGORIES:Dance
ATTACH;FMTTYPE=image/webp:https://artsconnect.ing/wp-content/uploads/2025/10/2-4.webp
END:VEVENT
BEGIN:VEVENT
DTSTART;TZID=America/Vancouver:20251217T190000
DTEND;TZID=America/Vancouver:20251217T210000
DTSTAMP:20260424T142212
CREATED:20251015T154758Z
LAST-MODIFIED:20251015T154758Z
UID:10000603-1765998000-1766005200@artsconnect.ing
SUMMARY:Ballet Victoria: The Gift of The Nutcracker
DESCRIPTION:THE GIFT OF THE NUTCRACKER\nBallet Victoria\n\n\nBallet Victoria’s The Gift of The Nutcracker is a 21st century updated family tradition with everything you expect from a ballet production. An original Christmas tale danced to the timeless score of the Nutcracker with humorous pantomime\, beautiful costumes\, magic and as always\, surprises for the whole family. The score drives the imaginative choreography for the company dancers. We invite you come and enjoy the timeless tale guaranteed to warm your heart and spread holiday cheer. Watch the story come alive and enthral the whole family! \nThe Nutcracker is a Christmas classic that the whole family can enjoy. The Nutcracker dates back to 1892 at the Mariinksy theatre in Saint Petersburg. Originally choreographed by Marius Petipa and Lev Ivanov\, with Pyotr Ilyich Tchaikovsky’s Nutcracker score\, it has become a world-renowned holiday classic. The traditional ballet takes a trip to the ‘Land of Sweets’ where each sweet is represented by a different country around the world. The Nutcracker is still being performed seasonally by many ballet companies and continues to adapt to the modern world. \n\n\n\n\nSINGLE TICKETS ON SALE JULY 01!\nAdults: $45 | Seniors: $41 | Students: $16 \nBOX OFFICE: 604.927.6555 | Open Monday – Saturday\, 12 – 5PM
URL:https://artsconnect.ing/artscalendar/ballet-victoria-the-gift-of-the-nutcracker/2025-12-17/2/
LOCATION:Evergreen Cultural Centre Studio Theatre\, 1205 Pinetree Way\, Coquitlam\, BC\, V3B 7Y3\, Canada
CATEGORIES:Dance
ATTACH;FMTTYPE=image/webp:https://artsconnect.ing/wp-content/uploads/2025/10/2-4.webp
END:VEVENT
BEGIN:VEVENT
DTSTART;TZID=America/Vancouver:20251218T150000
DTEND;TZID=America/Vancouver:20251218T170000
DTSTAMP:20260424T142212
CREATED:20251015T154758Z
LAST-MODIFIED:20251015T154758Z
UID:10000604-1766070000-1766077200@artsconnect.ing
SUMMARY:Ballet Victoria: The Gift of The Nutcracker
DESCRIPTION:THE GIFT OF THE NUTCRACKER\nBallet Victoria\n\n\nBallet Victoria’s The Gift of The Nutcracker is a 21st century updated family tradition with everything you expect from a ballet production. An original Christmas tale danced to the timeless score of the Nutcracker with humorous pantomime\, beautiful costumes\, magic and as always\, surprises for the whole family. The score drives the imaginative choreography for the company dancers. We invite you come and enjoy the timeless tale guaranteed to warm your heart and spread holiday cheer. Watch the story come alive and enthral the whole family! \nThe Nutcracker is a Christmas classic that the whole family can enjoy. The Nutcracker dates back to 1892 at the Mariinksy theatre in Saint Petersburg. Originally choreographed by Marius Petipa and Lev Ivanov\, with Pyotr Ilyich Tchaikovsky’s Nutcracker score\, it has become a world-renowned holiday classic. The traditional ballet takes a trip to the ‘Land of Sweets’ where each sweet is represented by a different country around the world. The Nutcracker is still being performed seasonally by many ballet companies and continues to adapt to the modern world. \n\n\n\n\nSINGLE TICKETS ON SALE JULY 01!\nAdults: $45 | Seniors: $41 | Students: $16 \nBOX OFFICE: 604.927.6555 | Open Monday – Saturday\, 12 – 5PM
URL:https://artsconnect.ing/artscalendar/ballet-victoria-the-gift-of-the-nutcracker/2025-12-18/1/
LOCATION:Evergreen Cultural Centre Studio Theatre\, 1205 Pinetree Way\, Coquitlam\, BC\, V3B 7Y3\, Canada
CATEGORIES:Dance
ATTACH;FMTTYPE=image/webp:https://artsconnect.ing/wp-content/uploads/2025/10/2-4.webp
END:VEVENT
BEGIN:VEVENT
DTSTART;TZID=America/Vancouver:20251218T190000
DTEND;TZID=America/Vancouver:20251218T210000
DTSTAMP:20260424T142212
CREATED:20251015T154758Z
LAST-MODIFIED:20251015T154758Z
UID:10000605-1766084400-1766091600@artsconnect.ing
SUMMARY:Ballet Victoria: The Gift of The Nutcracker
DESCRIPTION:THE GIFT OF THE NUTCRACKER\nBallet Victoria\n\n\nBallet Victoria’s The Gift of The Nutcracker is a 21st century updated family tradition with everything you expect from a ballet production. An original Christmas tale danced to the timeless score of the Nutcracker with humorous pantomime\, beautiful costumes\, magic and as always\, surprises for the whole family. The score drives the imaginative choreography for the company dancers. We invite you come and enjoy the timeless tale guaranteed to warm your heart and spread holiday cheer. Watch the story come alive and enthral the whole family! \nThe Nutcracker is a Christmas classic that the whole family can enjoy. The Nutcracker dates back to 1892 at the Mariinksy theatre in Saint Petersburg. Originally choreographed by Marius Petipa and Lev Ivanov\, with Pyotr Ilyich Tchaikovsky’s Nutcracker score\, it has become a world-renowned holiday classic. The traditional ballet takes a trip to the ‘Land of Sweets’ where each sweet is represented by a different country around the world. The Nutcracker is still being performed seasonally by many ballet companies and continues to adapt to the modern world. \n\n\n\n\nSINGLE TICKETS ON SALE JULY 01!\nAdults: $45 | Seniors: $41 | Students: $16 \nBOX OFFICE: 604.927.6555 | Open Monday – Saturday\, 12 – 5PM
URL:https://artsconnect.ing/artscalendar/ballet-victoria-the-gift-of-the-nutcracker/2025-12-18/2/
LOCATION:Evergreen Cultural Centre Studio Theatre\, 1205 Pinetree Way\, Coquitlam\, BC\, V3B 7Y3\, Canada
CATEGORIES:Dance
ATTACH;FMTTYPE=image/webp:https://artsconnect.ing/wp-content/uploads/2025/10/2-4.webp
END:VEVENT
END:VCALENDAR