BEGIN:VCALENDAR
VERSION:2.0
PRODID:-//ArtsConnect - ECPv6.15.20//NONSGML v1.0//EN
CALSCALE:GREGORIAN
METHOD:PUBLISH
X-WR-CALNAME:ArtsConnect
X-ORIGINAL-URL:https://artsconnect.ing
X-WR-CALDESC:Events for ArtsConnect
REFRESH-INTERVAL;VALUE=DURATION:PT1H
X-Robots-Tag:noindex
X-PUBLISHED-TTL:PT1H
BEGIN:VTIMEZONE
TZID:America/Vancouver
BEGIN:DAYLIGHT
TZOFFSETFROM:-0800
TZOFFSETTO:-0700
TZNAME:PDT
DTSTART:20250309T100000
END:DAYLIGHT
BEGIN:STANDARD
TZOFFSETFROM:-0700
TZOFFSETTO:-0800
TZNAME:PST
DTSTART:20251102T090000
END:STANDARD
BEGIN:DAYLIGHT
TZOFFSETFROM:-0800
TZOFFSETTO:-0700
TZNAME:PDT
DTSTART:20260308T100000
END:DAYLIGHT
BEGIN:STANDARD
TZOFFSETFROM:-0700
TZOFFSETTO:-0800
TZNAME:PST
DTSTART:20261101T090000
END:STANDARD
BEGIN:DAYLIGHT
TZOFFSETFROM:-0800
TZOFFSETTO:-0700
TZNAME:PDT
DTSTART:20270314T100000
END:DAYLIGHT
BEGIN:STANDARD
TZOFFSETFROM:-0700
TZOFFSETTO:-0800
TZNAME:PST
DTSTART:20271107T090000
END:STANDARD
END:VTIMEZONE
BEGIN:VEVENT
DTSTART;TZID=America/Vancouver:20260306T000000
DTEND;TZID=America/Vancouver:20260308T235959
DTSTAMP:20260424T092658
CREATED:20260119T202116Z
LAST-MODIFIED:20260119T202116Z
UID:10000904-1772755200-1773014399@artsconnect.ing
SUMMARY:37th annual Festival du Bois
DESCRIPTION:The fiddle takes centre stage for a weekend of dynamic francophone\, world and folk music and dance with brilliant artists from coast to coast. Join us for concerts\, workshops\, shows for kids & families\, fun and fascinating on-site activities\, fabulous food\, shopping and a generous helping of francophone warmth and spirit! Grab something plaid and your pals and come meet us in Mackin Park! \nJoignez-vous à nous pour une fin de semaine de musique francophone\, trad et du monde\, de délicieuse nourriture et d’une généreuse portion de culture francophone ! Nous avons hâte de vous voir (en chemise à carreaux !) au parc Mackin. \nDetails and lineup:\nwww.festivaldubois.ca\nMarch 6 • 7 • 8\, 2026 \nTickets
URL:https://artsconnect.ing/artscalendar/37th-annual-festival-du-bois/
LOCATION:Mackin Park\, 1046 Brunette Avenue\, Coquitlam\, BC\, V3K 1E7\, Canada
CATEGORIES:Dance,Festival,Music
ATTACH;FMTTYPE=image/jpeg:https://artsconnect.ing/wp-content/uploads/2026/01/616456056_1407506771169253_82560133646507237_n.jpg
ORGANIZER;CN="Festival du Bois":MAILTO:info@maillardville.com
END:VEVENT
BEGIN:VEVENT
DTSTART;TZID=America/Vancouver:20260306T190000
DTEND;TZID=America/Vancouver:20260306T203000
DTSTAMP:20260424T092659
CREATED:20260122T180516Z
LAST-MODIFIED:20260122T180516Z
UID:10000933-1772823600-1772829000@artsconnect.ing
SUMMARY:Same Same Different
DESCRIPTION:Event Details\n\nSAME SAME DIFFERENT\nThe Myrtle Sisters\n\n\nABOUT THE SHOW\nThe Myrtle Sisters had always dressed\, sang\, danced\, talked and even ate the same. They could hardly tell themselves apart until one day through a hilarious and unexpected series of calamities their secret uniqueness was revealed! \nCan they keep these oddities from one another? Will they still be part of the trio if their differences are discovered? Same Same Different is a three part harmony\, tap and swing dance spectacle about self-expression and celebration of differences. \nThrough original and historic live music and dance\, The Myrtle Sisters embrace their individuality and learn to work together. Expect plenty of charm\, shenanigans\, surprises and mishaps in this outrageously fun and insightful experience.  Come along for this silly\, heartfelt\, musical journey where we discover we can be our unique selves and still belong. \n\n\nABOUT THE ARTISTS\nThe Myrtle Sisters\, featuring Candice Roberts\, Nayana Fielkov\, and Kat Single-Dain\, are a trio of east Vancouver performers delighting audiences of all ages with their harmonies\, twinkling-tap numbers and family antics! They’ve been showcasing a clowning\, vaudeville and dance menagerie of musical calamity for over 10 years in a variety of venues. Expect plenty of charm and shenanigans along with their original and historic songs and dances. The music stands on its own\, but their onstage family antics\, tap stylings and wild tunes are not to be missed.  \n\n\nSINGLE TICKETS ON SALE!\nAll tickets just $15\, pay-more-if-you-can! \nBOX OFFICE: 604.927.6555 | Open Monday – Saturday\, 12 – 5PM
URL:https://artsconnect.ing/artscalendar/same-same-different/
LOCATION:Evergreen Cultural Centre Studio Theatre\, 1205 Pinetree Way\, Coquitlam\, BC\, V3B 7Y3\, Canada
CATEGORIES:Dance,Music,Theatre
ATTACH;FMTTYPE=image/webp:https://artsconnect.ing/wp-content/uploads/2026/01/Tangled-Myrtles.webp
END:VEVENT
END:VCALENDAR