BEGIN:VCALENDAR
VERSION:2.0
PRODID:-//ArtsConnect - ECPv6.15.20//NONSGML v1.0//EN
CALSCALE:GREGORIAN
METHOD:PUBLISH
X-ORIGINAL-URL:https://artsconnect.ing
X-WR-CALDESC:Events for ArtsConnect
REFRESH-INTERVAL;VALUE=DURATION:PT1H
X-Robots-Tag:noindex
X-PUBLISHED-TTL:PT1H
BEGIN:VTIMEZONE
TZID:America/Vancouver
BEGIN:DAYLIGHT
TZOFFSETFROM:-0800
TZOFFSETTO:-0700
TZNAME:PDT
DTSTART:20240310T100000
END:DAYLIGHT
BEGIN:STANDARD
TZOFFSETFROM:-0700
TZOFFSETTO:-0800
TZNAME:PST
DTSTART:20241103T090000
END:STANDARD
BEGIN:DAYLIGHT
TZOFFSETFROM:-0800
TZOFFSETTO:-0700
TZNAME:PDT
DTSTART:20250309T100000
END:DAYLIGHT
BEGIN:STANDARD
TZOFFSETFROM:-0700
TZOFFSETTO:-0800
TZNAME:PST
DTSTART:20251102T090000
END:STANDARD
BEGIN:DAYLIGHT
TZOFFSETFROM:-0800
TZOFFSETTO:-0700
TZNAME:PDT
DTSTART:20260308T100000
END:DAYLIGHT
BEGIN:STANDARD
TZOFFSETFROM:-0700
TZOFFSETTO:-0800
TZNAME:PST
DTSTART:20261101T090000
END:STANDARD
END:VTIMEZONE
BEGIN:VEVENT
DTSTART;TZID=America/Vancouver:20251023T183000
DTEND;TZID=America/Vancouver:20251023T183000
DTSTAMP:20260424T201813
CREATED:20251013T153927Z
LAST-MODIFIED:20251013T154005Z
UID:10000583-1761244200-1761244200@artsconnect.ing
SUMMARY:The Dancing Okami Lady Kaga (レディ加賀)
DESCRIPTION:The Dancing Okami\nLady Kaga (レディ加賀) \nTraditional Japanese hospitality meets modern dance \nWhen her childhood dreams of becoming a tap dancer are dashed\, Yuka decides to return to her hometown of Kaga and follow her mother’s footsteps of becoming an okami\, or the traditional manager of a Japanese inn. However\, Yuka’s new career path proves to be more challenging than it seems: her clumsiness makes the various training exercises difficult\, and with Kaga Onsen facing a financial crisis\, the pressure’s on to attract visitors to the area. In a last-ditch effort to save the town\, Yuka devises a plan to choreograph a dance and perform with her fellow budding okami at the local charity event. With no tap dancing experience amongst the group and time running out\, can the dancing okami put on a show to remember? \nInspired by Kaga’s real-life tourism campaign\, The Dancing Okami was brought to life with the cooperation of the town’s local community and tourism association. Directed by Toshiro Saiga\, this heartwarming musical comedy chronicles the protagonist’s inspiring journey to success\, with the beautiful scenery of the Kaga Onsen region as its stage(© 2025 Japanese Film Festival) \nDirected by: Toshiro Saiga （2024/109 min./In Japanese with English subtitles/Comedy-Drama/Feature/Rated PG） \nWatch Trailer Here \nThursday October 23\, 2025 \nShow Starts at 6:30\, Doors open at 6pm \nAdmission Free \nNo pre-registration required. Limited seating on a first-come\, first-served basis \n\nContact\n\n\ncdudley@vc.mofa.go.jp\n604-684-5868 Ext 240\nWebsite
URL:https://artsconnect.ing/artscalendar/the-dancing-okami-lady-kaga-%e3%83%ac%e3%83%87%e3%82%a3%e5%8a%a0%e8%b3%80/
LOCATION:Inlet Theatre\, 100 Newport Drive\, Port Moody\, BC\, V3H 5C9\, Canada
CATEGORIES:Film
ATTACH;FMTTYPE=image/webp:https://artsconnect.ing/wp-content/uploads/2025/10/100890777.webp
END:VEVENT
BEGIN:VEVENT
DTSTART;TZID=America/Vancouver:20251025T193000
DTEND;TZID=America/Vancouver:20251025T210000
DTSTAMP:20260424T201813
CREATED:20250808T172015Z
LAST-MODIFIED:20250808T172015Z
UID:10000379-1761420600-1761426000@artsconnect.ing
SUMMARY:Rehearsal Hall Sessions: Rocky Horror - The Ultimate Cult Classic Screening
DESCRIPTION:ROCK HORROR: THE ULTIMATE CULT CLASSIC SCREENING\nHosted by Cyd Eva\nABOUT THE SHOW\n  \nIt’s that spooky time of year again! Join us at Evergreen for a truly rocky night at the movies—The Rocky Horror Picture Show! Whether you’re a seasoned fan or a first-time viewer\, this screening offers a one-of-a-kind experience complete with all the audience participation you could dream of. Hosted by long-time Rocky Horror aficionado Cyd Eva\, the evening promises an unforgettable night of costume contests (with fantastic prizes!)\, guidance on the iconic callbacks\, and a prop goodie bag to enhance your experience.\n\n\nMEET YOUR HOST\nCyd Eva is a queer visual artist\, fashion designer\, Art Teacher\, podcast host\, dancer\, installation artist and surface pattern designer from Coquitlam so-called BC Canada. She has a BFA in visual art from Simon Fraser university\, a degree in Fashion Design from Cape town college of fashion design and is a graduate of surface design immersion with bonnie christine\, bravely business incubator for creative entrepreneurs and Durban university of technology’s pattern drafting program. \nShe is the founder of the brand and designs original art for pattern nation\, sews and creates many of our products and is the inventor of our blobs: interactive play sculptures. She is passionate about creativity\, community\, self expression\, colour and pattern and deeply values the time she has spent in Canada\, South Africa and England building the Pattern Nation brand through events\, collaborations and teaching. Cyd is currently teaching visual art and fashion design at Place Des Arts and the Evergreen Cultural Centre in Coquitlam and offers programs for youth and adults. \n\nSINGLE TICKETS ON SALE JULY 01!\nAdults & Seniors: $25 | Students: $16 \nBOX OFFICE: 604.927.6555 | Open Monday – Saturday\, 12 – 5PM
URL:https://artsconnect.ing/artscalendar/rehearsal-hall-sessions-rocky-horror-the-ultimate-cult-classic-screening/2025-10-25/1/
LOCATION:Evergreen Cultural Centre Rehearsal Hall\, 1205 Pinetree Way\, Coquitlam\, BC\, V3B 7Y3\, Canada
CATEGORIES:Film
ATTACH;FMTTYPE=image/webp:https://artsconnect.ing/wp-content/uploads/2025/08/RHPS-Flat-high-Res.webp
END:VEVENT
BEGIN:VEVENT
DTSTART;TZID=America/Vancouver:20251025T233000
DTEND;TZID=America/Vancouver:20251026T010000
DTSTAMP:20260424T201813
CREATED:20250808T172015Z
LAST-MODIFIED:20250808T172015Z
UID:10000380-1761435000-1761440400@artsconnect.ing
SUMMARY:Rehearsal Hall Sessions: Rocky Horror - The Ultimate Cult Classic Screening
DESCRIPTION:ROCK HORROR: THE ULTIMATE CULT CLASSIC SCREENING\nHosted by Cyd Eva\nABOUT THE SHOW\n  \nIt’s that spooky time of year again! Join us at Evergreen for a truly rocky night at the movies—The Rocky Horror Picture Show! Whether you’re a seasoned fan or a first-time viewer\, this screening offers a one-of-a-kind experience complete with all the audience participation you could dream of. Hosted by long-time Rocky Horror aficionado Cyd Eva\, the evening promises an unforgettable night of costume contests (with fantastic prizes!)\, guidance on the iconic callbacks\, and a prop goodie bag to enhance your experience.\n\n\nMEET YOUR HOST\nCyd Eva is a queer visual artist\, fashion designer\, Art Teacher\, podcast host\, dancer\, installation artist and surface pattern designer from Coquitlam so-called BC Canada. She has a BFA in visual art from Simon Fraser university\, a degree in Fashion Design from Cape town college of fashion design and is a graduate of surface design immersion with bonnie christine\, bravely business incubator for creative entrepreneurs and Durban university of technology’s pattern drafting program. \nShe is the founder of the brand and designs original art for pattern nation\, sews and creates many of our products and is the inventor of our blobs: interactive play sculptures. She is passionate about creativity\, community\, self expression\, colour and pattern and deeply values the time she has spent in Canada\, South Africa and England building the Pattern Nation brand through events\, collaborations and teaching. Cyd is currently teaching visual art and fashion design at Place Des Arts and the Evergreen Cultural Centre in Coquitlam and offers programs for youth and adults. \n\nSINGLE TICKETS ON SALE JULY 01!\nAdults & Seniors: $25 | Students: $16 \nBOX OFFICE: 604.927.6555 | Open Monday – Saturday\, 12 – 5PM
URL:https://artsconnect.ing/artscalendar/rehearsal-hall-sessions-rocky-horror-the-ultimate-cult-classic-screening/2025-10-25/2/
LOCATION:Evergreen Cultural Centre Rehearsal Hall\, 1205 Pinetree Way\, Coquitlam\, BC\, V3B 7Y3\, Canada
CATEGORIES:Film
ATTACH;FMTTYPE=image/webp:https://artsconnect.ing/wp-content/uploads/2025/08/RHPS-Flat-high-Res.webp
END:VEVENT
BEGIN:VEVENT
DTSTART;TZID=America/Vancouver:20251026T110000
DTEND;TZID=America/Vancouver:20251026T120000
DTSTAMP:20260424T201813
CREATED:20251013T182827Z
LAST-MODIFIED:20251013T183238Z
UID:10000584-1761476400-1761480000@artsconnect.ing
SUMMARY:ADFF x NEMESIS SUNDAY MATINÉE: MY PLAYGROUND
DESCRIPTION:Previously Sold Out – Sunday Matinée returns with Kaspar Astrup Schröder’s “My Playground”\, presented by Nemesis and ADFF. \n\nOCT 26. 11AM-12PM OR 2PM-3PM \nFollowing a sold-out event last month\, the Architecture and Design Film Festival and Nemesis Coffee are bringing another exclusive Sunday Matinée screening to the Gallery Theatre at TriCity Pavilion. \n“My Playground” explores the way Parkour and Free running is changing the perception of urban space and how the spaces and buildings they are moving on are changing them. Mainly set in Copenhagen the film follows Team JiYo as they explore the city and encounter the obstacles it presents. Award winning architect Bjarke Ingels\, founder of BIG Architects\, is fascinated by the way Team JiYo convey architecture and takes the team to his buildings\, to explore and unfold their skills\, that may be just as groundbreaking as the architecture itself. The film travels around the world from Denmark to Japan\, United States\, United Kingdom\, and China to explore where the urban mobility is heading. Team JiYo has a dream of making the biggest dedicated parkour park in the world\, but isn’t parkour and free running supposed to be in the city and not in a fixed environment? Kaspar Astrup Schröder set out to more closely examine the way that traceurs interact with architecture – honing in on parkour and urban mobility in modern cities spaces via Team JiYo and the people that determine how the space is shaped within our cities. \nAs part of the Matinée screening\, guests will be served a Nemesis coffee and a pastry included in your ticket purchase\, as well as a limited-edition gift\, exclusive to the event. \nJoin us for the exclusive screening and experience an extraordinary journey into one of the most visionary works of residential architecture ever imagined. \nBy purchasing a ticket\, you agree to the terms and conditions and you acknowledge that the personal information you have provided may be collected\, used and disclosed by or on behalf of the members of the Marcon Group of Companies in accordance with Marcon Development’s Privacy Policy.
URL:https://artsconnect.ing/artscalendar/adff-x-nemesis-sunday-matinee-my-playground/2025-10-26/1/
LOCATION:TriCity Pavilion\, 2968 Christmas Way\, Coquitlam\, BC\, V3C 4E6\, Canada
CATEGORIES:Film
ATTACH;FMTTYPE=image/webp:https://artsconnect.ing/wp-content/uploads/2025/10/561821223_1846196636777099_2986580050211696940_n.webp
ORGANIZER;CN="Architecture & Design Film Festival":MAILTO:info@adfilmfest.com
END:VEVENT
BEGIN:VEVENT
DTSTART;TZID=America/Vancouver:20251026T140000
DTEND;TZID=America/Vancouver:20251026T150000
DTSTAMP:20260424T201813
CREATED:20251013T182827Z
LAST-MODIFIED:20251013T183238Z
UID:10000585-1761487200-1761490800@artsconnect.ing
SUMMARY:ADFF x NEMESIS SUNDAY MATINÉE: MY PLAYGROUND
DESCRIPTION:Previously Sold Out – Sunday Matinée returns with Kaspar Astrup Schröder’s “My Playground”\, presented by Nemesis and ADFF. \n\nOCT 26. 11AM-12PM OR 2PM-3PM \nFollowing a sold-out event last month\, the Architecture and Design Film Festival and Nemesis Coffee are bringing another exclusive Sunday Matinée screening to the Gallery Theatre at TriCity Pavilion. \n“My Playground” explores the way Parkour and Free running is changing the perception of urban space and how the spaces and buildings they are moving on are changing them. Mainly set in Copenhagen the film follows Team JiYo as they explore the city and encounter the obstacles it presents. Award winning architect Bjarke Ingels\, founder of BIG Architects\, is fascinated by the way Team JiYo convey architecture and takes the team to his buildings\, to explore and unfold their skills\, that may be just as groundbreaking as the architecture itself. The film travels around the world from Denmark to Japan\, United States\, United Kingdom\, and China to explore where the urban mobility is heading. Team JiYo has a dream of making the biggest dedicated parkour park in the world\, but isn’t parkour and free running supposed to be in the city and not in a fixed environment? Kaspar Astrup Schröder set out to more closely examine the way that traceurs interact with architecture – honing in on parkour and urban mobility in modern cities spaces via Team JiYo and the people that determine how the space is shaped within our cities. \nAs part of the Matinée screening\, guests will be served a Nemesis coffee and a pastry included in your ticket purchase\, as well as a limited-edition gift\, exclusive to the event. \nJoin us for the exclusive screening and experience an extraordinary journey into one of the most visionary works of residential architecture ever imagined. \nBy purchasing a ticket\, you agree to the terms and conditions and you acknowledge that the personal information you have provided may be collected\, used and disclosed by or on behalf of the members of the Marcon Group of Companies in accordance with Marcon Development’s Privacy Policy.
URL:https://artsconnect.ing/artscalendar/adff-x-nemesis-sunday-matinee-my-playground/2025-10-26/2/
LOCATION:TriCity Pavilion\, 2968 Christmas Way\, Coquitlam\, BC\, V3C 4E6\, Canada
CATEGORIES:Film
ATTACH;FMTTYPE=image/webp:https://artsconnect.ing/wp-content/uploads/2025/10/561821223_1846196636777099_2986580050211696940_n.webp
ORGANIZER;CN="Architecture & Design Film Festival":MAILTO:info@adfilmfest.com
END:VEVENT
END:VCALENDAR