BEGIN:VCALENDAR
VERSION:2.0
PRODID:-//ArtsConnect - ECPv6.15.20//NONSGML v1.0//EN
CALSCALE:GREGORIAN
METHOD:PUBLISH
X-ORIGINAL-URL:https://artsconnect.ing
X-WR-CALDESC:Events for ArtsConnect
REFRESH-INTERVAL;VALUE=DURATION:PT1H
X-Robots-Tag:noindex
X-PUBLISHED-TTL:PT1H
BEGIN:VTIMEZONE
TZID:America/Vancouver
BEGIN:DAYLIGHT
TZOFFSETFROM:-0800
TZOFFSETTO:-0700
TZNAME:PDT
DTSTART:20250309T100000
END:DAYLIGHT
BEGIN:STANDARD
TZOFFSETFROM:-0700
TZOFFSETTO:-0800
TZNAME:PST
DTSTART:20251102T090000
END:STANDARD
BEGIN:DAYLIGHT
TZOFFSETFROM:-0800
TZOFFSETTO:-0700
TZNAME:PDT
DTSTART:20260308T100000
END:DAYLIGHT
BEGIN:STANDARD
TZOFFSETFROM:-0700
TZOFFSETTO:-0800
TZNAME:PST
DTSTART:20261101T090000
END:STANDARD
BEGIN:DAYLIGHT
TZOFFSETFROM:-0800
TZOFFSETTO:-0700
TZNAME:PDT
DTSTART:20270314T100000
END:DAYLIGHT
BEGIN:STANDARD
TZOFFSETFROM:-0700
TZOFFSETTO:-0800
TZNAME:PST
DTSTART:20271107T090000
END:STANDARD
END:VTIMEZONE
BEGIN:VEVENT
DTSTART;TZID=America/Vancouver:20260213T193000
DTEND;TZID=America/Vancouver:20260213T193000
DTSTAMP:20260423T204325
CREATED:20260126T173207Z
LAST-MODIFIED:20260126T173207Z
UID:10000953-1771011000-1771011000@artsconnect.ing
SUMMARY:PMFS Presents the Iranian Film "Hit the Road"
DESCRIPTION:Hit the Road follows a chaotic\, tender family on a road trip across Iran through a rugged landscape\, fussing over the sick dog and getting on each others’ nerves. Only the mysterious older brother is quiet. A beautifully acted drama with steadily cumulative force\, Hit the Road uses one family’s journey to make trenchant observations about society as a whole. What really makes Hit the Road fly\, however\, is the fizzy interplay between the superb core actors. No offence is meant by noting parallels with a similarly nomadic family in Little Miss Sunshine. To be a passenger alongside these nervous voyagers\, as they clash\, tease and cherish each other on the way to this strange and terrible fork in their lives\, is to be a very fortunate moviegoer indeed. \nRoad Trip / Comedy / Drama\nRuntime 1 h 33 m\nIran\n2021\nPG-13 \nTrailer for Hit the Road \n\n\n\n\n\n\n$ 5.00 plus $ 5 annual membership. CASH ONLY.
URL:https://artsconnect.ing/artscalendar/pmfs-presents-the-iranian-film-hit-the-road/
LOCATION:Inlet Theatre\, 100 Newport Drive\, Port Moody\, BC\, V3H 5C9\, Canada
CATEGORIES:Film
ATTACH;FMTTYPE=image/webp:https://artsconnect.ing/wp-content/uploads/2026/01/fd3439be-038c-4981-9cc1-b38e01780a40.webp
ORGANIZER;CN="Port Moody Film Society":MAILTO:info@pmfilm.ca
END:VEVENT
BEGIN:VEVENT
DTSTART;TZID=America/Vancouver:20260227T180000
DTEND;TZID=America/Vancouver:20260227T200000
DTSTAMP:20260423T204325
CREATED:20260129T172131Z
LAST-MODIFIED:20260129T172131Z
UID:10000961-1772215200-1772222400@artsconnect.ing
SUMMARY:The Culture Club
DESCRIPTION:Join us each month as we discuss a novel\, comic\, movie\, poem\, or other media each rooted in themes of personal cultural heritage\, anti-racism\, and diversity. If you’re looking for a fun way to spend Friday evenings\, connect with community\, or read a more unique array of books\, the Culture Club may be perfect for you! \nHere’s our upcoming discussion line up: \nFebruary: The Sleeping Car Porter by Suzette Mayr (book – pick up at museum)\nMarch: Women Talking by Miriam Towes (book – pick up at museum) AND/OR Women Talking by Sarah Polley (film – available on Prime)\nApril: Beans by Tracey Deer (film – available for free on CBC Gem)\nMay: Denison Avenue by Christina Wong (book – pick up at museum)\nJune: Queer poetry club (we will link to recommendations of LGBTQ poets and people can also come with their own favourite) \nLast Friday of every month from 6 PM to 8 PM.\nRSVP appreciated but not required.\nFree. Ages 18+.\n1116 Brunette Avenue\, Coquitlam.
URL:https://artsconnect.ing/artscalendar/the-culture-club/2026-02-27/
LOCATION:Mackin House\, 1116 Brunette Avenue\, Coquitlam\, BC\, V3K 1G2\, Canada
CATEGORIES:Discussion,Film,Literary Arts,Poetry
ATTACH;FMTTYPE=image/webp:https://artsconnect.ing/wp-content/uploads/2026/01/TheCultureClub-WebImage.webp
ORGANIZER;CN="Coquitlam Heritage":MAILTO:info@coquitlamheritage.ca
END:VEVENT
END:VCALENDAR