BEGIN:VCALENDAR
VERSION:2.0
PRODID:-//ArtsConnect - ECPv6.15.20//NONSGML v1.0//EN
CALSCALE:GREGORIAN
METHOD:PUBLISH
X-ORIGINAL-URL:https://artsconnect.ing
X-WR-CALDESC:Events for ArtsConnect
REFRESH-INTERVAL;VALUE=DURATION:PT1H
X-Robots-Tag:noindex
X-PUBLISHED-TTL:PT1H
BEGIN:VTIMEZONE
TZID:America/Vancouver
BEGIN:DAYLIGHT
TZOFFSETFROM:-0800
TZOFFSETTO:-0700
TZNAME:PDT
DTSTART:20240310T100000
END:DAYLIGHT
BEGIN:STANDARD
TZOFFSETFROM:-0700
TZOFFSETTO:-0800
TZNAME:PST
DTSTART:20241103T090000
END:STANDARD
BEGIN:DAYLIGHT
TZOFFSETFROM:-0800
TZOFFSETTO:-0700
TZNAME:PDT
DTSTART:20250309T100000
END:DAYLIGHT
BEGIN:STANDARD
TZOFFSETFROM:-0700
TZOFFSETTO:-0800
TZNAME:PST
DTSTART:20251102T090000
END:STANDARD
BEGIN:DAYLIGHT
TZOFFSETFROM:-0800
TZOFFSETTO:-0700
TZNAME:PDT
DTSTART:20260308T100000
END:DAYLIGHT
BEGIN:STANDARD
TZOFFSETFROM:-0700
TZOFFSETTO:-0800
TZNAME:PST
DTSTART:20261101T090000
END:STANDARD
END:VTIMEZONE
BEGIN:VEVENT
DTSTART;TZID=America/Vancouver:20250611T140000
DTEND;TZID=America/Vancouver:20250611T160000
DTSTAMP:20260425T041759
CREATED:20250529T185058Z
LAST-MODIFIED:20250529T185529Z
UID:10000094-1749650400-1749657600@artsconnect.ing
SUMMARY:Indigenous Pop Up & Film Screening
DESCRIPTION:June 21st is National Indigenous Peoples Day\, and in recognition\, we’re planning some pop-up displays and film screenings. At either branch of the Library\, you can learn about the different Indigenous groups of Canada\, and swing by our screenings of Indigenous films. \nNo registration required. Just drop in. \n2:00–4:00 pm\nJune 11th | City Centre | https://buff.ly/eytPAXd\nJune 19th | Poirier | https://buff.ly/vSrd8ue
URL:https://artsconnect.ing/artscalendar/indigenous-pop-up-film-screening/
LOCATION:Coquitlam Public Library – The City Centre Branch\, 1169 Pinetree Way\, Coquitlam\, BC\, V3B 0Y1\, Canada
CATEGORIES:Film
ATTACH;FMTTYPE=image/jpeg:https://artsconnect.ing/wp-content/uploads/2025/05/501222786_1150513590435894_2503782201099566436_n.jpg
ORGANIZER;CN="Coquitlam Public Library - The City Centre Branch":MAILTO:https://www.coqlibrary.ca/about-us/contact-us
END:VEVENT
BEGIN:VEVENT
DTSTART;TZID=America/Vancouver:20250613T193000
DTEND;TZID=America/Vancouver:20250613T213000
DTSTAMP:20260425T041759
CREATED:20250520T174220Z
LAST-MODIFIED:20250520T174220Z
UID:10000084-1749843000-1749850200@artsconnect.ing
SUMMARY:Port Moody Film Society Presents: My American Cousin
DESCRIPTION:Port Moody Film Society Presents:\nMy American Cousin \nFor our FREE film this June\, following our AGM\, we’ve chosen the classic Canadian coming of age tale\, My American Cousin\, which is celebrating its 40th anniversary this year. Sandy is a bored 12-year-old preparing for another long and uneventful summer in rural 1950s British Columbia when her older cousin\, Butch\, arrives unexpectedly from California in a shiny red convertible. Of course\, the impressionable Sandy is immediately dazzled by Butch’s cool\, rock’n’roll swagger; his appearance seems to promise all the excitement that Sandy has been longing for. Based on writer-director Sandy Wilson’s own memories\, My American Cousin won multiple Genie Awards including Best Picture\, Best Director\, Best Original Screenplay\, Best Actor and Best Actress. Capturing the restlessness of youth with a fresh and funny perspective\, Wilson’s genuinely charming period piece is forever reaching for lost innocence as it playfully contrasts Canadian and American attitudes. \nDrama/Comedy\nRuntime 1 hour 35 minutes\nCanada\n1985\nRated PG
URL:https://artsconnect.ing/artscalendar/port-moody-film-society-presents-my-american-cousin/
LOCATION:Inlet Theatre\, 100 Newport Drive\, Port Moody\, BC\, V3H 5C9\, Canada
CATEGORIES:Film
ATTACH;FMTTYPE=image/jpeg:https://artsconnect.ing/wp-content/uploads/2025/05/b806685f-759e-4d0d-9cc7-b2de014fcaba.jpg
ORGANIZER;CN="Port Moody Film Society":MAILTO:info@pmfilm.ca
END:VEVENT
END:VCALENDAR