BEGIN:VCALENDAR
VERSION:2.0
PRODID:-//ArtsConnect - ECPv6.15.20//NONSGML v1.0//EN
CALSCALE:GREGORIAN
METHOD:PUBLISH
X-WR-CALNAME:ArtsConnect
X-ORIGINAL-URL:https://artsconnect.ing
X-WR-CALDESC:Events for ArtsConnect
REFRESH-INTERVAL;VALUE=DURATION:PT1H
X-Robots-Tag:noindex
X-PUBLISHED-TTL:PT1H
BEGIN:VTIMEZONE
TZID:America/Vancouver
BEGIN:DAYLIGHT
TZOFFSETFROM:-0800
TZOFFSETTO:-0700
TZNAME:PDT
DTSTART:20240310T100000
END:DAYLIGHT
BEGIN:STANDARD
TZOFFSETFROM:-0700
TZOFFSETTO:-0800
TZNAME:PST
DTSTART:20241103T090000
END:STANDARD
BEGIN:DAYLIGHT
TZOFFSETFROM:-0800
TZOFFSETTO:-0700
TZNAME:PDT
DTSTART:20250309T100000
END:DAYLIGHT
BEGIN:STANDARD
TZOFFSETFROM:-0700
TZOFFSETTO:-0800
TZNAME:PST
DTSTART:20251102T090000
END:STANDARD
BEGIN:DAYLIGHT
TZOFFSETFROM:-0800
TZOFFSETTO:-0700
TZNAME:PDT
DTSTART:20260308T100000
END:DAYLIGHT
BEGIN:STANDARD
TZOFFSETFROM:-0700
TZOFFSETTO:-0800
TZNAME:PST
DTSTART:20261101T090000
END:STANDARD
END:VTIMEZONE
BEGIN:VEVENT
DTSTART;TZID=America/Vancouver:20250619T140000
DTEND;TZID=America/Vancouver:20250619T160000
DTSTAMP:20260425T054515
CREATED:20250529T190302Z
LAST-MODIFIED:20250529T190302Z
UID:10000095-1750341600-1750348800@artsconnect.ing
SUMMARY:Indigenous Pop Up & Film Screening
DESCRIPTION:June 21st is National Indigenous Peoples Day\, and in recognition\, we’re planning some pop-up displays and film screenings. At either branch of the Library\, you can learn about the different Indigenous groups of Canada\, and swing by our screenings of Indigenous films. \nNo registration required. Just drop in. \n2:00–4:00 pm\nJune 11th | City Centre | https://buff.ly/eytPAXd\nJune 19th | Poirier | https://buff.ly/vSrd8ue
URL:https://artsconnect.ing/artscalendar/indigenous-pop-up-film-screening-2/
LOCATION:Coquitlam Public Library – Poirier Branch\, 575 Poirier Street\, Coquitlam\, BC\, V3J 6A9\, Canada
CATEGORIES:Film
ATTACH;FMTTYPE=image/jpeg:https://artsconnect.ing/wp-content/uploads/2025/05/501222786_1150513590435894_2503782201099566436_n.jpg
ORGANIZER;CN="Coquitlam Public Library - Poirier Branch":MAILTO:ask@coqlibrary.ca
END:VEVENT
END:VCALENDAR