BEGIN:VCALENDAR
VERSION:2.0
PRODID:-//ArtsConnect - ECPv6.15.20//NONSGML v1.0//EN
CALSCALE:GREGORIAN
METHOD:PUBLISH
X-ORIGINAL-URL:https://artsconnect.ing
X-WR-CALDESC:Events for ArtsConnect
REFRESH-INTERVAL;VALUE=DURATION:PT1H
X-Robots-Tag:noindex
X-PUBLISHED-TTL:PT1H
BEGIN:VTIMEZONE
TZID:America/Vancouver
BEGIN:DAYLIGHT
TZOFFSETFROM:-0800
TZOFFSETTO:-0700
TZNAME:PDT
DTSTART:20240310T100000
END:DAYLIGHT
BEGIN:STANDARD
TZOFFSETFROM:-0700
TZOFFSETTO:-0800
TZNAME:PST
DTSTART:20241103T090000
END:STANDARD
BEGIN:DAYLIGHT
TZOFFSETFROM:-0800
TZOFFSETTO:-0700
TZNAME:PDT
DTSTART:20250309T100000
END:DAYLIGHT
BEGIN:STANDARD
TZOFFSETFROM:-0700
TZOFFSETTO:-0800
TZNAME:PST
DTSTART:20251102T090000
END:STANDARD
BEGIN:DAYLIGHT
TZOFFSETFROM:-0800
TZOFFSETTO:-0700
TZNAME:PDT
DTSTART:20260308T100000
END:DAYLIGHT
BEGIN:STANDARD
TZOFFSETFROM:-0700
TZOFFSETTO:-0800
TZNAME:PST
DTSTART:20261101T090000
END:STANDARD
END:VTIMEZONE
BEGIN:VEVENT
DTSTART;TZID=America/Vancouver:20250823T204500
DTEND;TZID=America/Vancouver:20250823T224500
DTSTAMP:20260425T044827
CREATED:20250625T165949Z
LAST-MODIFIED:20250625T171024Z
UID:10000149-1755981900-1755989100@artsconnect.ing
SUMMARY:Cinema Under the Stars: "Top Gun: Maverick"
DESCRIPTION:Gather the whole family for a magical movie experience! Bring your favorite snacks\, drinks\, blankets\, and lawn chairs\, and join us for heartwarming films under a beautiful starlit sky. It’s the perfect way to spend a summer evening together. Presented by BMO. \nFood truck: Alohaaa Hawaiian Inspired Hot Dogs
URL:https://artsconnect.ing/artscalendar/cinema-under-the-stars-top-gun-maverick/
LOCATION:Evergreen Park\, 3500 Cedar Drive\, Port Coquitlam\, BC\, V3B 3C7\, Canada
CATEGORIES:Film
ATTACH;FMTTYPE=image/jpeg:https://artsconnect.ing/wp-content/uploads/2025/06/EmmaK.Young_0826_191948_5949.jpg
ORGANIZER;CN="City of Port Coquitlam":MAILTO:info@portcoquitlam.ca
END:VEVENT
END:VCALENDAR