BEGIN:VCALENDAR
VERSION:2.0
PRODID:-//ArtsConnect - ECPv6.15.20//NONSGML v1.0//EN
CALSCALE:GREGORIAN
METHOD:PUBLISH
X-WR-CALNAME:ArtsConnect
X-ORIGINAL-URL:https://artsconnect.ing
X-WR-CALDESC:Events for ArtsConnect
REFRESH-INTERVAL;VALUE=DURATION:PT1H
X-Robots-Tag:noindex
X-PUBLISHED-TTL:PT1H
BEGIN:VTIMEZONE
TZID:America/Vancouver
BEGIN:DAYLIGHT
TZOFFSETFROM:-0800
TZOFFSETTO:-0700
TZNAME:PDT
DTSTART:20250309T100000
END:DAYLIGHT
BEGIN:STANDARD
TZOFFSETFROM:-0700
TZOFFSETTO:-0800
TZNAME:PST
DTSTART:20251102T090000
END:STANDARD
BEGIN:DAYLIGHT
TZOFFSETFROM:-0800
TZOFFSETTO:-0700
TZNAME:PDT
DTSTART:20260308T100000
END:DAYLIGHT
BEGIN:STANDARD
TZOFFSETFROM:-0700
TZOFFSETTO:-0800
TZNAME:PST
DTSTART:20261101T090000
END:STANDARD
BEGIN:DAYLIGHT
TZOFFSETFROM:-0800
TZOFFSETTO:-0700
TZNAME:PDT
DTSTART:20270314T100000
END:DAYLIGHT
BEGIN:STANDARD
TZOFFSETFROM:-0700
TZOFFSETTO:-0800
TZNAME:PST
DTSTART:20271107T090000
END:STANDARD
END:VTIMEZONE
BEGIN:VEVENT
DTSTART;TZID=America/Vancouver:20260117T163000
DTEND;TZID=America/Vancouver:20260117T184500
DTSTAMP:20260424T061227
CREATED:20251218T215823Z
LAST-MODIFIED:20251218T215823Z
UID:10000797-1768667400-1768675500@artsconnect.ing
SUMMARY:Movie Night on the Train: Wuthering Heights (1939)
DESCRIPTION:Hop on board on our 1921 first-class passenger train car\, and watch the 1939 film adaptation of “Wuthering Heights”! \nFor only $10 a ticket\, enjoy an evening where you can watch a Silver Screen classic. Now that the new film adaptation is coming out in theatres soon\, get the chance to watch one of the originals. \nSales start on January 3rd\, 2026 at 9 am\, and ticket sales will end on January 16th. \nMovie will begin at 5 pm\, doors will open at 4:30 pm. Please bring a pillow or blanket if you require extra cushioning on our wooden chairs. Concession will be available for purchase inside the lobby during check-in. \nEmail marketing@pomo.museum or call (604) 939-1648 to book a spot!
URL:https://artsconnect.ing/artscalendar/movie-night-on-the-train-wuthering-heights-1939/
LOCATION:POMO Museum\, 2734 Murray Street\, Port Moody\, BC\, V3H 1X2\, Canada
CATEGORIES:Film
ATTACH;FMTTYPE=image/webp:https://artsconnect.ing/wp-content/uploads/2025/12/city-TV-poster.webp
ORGANIZER;CN="POMO Museum":MAILTO:info@pomo.museum
END:VEVENT
END:VCALENDAR