BEGIN:VCALENDAR
VERSION:2.0
PRODID:-//ArtsConnect - ECPv6.15.20//NONSGML v1.0//EN
CALSCALE:GREGORIAN
METHOD:PUBLISH
X-ORIGINAL-URL:https://artsconnect.ing
X-WR-CALDESC:Events for ArtsConnect
REFRESH-INTERVAL;VALUE=DURATION:PT1H
X-Robots-Tag:noindex
X-PUBLISHED-TTL:PT1H
BEGIN:VTIMEZONE
TZID:America/Vancouver
BEGIN:DAYLIGHT
TZOFFSETFROM:-0800
TZOFFSETTO:-0700
TZNAME:PDT
DTSTART:20250309T100000
END:DAYLIGHT
BEGIN:STANDARD
TZOFFSETFROM:-0700
TZOFFSETTO:-0800
TZNAME:PST
DTSTART:20251102T090000
END:STANDARD
BEGIN:DAYLIGHT
TZOFFSETFROM:-0800
TZOFFSETTO:-0700
TZNAME:PDT
DTSTART:20260308T100000
END:DAYLIGHT
BEGIN:STANDARD
TZOFFSETFROM:-0700
TZOFFSETTO:-0800
TZNAME:PST
DTSTART:20261101T090000
END:STANDARD
BEGIN:DAYLIGHT
TZOFFSETFROM:-0800
TZOFFSETTO:-0700
TZNAME:PDT
DTSTART:20270314T100000
END:DAYLIGHT
BEGIN:STANDARD
TZOFFSETFROM:-0700
TZOFFSETTO:-0800
TZNAME:PST
DTSTART:20271107T090000
END:STANDARD
END:VTIMEZONE
BEGIN:VEVENT
DTSTART;TZID=America/Vancouver:20260313T193000
DTEND;TZID=America/Vancouver:20260313T193000
DTSTAMP:20260424T030252
CREATED:20260301T185900Z
LAST-MODIFIED:20260301T185900Z
UID:10001131-1773430200-1773430200@artsconnect.ing
SUMMARY:Canadian Film Mini Festival
DESCRIPTION:Canadian Film Mini Festival presetned by Port Moody Film Society \nCome and enjoy three excellent Canadian films\, one each on Friday\, Saturday and Sunday March 13th to 15th. Come early and enjoy popcorn in the Galleria before each show. Note: No food or drink is permitted in the theatre. \nMarch 13 – Blue Heron \nMarch 14 – Blackberry \nMarch 15  – Menteur (Compulsive Liar) \nAll shows start at 7:30 \nTheatre Doors open at 7pm \nTicket Sales available in the Galleria at 6:30pm \nTickets are cash only. $5.00 plus a $5.00 annual membership if not already purchased \nQuestions? Email info@pmfilm.ca
URL:https://artsconnect.ing/artscalendar/canadian-film-mini-festival/2026-03-13/
LOCATION:Inlet Theatre\, 100 Newport Drive\, Port Moody\, BC\, V3H 5C9\, Canada
CATEGORIES:Film
ATTACH;FMTTYPE=image/webp:https://artsconnect.ing/wp-content/uploads/2026/03/32836c47-d08c-4aed-96cf-b3fe0169966e.webp
ORGANIZER;CN="Port Moody Film Society":MAILTO:info@pmfilm.ca
END:VEVENT
BEGIN:VEVENT
DTSTART;TZID=America/Vancouver:20260314T193000
DTEND;TZID=America/Vancouver:20260314T193000
DTSTAMP:20260424T030252
CREATED:20260301T185900Z
LAST-MODIFIED:20260301T185900Z
UID:10001132-1773516600-1773516600@artsconnect.ing
SUMMARY:Canadian Film Mini Festival
DESCRIPTION:Canadian Film Mini Festival presetned by Port Moody Film Society \nCome and enjoy three excellent Canadian films\, one each on Friday\, Saturday and Sunday March 13th to 15th. Come early and enjoy popcorn in the Galleria before each show. Note: No food or drink is permitted in the theatre. \nMarch 13 – Blue Heron \nMarch 14 – Blackberry \nMarch 15  – Menteur (Compulsive Liar) \nAll shows start at 7:30 \nTheatre Doors open at 7pm \nTicket Sales available in the Galleria at 6:30pm \nTickets are cash only. $5.00 plus a $5.00 annual membership if not already purchased \nQuestions? Email info@pmfilm.ca
URL:https://artsconnect.ing/artscalendar/canadian-film-mini-festival/2026-03-14/
LOCATION:Inlet Theatre\, 100 Newport Drive\, Port Moody\, BC\, V3H 5C9\, Canada
CATEGORIES:Film
ATTACH;FMTTYPE=image/webp:https://artsconnect.ing/wp-content/uploads/2026/03/32836c47-d08c-4aed-96cf-b3fe0169966e.webp
ORGANIZER;CN="Port Moody Film Society":MAILTO:info@pmfilm.ca
END:VEVENT
BEGIN:VEVENT
DTSTART;TZID=America/Vancouver:20260315T193000
DTEND;TZID=America/Vancouver:20260315T193000
DTSTAMP:20260424T030252
CREATED:20260301T185900Z
LAST-MODIFIED:20260301T185900Z
UID:10001133-1773603000-1773603000@artsconnect.ing
SUMMARY:Canadian Film Mini Festival
DESCRIPTION:Canadian Film Mini Festival presetned by Port Moody Film Society \nCome and enjoy three excellent Canadian films\, one each on Friday\, Saturday and Sunday March 13th to 15th. Come early and enjoy popcorn in the Galleria before each show. Note: No food or drink is permitted in the theatre. \nMarch 13 – Blue Heron \nMarch 14 – Blackberry \nMarch 15  – Menteur (Compulsive Liar) \nAll shows start at 7:30 \nTheatre Doors open at 7pm \nTicket Sales available in the Galleria at 6:30pm \nTickets are cash only. $5.00 plus a $5.00 annual membership if not already purchased \nQuestions? Email info@pmfilm.ca
URL:https://artsconnect.ing/artscalendar/canadian-film-mini-festival/2026-03-15/
LOCATION:Inlet Theatre\, 100 Newport Drive\, Port Moody\, BC\, V3H 5C9\, Canada
CATEGORIES:Film
ATTACH;FMTTYPE=image/webp:https://artsconnect.ing/wp-content/uploads/2026/03/32836c47-d08c-4aed-96cf-b3fe0169966e.webp
ORGANIZER;CN="Port Moody Film Society":MAILTO:info@pmfilm.ca
END:VEVENT
END:VCALENDAR