BEGIN:VCALENDAR
VERSION:2.0
PRODID:-//ArtsConnect - ECPv6.15.20//NONSGML v1.0//EN
CALSCALE:GREGORIAN
METHOD:PUBLISH
X-ORIGINAL-URL:https://artsconnect.ing
X-WR-CALDESC:Events for ArtsConnect
REFRESH-INTERVAL;VALUE=DURATION:PT1H
X-Robots-Tag:noindex
X-PUBLISHED-TTL:PT1H
BEGIN:VTIMEZONE
TZID:America/Vancouver
BEGIN:DAYLIGHT
TZOFFSETFROM:-0800
TZOFFSETTO:-0700
TZNAME:PDT
DTSTART:20250309T100000
END:DAYLIGHT
BEGIN:STANDARD
TZOFFSETFROM:-0700
TZOFFSETTO:-0800
TZNAME:PST
DTSTART:20251102T090000
END:STANDARD
BEGIN:DAYLIGHT
TZOFFSETFROM:-0800
TZOFFSETTO:-0700
TZNAME:PDT
DTSTART:20260308T100000
END:DAYLIGHT
BEGIN:STANDARD
TZOFFSETFROM:-0700
TZOFFSETTO:-0800
TZNAME:PST
DTSTART:20261101T090000
END:STANDARD
BEGIN:DAYLIGHT
TZOFFSETFROM:-0800
TZOFFSETTO:-0700
TZNAME:PDT
DTSTART:20270314T100000
END:DAYLIGHT
BEGIN:STANDARD
TZOFFSETFROM:-0700
TZOFFSETTO:-0800
TZNAME:PST
DTSTART:20271107T090000
END:STANDARD
END:VTIMEZONE
BEGIN:VEVENT
DTSTART;TZID=America/Vancouver:20260508T193000
DTEND;TZID=America/Vancouver:20260508T213000
DTSTAMP:20260423T191154
CREATED:20260414T162512Z
LAST-MODIFIED:20260414T162512Z
UID:10001260-1778268600-1778275800@artsconnect.ing
SUMMARY:PMFS May Film: La Haine
DESCRIPTION:PMFS May Film – La Haine \nThe Port Moody Film Society’s May film is La Haine. Hard-hitting and breathtakingly effective\, La Haine takes an uncompromising look at long-festering social and economic divisions affecting 1990s Paris. It follows 24 hours in the lives of three young men in the French suburbs the day after a violent riot. \nMay 8 at 7:30pm \nTickets can be purchased in the Galleria before the show \n$5 Ticket plus a $5 annual membership fee \nCASH ONLY \nPlease contact Port Moody Film Society with questions
URL:https://artsconnect.ing/artscalendar/pmfs-may-film-la-haine/
LOCATION:Inlet Theatre\, 100 Newport Drive\, Port Moody\, BC\, V3H 5C9\, Canada
CATEGORIES:Film
ATTACH;FMTTYPE=image/jpeg:https://artsconnect.ing/wp-content/uploads/2026/04/12f91178-9456-438e-b256-b41701449162.jpeg
ORGANIZER;CN="Port Moody Film Society":MAILTO:info@pmfilm.ca
END:VEVENT
END:VCALENDAR