BEGIN:VCALENDAR
VERSION:2.0
PRODID:-//ArtsConnect - ECPv6.15.20//NONSGML v1.0//EN
CALSCALE:GREGORIAN
METHOD:PUBLISH
X-WR-CALNAME:ArtsConnect
X-ORIGINAL-URL:https://artsconnect.ing
X-WR-CALDESC:Events for ArtsConnect
REFRESH-INTERVAL;VALUE=DURATION:PT1H
X-Robots-Tag:noindex
X-PUBLISHED-TTL:PT1H
BEGIN:VTIMEZONE
TZID:America/Vancouver
BEGIN:DAYLIGHT
TZOFFSETFROM:-0800
TZOFFSETTO:-0700
TZNAME:PDT
DTSTART:20240310T100000
END:DAYLIGHT
BEGIN:STANDARD
TZOFFSETFROM:-0700
TZOFFSETTO:-0800
TZNAME:PST
DTSTART:20241103T090000
END:STANDARD
BEGIN:DAYLIGHT
TZOFFSETFROM:-0800
TZOFFSETTO:-0700
TZNAME:PDT
DTSTART:20250309T100000
END:DAYLIGHT
BEGIN:STANDARD
TZOFFSETFROM:-0700
TZOFFSETTO:-0800
TZNAME:PST
DTSTART:20251102T090000
END:STANDARD
BEGIN:DAYLIGHT
TZOFFSETFROM:-0800
TZOFFSETTO:-0700
TZNAME:PDT
DTSTART:20260308T100000
END:DAYLIGHT
BEGIN:STANDARD
TZOFFSETFROM:-0700
TZOFFSETTO:-0800
TZNAME:PST
DTSTART:20261101T090000
END:STANDARD
END:VTIMEZONE
BEGIN:VEVENT
DTSTART;TZID=America/Vancouver:20250902T180000
DTEND;TZID=America/Vancouver:20250902T180000
DTSTAMP:20260424T195656
CREATED:20250828T170210Z
LAST-MODIFIED:20250828T170312Z
UID:10000455-1756836000-1756836000@artsconnect.ing
SUMMARY:Poetry Open Mic Featuring Roger Blenman
DESCRIPTION:Coming up next week\, we have a show featuring Roger Blenman! \nCanadian/Caribbean roots. Concerned with Race\, Privilege\, Spirituality\, Queer Sexuality\, Identity\, and Myth making.\nPlay writer and author of the novel Dead’er. \nYou can find Roger @rogertravelling \nThis event is free to enter\, we accept donations to help us with operating costs but anyone is welcome (19+ unless with a guardian)
URL:https://artsconnect.ing/artscalendar/poetry-open-mic-featuring-roger-blenman/
LOCATION:Brave Brewing Company\, 2617 Murray Street\, Port Moody\, BC\, V3H 1X1\, Canada
CATEGORIES:Literary Arts,Open Mic
ATTACH;FMTTYPE=image/webp:https://artsconnect.ing/wp-content/uploads/2025/08/539594557_17922809781108498_6370880966289789501_n.webp
ORGANIZER;CN="Tri Cities Poetry":MAILTO:tricitiespoetry@gmail.com
END:VEVENT
BEGIN:VEVENT
DTSTART;TZID=America/Vancouver:20250909T183000
DTEND;TZID=America/Vancouver:20250909T203000
DTSTAMP:20260424T195656
CREATED:20250909T162442Z
LAST-MODIFIED:20250909T162649Z
UID:10000480-1757442600-1757449800@artsconnect.ing
SUMMARY:Writers Respond: Cella Anne Author Talk and Book Signing
DESCRIPTION:404 Years An Auto/Biography is not just a family and personal history. As a non-Indigenous person\, Cella Anne uses her own voice and the women’s voices of the past to investigate issues of social justice. \nWhile her ancestor’s lives are a portrait of immigration and search for a better life as “eminent domain” led American expansion\, Cella Anne parallels her own history of movement to Canada\, awareness of social injustice\, the distraction of an indulgent lifestyle\, and her return to a career that took social justice issues head on – most recently at the University of the Fraser Valley. \nIn this session\, the author will talk about the ways in which she included elements that supported her own goals in working towards Canada and British Columbia’s reconciliation goals. Q & A to follow. \nThis is the first event in the Writers Respond monthly series to be held at Western Sky Books starting in the Fall of 2025. \nCella Anne lives in Golden\, at the crossroads of Ktunaxa Nation and Secwepemc Territory in British Columbia\, at the doorstep of five Canadian national parks. Cella has worked as a professor\, educator\, and researcher at universities such as the University of the Fraser Valley\, where she also worked to advance Indigenization in post-secondary education and was awarded Professor Emeritus in 2024. While she has previously published academic articles and book chapters\, 404 Years is her first book. In addition to writing\, Cella enjoys printmaking\, cross-country skiing\, and road travel\, and she is also a member of the Bahá’í Faith. Book club\, interactive maps\, and other additional resources available through the author’s website 404years-thebook.com.
URL:https://artsconnect.ing/artscalendar/writers-respond-cella-anne-author-talk-and-book-signing/
LOCATION:Western Sky Books\, 2132-2850 Shaughnessy St.\, Port Coquitlam\, BC\, V3C 6K5\, Canada
CATEGORIES:Literary Arts
ATTACH;FMTTYPE=image/webp:https://artsconnect.ing/wp-content/uploads/2025/09/Cym_fKWGVIVa.webp
ORGANIZER;CN="Western Sky Books":MAILTO:info@westernskybooks.com
END:VEVENT
BEGIN:VEVENT
DTSTART;TZID=America/Vancouver:20250910T190000
DTEND;TZID=America/Vancouver:20250910T203000
DTSTAMP:20260424T195656
CREATED:20250910T195526Z
LAST-MODIFIED:20250910T195526Z
UID:10000497-1757530800-1757536200@artsconnect.ing
SUMMARY:Writers in our Midst #28
DESCRIPTION:Reminder that tonight is Writers in our Midst at the Port Moody Library with a special surprise guest: Mallee Stanley. \nAlso presenting will be Wordsmith members Krista Wallace\, Gisela Woldenga\, Carmy Stubbs\, Wendy Hawkin\, Nargis Abraham\, and Nancy McNeil. \nI’ve called it Ladies’ Night\, because all the presenters are female. They have free rein to read what they like. Because it’s their night. \nPlease come out and support your fellow Wordsmiths.
URL:https://artsconnect.ing/artscalendar/writers-in-our-midst-28/
LOCATION:Port Moody Public Library\, 100 Newport Drive\, Port Moody\, BC\, V3H 5C3\, Canada
CATEGORIES:Literary Arts
ATTACH;FMTTYPE=image/webp:https://artsconnect.ing/wp-content/uploads/2025/09/545663296_10163786015535539_1170838796926783409_n.webp
END:VEVENT
BEGIN:VEVENT
DTSTART;TZID=America/Vancouver:20250917T150000
DTEND;TZID=America/Vancouver:20250917T170000
DTSTAMP:20260424T195656
CREATED:20250707T203749Z
LAST-MODIFIED:20250707T204129Z
UID:10000229-1758121200-1758128400@artsconnect.ing
SUMMARY:Silent Book Club
DESCRIPTION:Are you interested in attending a book club\, but don’t want to commit to the conversation? Want to enjoy some choice books in like-minded company? Join us out in the community at Ibex Cafe + Kitchen for tasty book choices and even-tastier food! \nNo registration required; just drop in! \n3:00–5:00 pm | Ibex Café (3537 Princeton Ave.)\nJuly 23rd\, August 20th\, September 17th\nFor more info\, visit: https://buff.ly/s2ijS42
URL:https://artsconnect.ing/artscalendar/silent-book-club/2025-09-17/
LOCATION:Ibex Cafe + Kitchen\, 3537 Princeton Avenue\, Coquitlam\, BC\, V3E 0K3\, Canada
CATEGORIES:Literary Arts
ATTACH;FMTTYPE=image/webp:https://artsconnect.ing/wp-content/uploads/2025/07/517124034_1183580840462502_522845325998463964_n.webp
ORGANIZER;CN="Coquitlam Public Library - The City Centre Branch":MAILTO:https://www.coqlibrary.ca/about-us/contact-us
END:VEVENT
BEGIN:VEVENT
DTSTART;TZID=America/Vancouver:20250923T110000
DTEND;TZID=America/Vancouver:20250923T113000
DTSTAMP:20260424T195656
CREATED:20250815T172254Z
LAST-MODIFIED:20250815T172254Z
UID:10000409-1758625200-1758627000@artsconnect.ing
SUMMARY:Culture Days Storytime
DESCRIPTION:Celebrate culture and the arts with a special storytime. Children and caregivers will enjoy interactive stories\, songs\, rhymes\, and more. \nAges 2-5. Drop in.
URL:https://artsconnect.ing/artscalendar/culture-days-storytime/2025-09-23/
LOCATION:Terry Fox Library\, 2150 Wilson Avenue\, Port Coquitlam\, BC\, V3C 6J5\, Canada
CATEGORIES:Literary Arts
ATTACH;FMTTYPE=image/webp:https://artsconnect.ing/wp-content/uploads/2025/08/fvrl-culture-days-2025-600x400-1.webp
ORGANIZER;CN="Fraser Valley Regional Library":MAILTO:https://www.fvrl.bc.ca/contact-us
END:VEVENT
BEGIN:VEVENT
DTSTART;TZID=America/Vancouver:20250924T183000
DTEND;TZID=America/Vancouver:20250924T200000
DTSTAMP:20260424T195656
CREATED:20250815T173032Z
LAST-MODIFIED:20250815T173032Z
UID:10000411-1758738600-1758744000@artsconnect.ing
SUMMARY:White Pines Local Author Gala
DESCRIPTION:Join us for a celebration of the newest additions to the Port Moody Public Library’s White Pines Local Author Collection. You’ll get the chance to mingle with the authors\, hear about their work\, and maybe even hear some of their writing.
URL:https://artsconnect.ing/artscalendar/white-pines-local-author-gala/
LOCATION:Inlet Theatre\, 100 Newport Drive\, Port Moody\, BC\, V3H 5C9\, Canada
CATEGORIES:Literary Arts
ATTACH;FMTTYPE=image/webp:https://artsconnect.ing/wp-content/uploads/2025/08/whitepineslogogreen_1.webp
ORGANIZER;CN="Port Moody Public Library":MAILTO:https://forms.portmoodylibrary.ca/Contact-Us-Online
END:VEVENT
BEGIN:VEVENT
DTSTART;TZID=America/Vancouver:20250927T140000
DTEND;TZID=America/Vancouver:20250927T150000
DTSTAMP:20260424T195656
CREATED:20250815T171920Z
LAST-MODIFIED:20250815T171920Z
UID:10000408-1758981600-1758985200@artsconnect.ing
SUMMARY:Carnaval in September Storytime & Craft
DESCRIPTION:Oi\, amigos! Join us for a fun Brazilian Carnaval Storytime and Craft. Wear your brightest\, colourful outfits. Listen to a story and enjoy some Brazilian music while creating a Carnaval craft. \nRegister on the library website starting August 30.
URL:https://artsconnect.ing/artscalendar/carnaval-in-september-storytime-craft/
LOCATION:Terry Fox Library\, 2150 Wilson Avenue\, Port Coquitlam\, BC\, V3C 6J5\, Canada
CATEGORIES:Arts and Crafts,Literary Arts
ATTACH;FMTTYPE=image/webp:https://artsconnect.ing/wp-content/uploads/2025/08/fvrl-culture-days-2025-600x400-1.webp
ORGANIZER;CN="Fraser Valley Regional Library":MAILTO:https://www.fvrl.bc.ca/contact-us
END:VEVENT
END:VCALENDAR