BEGIN:VCALENDAR
VERSION:2.0
PRODID:-//ArtsConnect - ECPv6.15.20//NONSGML v1.0//EN
CALSCALE:GREGORIAN
METHOD:PUBLISH
X-WR-CALNAME:ArtsConnect
X-ORIGINAL-URL:https://artsconnect.ing
X-WR-CALDESC:Events for ArtsConnect
REFRESH-INTERVAL;VALUE=DURATION:PT1H
X-Robots-Tag:noindex
X-PUBLISHED-TTL:PT1H
BEGIN:VTIMEZONE
TZID:America/Vancouver
BEGIN:DAYLIGHT
TZOFFSETFROM:-0800
TZOFFSETTO:-0700
TZNAME:PDT
DTSTART:20250309T100000
END:DAYLIGHT
BEGIN:STANDARD
TZOFFSETFROM:-0700
TZOFFSETTO:-0800
TZNAME:PST
DTSTART:20251102T090000
END:STANDARD
BEGIN:DAYLIGHT
TZOFFSETFROM:-0800
TZOFFSETTO:-0700
TZNAME:PDT
DTSTART:20260308T100000
END:DAYLIGHT
BEGIN:STANDARD
TZOFFSETFROM:-0700
TZOFFSETTO:-0800
TZNAME:PST
DTSTART:20261101T090000
END:STANDARD
BEGIN:DAYLIGHT
TZOFFSETFROM:-0800
TZOFFSETTO:-0700
TZNAME:PDT
DTSTART:20270314T100000
END:DAYLIGHT
BEGIN:STANDARD
TZOFFSETFROM:-0700
TZOFFSETTO:-0800
TZNAME:PST
DTSTART:20271107T090000
END:STANDARD
END:VTIMEZONE
BEGIN:VEVENT
DTSTART;TZID=America/Vancouver:20260304T183000
DTEND;TZID=America/Vancouver:20260304T200000
DTSTAMP:20260423T155053
CREATED:20260223T163931Z
LAST-MODIFIED:20260223T163931Z
UID:10001102-1772649000-1772654400@artsconnect.ing
SUMMARY:Artful Pints: Zine-Making
DESCRIPTION:Join us for Artful Pints – a monthly art night hosted by PoMoArts! Each month features a different hands-on art project led by local artists. Whether you’re a seasoned creative or just in it for the fun\, you’ll leave with something uniquely yours – and maybe a new favorite beer\, too. All materials provided. Just bring yourself and your imagination! Hosted the first Wednesday of every month at The Parkside Brewery. \nBecome a self-published writer and illustrator in this Zine-Making Workshop! In this workshop\, you’ll design and illustrate your own mini zine—from cover to content—and leave with a one-of-a-kind booklet to share or keep! This workshop will be led by local illustrator\, Camila Szefler. All supplies are included\, however you can bring any add-ons or inspiration you’d like from home. Drinks and snacks available to buy at Parkside Brewery. \nAbout the Instructor\nCamila Szefler is Canadian-Polish illustrator\, printmaker\, mixed media artist with a BFA from ECUAD who is also a current board member of Eart Hand Gleaners Society in Vancouver. She enjoys documenting the everyday\, wherever that might be\, inher small hand bound sketchbook with a captivation to drawing landscapes\, patterns and plants. \nFollow her on Instagram: @camila.sze
URL:https://artsconnect.ing/artscalendar/artful-pints-zine-making/
LOCATION:Parkside Brewery\, 2731 Murray Street\, Port Moody\, BC\, V3H 1X1\, Canada
CATEGORIES:Arts and Crafts,Literary Arts
ATTACH;FMTTYPE=image/webp:https://artsconnect.ing/wp-content/uploads/2026/02/68f17f7047d323280bc187ef_2025-Parkside-Brewery-Zine-Making-Workshop-Webbanner.webp
ORGANIZER;CN="PoMoArts":MAILTO:info@pomoarts.ca
END:VEVENT
BEGIN:VEVENT
DTSTART;TZID=America/Vancouver:20260311T190000
DTEND;TZID=America/Vancouver:20260311T220000
DTSTAMP:20260423T155053
CREATED:20260211T185536Z
LAST-MODIFIED:20260211T191327Z
UID:10001047-1773255600-1773266400@artsconnect.ing
SUMMARY:Port Coquitlam Writers Group - Drop In
DESCRIPTION:Engage with other local writers through prompts\, readings\, and brainstorming\, and discover a safe space to work on your craft. \n\n\n\n\nDo you love to write or feel like you have poetry or stories just waiting to come out? Come to the Port Coquitlam Writers Group at the Gathering Place on the 2nd and 4th Wednesday of every month from 6:30-8pm. Engage with other local writers through prompts\, readings\, and brainstorming\, and discover a safe space to work on your craft. Open to beginning\, emerging\, or established wordsmiths\, 16 and older; attending the first meeting is free\, then you can purchase a Poco Arts Council annual membership for $10. Bring a pen and paper or laptop and your creativity!
URL:https://artsconnect.ing/artscalendar/port-coquitlam-writers-group-drop-in/2026-03-11/
LOCATION:Leigh Square\, 2253 Leigh Square Pl\, Port Coquitlam\, BC\, V3C 3B8\, Canada
CATEGORIES:Literary Arts
ATTACH;FMTTYPE=image/webp:https://artsconnect.ing/wp-content/uploads/2026/02/Port-Coquitlam-Writers-Group-Drop-In.webp
ORGANIZER;CN="Poco Arts Council":MAILTO:https://pocoarts.wordpress.com/contact/
END:VEVENT
BEGIN:VEVENT
DTSTART;TZID=America/Vancouver:20260312T140000
DTEND;TZID=America/Vancouver:20260312T160000
DTSTAMP:20260423T155053
CREATED:20260225T140518Z
LAST-MODIFIED:20260225T140518Z
UID:10001108-1773324000-1773331200@artsconnect.ing
SUMMARY:Museum Book Club
DESCRIPTION:On the second Thursday of each month from 2 PM – 4 PM\, the museum book club meets to converse over a new book in our 1909 parlour. Stop by to make friends\, connect with community\, and engage in some light-hearted literary discussion. Here is the reading list for the following months: \nJanuary: Small Things Like These by Claire Keegan\nFebruary: Three Days in June by Anne Tyler\nMarch: The Dictionary of Last Words by Pup Williams\nApril: Intermezzo by Sally Rooney\nMay: Wide Wide Sea by Hampton sides\nJune: Spoon Stealer by Lesley crew \nFree. No registration required. Ages 18+. \nPlease note: Attendees are responsible for acquiring their own books. On occasion\, library books may be available at Mackin House Museum for the upcoming months reading.
URL:https://artsconnect.ing/artscalendar/museum-book-club-2/
LOCATION:Mackin House\, 1116 Brunette Avenue\, Coquitlam\, BC\, V3K 1G2\, Canada
CATEGORIES:Discussion,Literary Arts
ATTACH;FMTTYPE=image/webp:https://artsconnect.ing/wp-content/uploads/2026/02/Bookclub-Websiteimage.webp
ORGANIZER;CN="Coquitlam Heritage":MAILTO:info@coquitlamheritage.ca
END:VEVENT
BEGIN:VEVENT
DTSTART;TZID=America/Vancouver:20260315T235900
DTEND;TZID=America/Vancouver:20260315T235900
DTSTAMP:20260423T155053
CREATED:20260226T180538Z
LAST-MODIFIED:20260226T180538Z
UID:10001120-1773619140-1773619140@artsconnect.ing
SUMMARY:Art Out Side 2026: Call for Artists: Deadline
DESCRIPTION:Calling local artists to transform Port Moody through the arts this summer! Applications are now open to submit your proposal 💥 \nArt Out Side 2026 is a city-wide multidisciplinary arts festival taking place August 7–16. From waterfronts to commercial hubs\, alleyways to park benches\, the festival invites bold artistic voices to animate public space and reimagine how and where art is experienced. \nCurated by PoMoArts with the support of the City of Port Moody. \nWe invite artists of all disciplines to propose engaging works in visual and media arts\, performance\, poetry\, sound\, interactive installations\, film\, sculpture\, dance\, and other creative forms: \n🎥 Solo or group-led projects that meaningfully transform public space\n🎸 One-day or one-night performances at designated festival sites\n🧑‍🎨 Temporary installations (short-term or multi-day)\n🎭 Large-scale activations (mass movement\, participatory art\, immersive environments\, collective performance)\n🏘️ Lead muralists for pre-approved sites (teams welcome)\n🎤 Roaming performers\, pop-up artists\, and buskers animating designated festival zones \nApply now by March 15\, 2026 at https://www.pomoarts.ca/artoutside
URL:https://artsconnect.ing/artscalendar/art-out-side-2026-call-for-artists-deadline/
LOCATION:PoMoArts\, 2425 St. Johns Street\, Port Moody\, BC\, V3H 2B2\, Canada
CATEGORIES:Dance,Festival,Literary Arts,Music,Photography,Poetry,Visual Arts
ATTACH;FMTTYPE=image/webp:https://artsconnect.ing/wp-content/uploads/2026/02/633659077_1350232077143296_8366537446944865181_n.webp
ORGANIZER;CN="PoMoArts":MAILTO:info@pomoarts.ca
END:VEVENT
BEGIN:VEVENT
DTSTART;TZID=America/Vancouver:20260316T103000
DTEND;TZID=America/Vancouver:20260316T120000
DTSTAMP:20260423T155053
CREATED:20260306T185812Z
LAST-MODIFIED:20260306T185950Z
UID:10001173-1773657000-1773662400@artsconnect.ing
SUMMARY:Heritage Writer's Group
DESCRIPTION:Start capturing your life story for family and posterity! No preparation required; just bring a pen and paper\, or your laptop. \nAdmission is free. No registration required.
URL:https://artsconnect.ing/artscalendar/heritage-writers-group-2/
LOCATION:PoCo Heritage Museum and Achives\, 2248 McAllister Ave #150\, Port Coquitlam\, BC\, V3C 2A5\, Canada
CATEGORIES:Literary Arts
ATTACH;FMTTYPE=image/webp:https://artsconnect.ing/wp-content/uploads/2026/03/PoCo_Heritage_Transparent_Resized.webp
ORGANIZER;CN="PoCo Heritage Museum and Archives":MAILTO:info@pocoheritage.org
END:VEVENT
BEGIN:VEVENT
DTSTART;TZID=America/Vancouver:20260318T140000
DTEND;TZID=America/Vancouver:20260318T160000
DTSTAMP:20260423T155053
CREATED:20260216T182049Z
LAST-MODIFIED:20260216T182049Z
UID:10001081-1773842400-1773849600@artsconnect.ing
SUMMARY:Silent Book Club at the Beanery Coffeehouse & Eatery
DESCRIPTION:Join us out in the community at the Beanery Coffeehouse & Eatery for tasty book choices and tastier food! This is an in person program located at the BEANERY. \nEver been interested in attending a book club but don’t want to commit to the conversation? What to enjoy some choice books in like minded company? Like tasty food and drinks? Come to Beanery Coffeehouse and Cafe to grab a book from a specially themed library selection while eating and drinking a treat! Each of the featured Wednesdays a librarian will bring a curated mini collection to pick from\, and other library resources to ask questions about and enjoy. Grab a book\, buy a snack\, and relax in the beautiful cafe surroundings. Come support both your local library and a local business! \nThis program will be held at BEANERY COFFEEHOUSE AND EATERY at 101-2591 Panorama Drive Coquitlam\, BC V3E 2Y6. See cafe details here: https://beanery.ca/ \nAll ages are welcome at the cafe but book collections will be mostly adult collections with a limited selection of children’s materials. Anyone can (and should!) swing by to peruse but table space will be limited to patrons who purchase items from the cafe. This program is weather dependent and will follow cafe or library closures in inclement weather.
URL:https://artsconnect.ing/artscalendar/silent-book-clubsilent-book-club-at-the-beanery-coffeehouse-eatery/
LOCATION:Beanery Coffeehouse & Eatery\, 2591 Panorama Dr #101\, Coquitlam\, BC\, V3E 2Y6\, Canada
CATEGORIES:Literary Arts
ATTACH;FMTTYPE=image/webp:https://artsconnect.ing/wp-content/uploads/2026/02/the_beanery_deserts.webp
ORGANIZER;CN="Coquitlam Public Library - The City Centre Branch":MAILTO:https://www.coqlibrary.ca/about-us/contact-us
END:VEVENT
BEGIN:VEVENT
DTSTART;TZID=America/Vancouver:20260325T190000
DTEND;TZID=America/Vancouver:20260325T220000
DTSTAMP:20260423T155053
CREATED:20260211T185536Z
LAST-MODIFIED:20260211T191327Z
UID:10001059-1774465200-1774476000@artsconnect.ing
SUMMARY:Port Coquitlam Writers Group - Drop In
DESCRIPTION:Engage with other local writers through prompts\, readings\, and brainstorming\, and discover a safe space to work on your craft. \n\n\n\n\nDo you love to write or feel like you have poetry or stories just waiting to come out? Come to the Port Coquitlam Writers Group at the Gathering Place on the 2nd and 4th Wednesday of every month from 6:30-8pm. Engage with other local writers through prompts\, readings\, and brainstorming\, and discover a safe space to work on your craft. Open to beginning\, emerging\, or established wordsmiths\, 16 and older; attending the first meeting is free\, then you can purchase a Poco Arts Council annual membership for $10. Bring a pen and paper or laptop and your creativity!
URL:https://artsconnect.ing/artscalendar/port-coquitlam-writers-group-drop-in/2026-03-25/
LOCATION:Leigh Square\, 2253 Leigh Square Pl\, Port Coquitlam\, BC\, V3C 3B8\, Canada
CATEGORIES:Literary Arts
ATTACH;FMTTYPE=image/webp:https://artsconnect.ing/wp-content/uploads/2026/02/Port-Coquitlam-Writers-Group-Drop-In.webp
ORGANIZER;CN="Poco Arts Council":MAILTO:https://pocoarts.wordpress.com/contact/
END:VEVENT
BEGIN:VEVENT
DTSTART;TZID=America/Vancouver:20260327T180000
DTEND;TZID=America/Vancouver:20260327T200000
DTSTAMP:20260423T155053
CREATED:20260129T172131Z
LAST-MODIFIED:20260129T172131Z
UID:10000962-1774634400-1774641600@artsconnect.ing
SUMMARY:The Culture Club
DESCRIPTION:Join us each month as we discuss a novel\, comic\, movie\, poem\, or other media each rooted in themes of personal cultural heritage\, anti-racism\, and diversity. If you’re looking for a fun way to spend Friday evenings\, connect with community\, or read a more unique array of books\, the Culture Club may be perfect for you! \nHere’s our upcoming discussion line up: \nFebruary: The Sleeping Car Porter by Suzette Mayr (book – pick up at museum)\nMarch: Women Talking by Miriam Towes (book – pick up at museum) AND/OR Women Talking by Sarah Polley (film – available on Prime)\nApril: Beans by Tracey Deer (film – available for free on CBC Gem)\nMay: Denison Avenue by Christina Wong (book – pick up at museum)\nJune: Queer poetry club (we will link to recommendations of LGBTQ poets and people can also come with their own favourite) \nLast Friday of every month from 6 PM to 8 PM.\nRSVP appreciated but not required.\nFree. Ages 18+.\n1116 Brunette Avenue\, Coquitlam.
URL:https://artsconnect.ing/artscalendar/the-culture-club/2026-03-27/
LOCATION:Mackin House\, 1116 Brunette Avenue\, Coquitlam\, BC\, V3K 1G2\, Canada
CATEGORIES:Discussion,Film,Literary Arts,Poetry
ATTACH;FMTTYPE=image/webp:https://artsconnect.ing/wp-content/uploads/2026/01/TheCultureClub-WebImage.webp
ORGANIZER;CN="Coquitlam Heritage":MAILTO:info@coquitlamheritage.ca
END:VEVENT
BEGIN:VEVENT
DTSTART;TZID=America/Vancouver:20260331T183000
DTEND;TZID=America/Vancouver:20260331T183000
DTSTAMP:20260423T155053
CREATED:20260217T232444Z
LAST-MODIFIED:20260330T205438Z
UID:10001090-1774981800-1774981800@artsconnect.ing
SUMMARY:Words in the Burbs Farewell Gathering
DESCRIPTION:Hi friends! As many of you know\, we announced recently that the time had come to say goodbye. Some folks have asked if this is the end-end-for-sure-for-sure-end … the truth is\, we don’t know! We have some ideas and possibilities brewing in our heads for WIB in the future – possible evolutions or new creations. But what we DO know is that the time has come to say goodbye to the reading series as it has existed for the last eight years  \nSo\, we hope you’ll join us to come say goodbye. We’re not totally sure what our final gathering will look like but we plan to have cake. Save the date for March 31\, at 6:30 pm. (Note: we usually start at 7 pm – this is an EARLIER START TIME!) \n(If you’re on the North Shore: did you know that a WIB: North Shore edition started up last fall? They’ll be having another reading this spring. I’m sure we’ll post details when the time comes!)
URL:https://artsconnect.ing/artscalendar/words-in-the-burbs-farewell-gatheringfarewell-gathering/
LOCATION:Western Sky Books\, 2132-2850 Shaughnessy St.\, Port Coquitlam\, BC\, V3C 6K5\, Canada
CATEGORIES:Literary Arts
ATTACH;FMTTYPE=image/webp:https://artsconnect.ing/wp-content/uploads/2026/02/636808816_1203762068409527_9058541926421370662_n.webp
END:VEVENT
END:VCALENDAR