BEGIN:VCALENDAR
VERSION:2.0
PRODID:-//ArtsConnect - ECPv6.15.20//NONSGML v1.0//EN
CALSCALE:GREGORIAN
METHOD:PUBLISH
X-ORIGINAL-URL:https://artsconnect.ing
X-WR-CALDESC:Events for ArtsConnect
REFRESH-INTERVAL;VALUE=DURATION:PT1H
X-Robots-Tag:noindex
X-PUBLISHED-TTL:PT1H
BEGIN:VTIMEZONE
TZID:America/Vancouver
BEGIN:DAYLIGHT
TZOFFSETFROM:-0800
TZOFFSETTO:-0700
TZNAME:PDT
DTSTART:20240310T100000
END:DAYLIGHT
BEGIN:STANDARD
TZOFFSETFROM:-0700
TZOFFSETTO:-0800
TZNAME:PST
DTSTART:20241103T090000
END:STANDARD
BEGIN:DAYLIGHT
TZOFFSETFROM:-0800
TZOFFSETTO:-0700
TZNAME:PDT
DTSTART:20250309T100000
END:DAYLIGHT
BEGIN:STANDARD
TZOFFSETFROM:-0700
TZOFFSETTO:-0800
TZNAME:PST
DTSTART:20251102T090000
END:STANDARD
BEGIN:DAYLIGHT
TZOFFSETFROM:-0800
TZOFFSETTO:-0700
TZNAME:PDT
DTSTART:20260308T100000
END:DAYLIGHT
BEGIN:STANDARD
TZOFFSETFROM:-0700
TZOFFSETTO:-0800
TZNAME:PST
DTSTART:20261101T090000
END:STANDARD
END:VTIMEZONE
BEGIN:VEVENT
DTSTART;TZID=America/Vancouver:20250411T170000
DTEND;TZID=America/Vancouver:20250411T203000
DTSTAMP:20260425T055510
CREATED:20250404T173522Z
LAST-MODIFIED:20250404T173522Z
UID:10000039-1744390800-1744403400@artsconnect.ing
SUMMARY:After Hours Poetry Night
DESCRIPTION:We’ll have a mocktail bar and appetizers for mix and mingle social time. \nAt the open mic hour we encourage all poets\, professional or amateur to share a poem\, we’ll also have a few classics ready to try. \nConcluding the night will be a few fantastic performances from local poets: Aidan Chafe\, Aaron Hunter and Samantha Nock. \nEvent Schedule: \n5:00-6:00 Mocktail hour and appetizers\n6:00-7:00 Open Mic\n7:00-8:00 Poet performances\n8:00-8:30 Closing\nRegistration required. \nThis will be an after regular library hours event\, limited entry by staff member only\, no regular library services available. Entry and exit from library will be limited to the main doors off Northern Way. \nAges 12+\, no children. \nFor more information\, please contact ask@coqlibrary.ca
URL:https://artsconnect.ing/artscalendar/after-hours-poetry-night/
LOCATION:Coquitlam Public Library – The City Centre Branch\, 1169 Pinetree Way\, Coquitlam\, BC\, V3B 0Y1\, Canada
CATEGORIES:Literary Arts
ATTACH;FMTTYPE=image/jpeg:https://artsconnect.ing/wp-content/uploads/2025/04/486498978_1095583265928927_6829386170453166232_n.jpg
ORGANIZER;CN="Coquitlam Public Library - The City Centre Branch":MAILTO:https://www.coqlibrary.ca/about-us/contact-us
END:VEVENT
END:VCALENDAR