BEGIN:VCALENDAR
VERSION:2.0
PRODID:-//ArtsConnect - ECPv6.15.20//NONSGML v1.0//EN
CALSCALE:GREGORIAN
METHOD:PUBLISH
X-ORIGINAL-URL:https://artsconnect.ing
X-WR-CALDESC:Events for ArtsConnect
REFRESH-INTERVAL;VALUE=DURATION:PT1H
X-Robots-Tag:noindex
X-PUBLISHED-TTL:PT1H
BEGIN:VTIMEZONE
TZID:America/Vancouver
BEGIN:DAYLIGHT
TZOFFSETFROM:-0800
TZOFFSETTO:-0700
TZNAME:PDT
DTSTART:20240310T100000
END:DAYLIGHT
BEGIN:STANDARD
TZOFFSETFROM:-0700
TZOFFSETTO:-0800
TZNAME:PST
DTSTART:20241103T090000
END:STANDARD
BEGIN:DAYLIGHT
TZOFFSETFROM:-0800
TZOFFSETTO:-0700
TZNAME:PDT
DTSTART:20250309T100000
END:DAYLIGHT
BEGIN:STANDARD
TZOFFSETFROM:-0700
TZOFFSETTO:-0800
TZNAME:PST
DTSTART:20251102T090000
END:STANDARD
BEGIN:DAYLIGHT
TZOFFSETFROM:-0800
TZOFFSETTO:-0700
TZNAME:PDT
DTSTART:20260308T100000
END:DAYLIGHT
BEGIN:STANDARD
TZOFFSETFROM:-0700
TZOFFSETTO:-0800
TZNAME:PST
DTSTART:20261101T090000
END:STANDARD
END:VTIMEZONE
BEGIN:VEVENT
DTSTART;TZID=America/Vancouver:20250424T190000
DTEND;TZID=America/Vancouver:20250424T210000
DTSTAMP:20260425T090325
CREATED:20250423T174600Z
LAST-MODIFIED:20250423T174600Z
UID:10000055-1745521200-1745528400@artsconnect.ing
SUMMARY:Words in the Burbs - Spring Reading
DESCRIPTION:Join us for our Spring reading at Western Sky Books on Thursday\, April 24th at 7 pm. We’ll have five great writers sharing their work: Nikki Hillman\, W.L. Hawkin\, Goran Yerkovich\, Taryn Hubbard and Loghan Paylor. Check out the bios in the discussion. See you there!
URL:https://artsconnect.ing/artscalendar/words-in-the-burbs-spring-reading/
LOCATION:Western Sky Books\, 2132-2850 Shaughnessy St.\, Port Coquitlam\, BC\, V3C 6K5\, Canada
CATEGORIES:Literary Arts
ATTACH;FMTTYPE=image/jpeg:https://artsconnect.ing/wp-content/uploads/2025/04/480965304_10235451009992918_4497473145422369384_n.jpg
ORGANIZER;CN="Western Sky Books":MAILTO:info@westernskybooks.com
END:VEVENT
END:VCALENDAR