BEGIN:VCALENDAR
VERSION:2.0
PRODID:-//ArtsConnect - ECPv6.15.20//NONSGML v1.0//EN
CALSCALE:GREGORIAN
METHOD:PUBLISH
X-WR-CALNAME:ArtsConnect
X-ORIGINAL-URL:https://artsconnect.ing
X-WR-CALDESC:Events for ArtsConnect
REFRESH-INTERVAL;VALUE=DURATION:PT1H
X-Robots-Tag:noindex
X-PUBLISHED-TTL:PT1H
BEGIN:VTIMEZONE
TZID:America/Vancouver
BEGIN:DAYLIGHT
TZOFFSETFROM:-0800
TZOFFSETTO:-0700
TZNAME:PDT
DTSTART:20240310T100000
END:DAYLIGHT
BEGIN:STANDARD
TZOFFSETFROM:-0700
TZOFFSETTO:-0800
TZNAME:PST
DTSTART:20241103T090000
END:STANDARD
BEGIN:DAYLIGHT
TZOFFSETFROM:-0800
TZOFFSETTO:-0700
TZNAME:PDT
DTSTART:20250309T100000
END:DAYLIGHT
BEGIN:STANDARD
TZOFFSETFROM:-0700
TZOFFSETTO:-0800
TZNAME:PST
DTSTART:20251102T090000
END:STANDARD
BEGIN:DAYLIGHT
TZOFFSETFROM:-0800
TZOFFSETTO:-0700
TZNAME:PDT
DTSTART:20260308T100000
END:DAYLIGHT
BEGIN:STANDARD
TZOFFSETFROM:-0700
TZOFFSETTO:-0800
TZNAME:PST
DTSTART:20261101T090000
END:STANDARD
END:VTIMEZONE
BEGIN:VEVENT
DTSTART;TZID=America/Vancouver:20250428T103000
DTEND;TZID=America/Vancouver:20250428T120000
DTSTAMP:20260425T055227
CREATED:20250410T162125Z
LAST-MODIFIED:20250410T162125Z
UID:10000045-1745836200-1745841600@artsconnect.ing
SUMMARY:Heritage Writer's Group
DESCRIPTION:April 28\, 2025  10:30 am – 12:00 pm\nPoCo Heritage Museum and Archives\, 2248 McAllister Ave #150\, Port Coquitlam\, BC V3C 2A5\, Canada \n\n\nStart capturing your life story for family and posterity! No preparation required; just bring a pen and paper\, or your laptop. \nAdmission is free. No registration required.
URL:https://artsconnect.ing/artscalendar/heritage-writers-group/
LOCATION:PoCo Heritage Museum and Achives\, 2248 McAllister Ave #150\, Port Coquitlam\, BC\, V3C 2A5\, Canada
CATEGORIES:Literary Arts
ATTACH;FMTTYPE=image/png:https://artsconnect.ing/wp-content/uploads/2025/04/PoCo_Heritage_Transparent_Copy.png
ORGANIZER;CN="PoCo Heritage Museum and Archives":MAILTO:info@pocoheritage.org
END:VEVENT
END:VCALENDAR