BEGIN:VCALENDAR
VERSION:2.0
PRODID:-//ArtsConnect - ECPv6.15.20//NONSGML v1.0//EN
CALSCALE:GREGORIAN
METHOD:PUBLISH
X-ORIGINAL-URL:https://artsconnect.ing
X-WR-CALDESC:Events for ArtsConnect
REFRESH-INTERVAL;VALUE=DURATION:PT1H
X-Robots-Tag:noindex
X-PUBLISHED-TTL:PT1H
BEGIN:VTIMEZONE
TZID:America/Vancouver
BEGIN:DAYLIGHT
TZOFFSETFROM:-0800
TZOFFSETTO:-0700
TZNAME:PDT
DTSTART:20240310T100000
END:DAYLIGHT
BEGIN:STANDARD
TZOFFSETFROM:-0700
TZOFFSETTO:-0800
TZNAME:PST
DTSTART:20241103T090000
END:STANDARD
BEGIN:DAYLIGHT
TZOFFSETFROM:-0800
TZOFFSETTO:-0700
TZNAME:PDT
DTSTART:20250309T100000
END:DAYLIGHT
BEGIN:STANDARD
TZOFFSETFROM:-0700
TZOFFSETTO:-0800
TZNAME:PST
DTSTART:20251102T090000
END:STANDARD
BEGIN:DAYLIGHT
TZOFFSETFROM:-0800
TZOFFSETTO:-0700
TZNAME:PDT
DTSTART:20260308T100000
END:DAYLIGHT
BEGIN:STANDARD
TZOFFSETFROM:-0700
TZOFFSETTO:-0800
TZNAME:PST
DTSTART:20261101T090000
END:STANDARD
END:VTIMEZONE
BEGIN:VEVENT
DTSTART;TZID=America/Vancouver:20250506T180000
DTEND;TZID=America/Vancouver:20250506T180000
DTSTAMP:20260425T041857
CREATED:20250423T163214Z
LAST-MODIFIED:20250423T163214Z
UID:10000053-1746554400-1746554400@artsconnect.ing
SUMMARY:Tri Cities Poetry - Chapbook Launch Party
DESCRIPTION:Our show on May 6th is going to be a chapbook launch party! All the poets in our book will have 5 minute time slots to share their work. Come join us for a night of surprises\, fun and great poetry.
URL:https://artsconnect.ing/artscalendar/tri-cities-poetry-chapbook-launch-party/
LOCATION:Brave Brewing Company\, 2617 Murray Street\, Port Moody\, BC\, V3H 1X1\, Canada
CATEGORIES:Literary Arts
ATTACH;FMTTYPE=image/jpeg:https://artsconnect.ing/wp-content/uploads/2025/04/491465744_17907031428108498_8590437874083388749_n.jpg
ORGANIZER;CN="Tri Cities Poetry":MAILTO:tricitiespoetry@gmail.com
END:VEVENT
END:VCALENDAR