BEGIN:VCALENDAR
VERSION:2.0
PRODID:-//ArtsConnect - ECPv6.15.20//NONSGML v1.0//EN
CALSCALE:GREGORIAN
METHOD:PUBLISH
X-ORIGINAL-URL:https://artsconnect.ing
X-WR-CALDESC:Events for ArtsConnect
REFRESH-INTERVAL;VALUE=DURATION:PT1H
X-Robots-Tag:noindex
X-PUBLISHED-TTL:PT1H
BEGIN:VTIMEZONE
TZID:America/Vancouver
BEGIN:DAYLIGHT
TZOFFSETFROM:-0800
TZOFFSETTO:-0700
TZNAME:PDT
DTSTART:20240310T100000
END:DAYLIGHT
BEGIN:STANDARD
TZOFFSETFROM:-0700
TZOFFSETTO:-0800
TZNAME:PST
DTSTART:20241103T090000
END:STANDARD
BEGIN:DAYLIGHT
TZOFFSETFROM:-0800
TZOFFSETTO:-0700
TZNAME:PDT
DTSTART:20250309T100000
END:DAYLIGHT
BEGIN:STANDARD
TZOFFSETFROM:-0700
TZOFFSETTO:-0800
TZNAME:PST
DTSTART:20251102T090000
END:STANDARD
BEGIN:DAYLIGHT
TZOFFSETFROM:-0800
TZOFFSETTO:-0700
TZNAME:PDT
DTSTART:20260308T100000
END:DAYLIGHT
BEGIN:STANDARD
TZOFFSETFROM:-0700
TZOFFSETTO:-0800
TZNAME:PST
DTSTART:20261101T090000
END:STANDARD
END:VTIMEZONE
BEGIN:VEVENT
DTSTART;TZID=America/Vancouver:20250519T000000
DTEND;TZID=America/Vancouver:20250519T235959
DTSTAMP:20260425T073432
CREATED:20250429T223251Z
LAST-MODIFIED:20250429T223251Z
UID:10000064-1747612800-1747699199@artsconnect.ing
SUMMARY:Art Shuffle - Poetry Submissions: Stanzas in the Streets - Deadline May 19th
DESCRIPTION:Call for Poetry Submissions: Stanzas in the Streets \nHey poets! Got a short\, snappy\, beautiful\, or bold poem you’ve been meaning to share? Here’s your chance to get your words out into the world. \nStanzas in the Streets is a fresh new part of this year’s Art Shuffle— a 24-venue art walk filled with local art\, creativity\, and now… poetry! We’re printing selected poems and posting them all along the route for everyone to see\, read\, and love. \nSubmit a short poem (100 words max)\nMust be 18+\nKeep it all-ages friendly\nDeadline: May 19th \nSubmit your work and become part of the public art experience! \nStanzas in the Streets is presented in partnership with TriCities Poetry.\n#StanzasOnTheStreets #ArtShuffle #PoetryCall
URL:https://artsconnect.ing/artscalendar/art-shuffle-poetry-submissions-stanzas-in-the-streets-deadline-may-19th/
LOCATION:City of Port Moody\, Port Moody\, BC\, Canada
CATEGORIES:Literary Arts
ATTACH;FMTTYPE=image/jpeg:https://artsconnect.ing/wp-content/uploads/2025/04/494460687_1000622662228762_5931560627119394530_n.jpg
ORGANIZER;CN="Art Shuffle":MAILTO:artshuffle18@gmail.com
END:VEVENT
END:VCALENDAR