BEGIN:VCALENDAR
VERSION:2.0
PRODID:-//ArtsConnect - ECPv6.15.20//NONSGML v1.0//EN
CALSCALE:GREGORIAN
METHOD:PUBLISH
X-WR-CALNAME:ArtsConnect
X-ORIGINAL-URL:https://artsconnect.ing
X-WR-CALDESC:Events for ArtsConnect
REFRESH-INTERVAL;VALUE=DURATION:PT1H
X-Robots-Tag:noindex
X-PUBLISHED-TTL:PT1H
BEGIN:VTIMEZONE
TZID:America/Vancouver
BEGIN:DAYLIGHT
TZOFFSETFROM:-0800
TZOFFSETTO:-0700
TZNAME:PDT
DTSTART:20240310T100000
END:DAYLIGHT
BEGIN:STANDARD
TZOFFSETFROM:-0700
TZOFFSETTO:-0800
TZNAME:PST
DTSTART:20241103T090000
END:STANDARD
BEGIN:DAYLIGHT
TZOFFSETFROM:-0800
TZOFFSETTO:-0700
TZNAME:PDT
DTSTART:20250309T100000
END:DAYLIGHT
BEGIN:STANDARD
TZOFFSETFROM:-0700
TZOFFSETTO:-0800
TZNAME:PST
DTSTART:20251102T090000
END:STANDARD
BEGIN:DAYLIGHT
TZOFFSETFROM:-0800
TZOFFSETTO:-0700
TZNAME:PDT
DTSTART:20260308T100000
END:DAYLIGHT
BEGIN:STANDARD
TZOFFSETFROM:-0700
TZOFFSETTO:-0800
TZNAME:PST
DTSTART:20261101T090000
END:STANDARD
END:VTIMEZONE
BEGIN:VEVENT
DTSTART;TZID=America/Vancouver:20250603T173000
DTEND;TZID=America/Vancouver:20250603T173000
DTSTAMP:20260425T055224
CREATED:20250523T172335Z
LAST-MODIFIED:20250523T172335Z
UID:10000085-1748971800-1748971800@artsconnect.ing
SUMMARY:Poetry Open Mic Featuring Johnny MacRae
DESCRIPTION:Come join us on at Brave Brewing Tuesday June 3rd for this free event! Featuring Johnny Macrae! \nPoetry open mic sign up starts at 5:30\, Show starts at 6. \nJohnny MacRae (he/him) is a spoken word poet living on the unceded ancestral territories of the xʷməθkʷəy̓əm (Musqueam)\, səl̓ilwətaɁɬ (Tsleil-waututh)\, and sḵwx̱wú7mesh (Squamish) nations. A winner of regional and national slam titles\, he has toured widely as a featured performer at poetry series and arts festivals\, both solo and with collaborative acts such as 2 Dope Boys in a Cadillac\, Travelin’ Word Circus and The Dambassadors. In 2013\, he was named Poet of Honour for the Victoria Spoken Word Festival\, and in 2017\, received the Zaccheus Jackson Nyce Memorial Award.
URL:https://artsconnect.ing/artscalendar/poetry-open-mic-featuring-johnny-macrae/
LOCATION:Brave Brewing Company\, 2617 Murray Street\, Port Moody\, BC\, V3H 1X1\, Canada
CATEGORIES:Literary Arts,Poetry
ATTACH;FMTTYPE=image/jpeg:https://artsconnect.ing/wp-content/uploads/2025/05/499819605_122198700500292890_7994558918543560761_n.jpg
ORGANIZER;CN="Tri Cities Poetry":MAILTO:tricitiespoetry@gmail.com
END:VEVENT
END:VCALENDAR