BEGIN:VCALENDAR
VERSION:2.0
PRODID:-//ArtsConnect - ECPv6.15.20//NONSGML v1.0//EN
CALSCALE:GREGORIAN
METHOD:PUBLISH
X-WR-CALNAME:ArtsConnect
X-ORIGINAL-URL:https://artsconnect.ing
X-WR-CALDESC:Events for ArtsConnect
REFRESH-INTERVAL;VALUE=DURATION:PT1H
X-Robots-Tag:noindex
X-PUBLISHED-TTL:PT1H
BEGIN:VTIMEZONE
TZID:America/Vancouver
BEGIN:DAYLIGHT
TZOFFSETFROM:-0800
TZOFFSETTO:-0700
TZNAME:PDT
DTSTART:20240310T100000
END:DAYLIGHT
BEGIN:STANDARD
TZOFFSETFROM:-0700
TZOFFSETTO:-0800
TZNAME:PST
DTSTART:20241103T090000
END:STANDARD
BEGIN:DAYLIGHT
TZOFFSETFROM:-0800
TZOFFSETTO:-0700
TZNAME:PDT
DTSTART:20250309T100000
END:DAYLIGHT
BEGIN:STANDARD
TZOFFSETFROM:-0700
TZOFFSETTO:-0800
TZNAME:PST
DTSTART:20251102T090000
END:STANDARD
BEGIN:DAYLIGHT
TZOFFSETFROM:-0800
TZOFFSETTO:-0700
TZNAME:PDT
DTSTART:20260308T100000
END:DAYLIGHT
BEGIN:STANDARD
TZOFFSETFROM:-0700
TZOFFSETTO:-0800
TZNAME:PST
DTSTART:20261101T090000
END:STANDARD
END:VTIMEZONE
BEGIN:VEVENT
DTSTART;TZID=America/Vancouver:20251004T133000
DTEND;TZID=America/Vancouver:20251004T160000
DTSTAMP:20260424T200542
CREATED:20250918T133817Z
LAST-MODIFIED:20250918T134138Z
UID:10000512-1759584600-1759593600@artsconnect.ing
SUMMARY:AI & The Author: Collaboration or Competition?
DESCRIPTION:Let’s talk about AI \nSat.\, Oct 4th\, 2025\n​1:30 – 4PM\nTerry Fox Public Library in Port Coquitlam \nThis is an interactive event about the impact of AI on writing. It consists of two parts: A discussion led by panelists and an AI writing sharing forum. \nDuring the discussion session\, two of our panelists\, Cam Anderson and Tamara Gorin\, will share their experiences and insights on using AI in writing. It will be moderated by Erik D’Souza. Members of the audience can share their perspectives on AI and ask questions about it. \nFor the forum\, participants who use AI can share a piece of 50 words in their chosen genre. \nCome\, join in\, and enjoy the discussion and sharing.
URL:https://artsconnect.ing/artscalendar/ai-the-author-collaboration-or-competition/
LOCATION:Terry Fox Library\, 2150 Wilson Avenue\, Port Coquitlam\, BC\, V3C 6J5\, Canada
CATEGORIES:Discussion,Literary Arts
ATTACH;FMTTYPE=image/webp:https://artsconnect.ing/wp-content/uploads/2025/09/548720745_10163818428515539_8693167888351922400_n.webp
END:VEVENT
END:VCALENDAR