BEGIN:VCALENDAR
VERSION:2.0
PRODID:-//ArtsConnect - ECPv6.15.20//NONSGML v1.0//EN
CALSCALE:GREGORIAN
METHOD:PUBLISH
X-WR-CALNAME:ArtsConnect
X-ORIGINAL-URL:https://artsconnect.ing
X-WR-CALDESC:Events for ArtsConnect
REFRESH-INTERVAL;VALUE=DURATION:PT1H
X-Robots-Tag:noindex
X-PUBLISHED-TTL:PT1H
BEGIN:VTIMEZONE
TZID:America/Vancouver
BEGIN:DAYLIGHT
TZOFFSETFROM:-0800
TZOFFSETTO:-0700
TZNAME:PDT
DTSTART:20240310T100000
END:DAYLIGHT
BEGIN:STANDARD
TZOFFSETFROM:-0700
TZOFFSETTO:-0800
TZNAME:PST
DTSTART:20241103T090000
END:STANDARD
BEGIN:DAYLIGHT
TZOFFSETFROM:-0800
TZOFFSETTO:-0700
TZNAME:PDT
DTSTART:20250309T100000
END:DAYLIGHT
BEGIN:STANDARD
TZOFFSETFROM:-0700
TZOFFSETTO:-0800
TZNAME:PST
DTSTART:20251102T090000
END:STANDARD
BEGIN:DAYLIGHT
TZOFFSETFROM:-0800
TZOFFSETTO:-0700
TZNAME:PDT
DTSTART:20260308T100000
END:DAYLIGHT
BEGIN:STANDARD
TZOFFSETFROM:-0700
TZOFFSETTO:-0800
TZNAME:PST
DTSTART:20261101T090000
END:STANDARD
END:VTIMEZONE
BEGIN:VEVENT
DTSTART;TZID=America/Vancouver:20251128T173000
DTEND;TZID=America/Vancouver:20251128T213000
DTSTAMP:20260424T184831
CREATED:20251123T181054Z
LAST-MODIFIED:20251123T181054Z
UID:10000760-1764351000-1764365400@artsconnect.ing
SUMMARY:Charles Best Winter Market
DESCRIPTION:A dozen #BCAuthors will be at this year’s Charles Best Winter Market! ❄️🎅 Come see us & 80+ other vendors next Friday\, November 28th at 5:30pm to 9:30pm && get a book signed for a special someone this holiday! 😁📚🎉 There’s something for everyone!🎄☃️ \n⭐️ Bonnie Jacoby – “Dreams of a Dragon Girl” Bonnie Jacoby Author\n⭐️ Carmen Wright – “Mystery of the Scarlet Cat” @carmen.wright.505\n⭐️ Carmy Stubbs – “The Six Knowings of ASAIRA Carmy Stubbs Author\n⭐️ Farida Somjee – “The Beggar’s Dance” Farida Somjee (Author)\n⭐️ Krista Wallace – “The Gatekeeper’s Key” Krista Wallace’s author page\n⭐️ Margarita Escobar – “Under a Weeping Willow” Margarita Escobar – Author\n⭐️ Ming Louie Stein – “Kintsugi: A Woman. Worthless to Gold” Ming Louie Stein\n⭐️ Nancy McNeil – “Becki and the Trailer Kids (Spring)” Nancy McNeil\n⭐️ Pierre-Alexandre Comtois – “SUNDER” @pierrealexandre.comtois\n⭐️ Rohini Sunderam – “Five Lives One Day in Bahrain” @rohini.sunderam\n⭐️ Trevor Atkins – “The Day the Pirates Went Mad” Trevor Atkins writes\n⭐️ Wendy Hawkin – “To Charm a Killer” WL Hawkin
URL:https://artsconnect.ing/artscalendar/charles-best-winter-market/
LOCATION:Dr. Charles Best Secondary School\, 2525 Como Lake Avenue\, Coquitlam\, BC\, V3J 6W5\, Canada
CATEGORIES:Arts and Crafts,Literary Arts,Vendor Market
ATTACH;FMTTYPE=image/webp:https://artsconnect.ing/wp-content/uploads/2025/11/581954535_1169814915241783_4357038655404920500_n.webp
END:VEVENT
BEGIN:VEVENT
DTSTART;TZID=America/Vancouver:20251130T120000
DTEND;TZID=America/Vancouver:20251130T150000
DTSTAMP:20260424T184831
CREATED:20251118T194832Z
LAST-MODIFIED:20251118T195008Z
UID:10000749-1764504000-1764514800@artsconnect.ing
SUMMARY:"I Have Two of Everything": Meet The Author/Book Signing
DESCRIPTION:Save the date Nov 30th 12pm book signing 🖊️ Chapters Indigo in Coquitlam💛 \nMeet Local Childrens Book Authur\, Jessica Prasad\, get your own signed copy! \nhttp://www.jessicaprasad.ca/
URL:https://artsconnect.ing/artscalendar/i-have-two-of-everything-meet-the-author-book-signing/
LOCATION:Chapters Indigo Coquitlam\, 2991 Lougheed Hwy\, Coquitlam\, BC\, V3B 6J6\, Canada
CATEGORIES:Literary Arts
ATTACH;FMTTYPE=image/webp:https://artsconnect.ing/wp-content/uploads/2025/11/574237887_122271061046187492_3703109373207008358_n.webp
ORGANIZER;CN="Jessica Prasad":MAILTO:prasad.jessica@gmail.com
END:VEVENT
END:VCALENDAR