BEGIN:VCALENDAR
VERSION:2.0
PRODID:-//ArtsConnect - ECPv6.15.20//NONSGML v1.0//EN
CALSCALE:GREGORIAN
METHOD:PUBLISH
X-ORIGINAL-URL:https://artsconnect.ing
X-WR-CALDESC:Events for ArtsConnect
REFRESH-INTERVAL;VALUE=DURATION:PT1H
X-Robots-Tag:noindex
X-PUBLISHED-TTL:PT1H
BEGIN:VTIMEZONE
TZID:America/Vancouver
BEGIN:DAYLIGHT
TZOFFSETFROM:-0800
TZOFFSETTO:-0700
TZNAME:PDT
DTSTART:20250309T100000
END:DAYLIGHT
BEGIN:STANDARD
TZOFFSETFROM:-0700
TZOFFSETTO:-0800
TZNAME:PST
DTSTART:20251102T090000
END:STANDARD
BEGIN:DAYLIGHT
TZOFFSETFROM:-0800
TZOFFSETTO:-0700
TZNAME:PDT
DTSTART:20260308T100000
END:DAYLIGHT
BEGIN:STANDARD
TZOFFSETFROM:-0700
TZOFFSETTO:-0800
TZNAME:PST
DTSTART:20261101T090000
END:STANDARD
BEGIN:DAYLIGHT
TZOFFSETFROM:-0800
TZOFFSETTO:-0700
TZNAME:PDT
DTSTART:20270314T100000
END:DAYLIGHT
BEGIN:STANDARD
TZOFFSETFROM:-0700
TZOFFSETTO:-0800
TZNAME:PST
DTSTART:20271107T090000
END:STANDARD
END:VTIMEZONE
BEGIN:VEVENT
DTSTART;TZID=America/Vancouver:20260108T140000
DTEND;TZID=America/Vancouver:20260108T160000
DTSTAMP:20260424T155204
CREATED:20260106T161331Z
LAST-MODIFIED:20260106T161454Z
UID:10000854-1767880800-1767888000@artsconnect.ing
SUMMARY:Museum Book Club
DESCRIPTION:On the second Thursday of each month from 2 PM – 4 PM\, the museum book club meets to converse over a new book in our 1909 parlour. Stop by to make friends\, connect with community\, and engage in some light-hearted literary discussion. Here is the reading list for the following months: \nJanuary: Small Things Like These by Claire Keegan\nFebruary: Three Days in June by Anne Tyler\nMarch: The Dictionary of Last Words by Pup Williams\nApril: Intermezzo by Sally Rooney\nMay: Wide Wide Sea by Hampton sides\nJune: Spoon Stealer by Lesley crew \nFree. No registration required. Ages 18+. \nPlease note: Attendees are responsible for acquiring their own books. On occasion\, library books may be available at Mackin House Museum for the upcoming months reading.
URL:https://artsconnect.ing/artscalendar/museum-book-club/
LOCATION:Mackin House\, 1116 Brunette Avenue\, Coquitlam\, BC\, V3K 1G2\, Canada
CATEGORIES:Literary Arts
ATTACH;FMTTYPE=image/webp:https://artsconnect.ing/wp-content/uploads/2026/01/Bookclub-Websiteimage.webp
ORGANIZER;CN="Coquitlam Heritage":MAILTO:info@coquitlamheritage.ca
END:VEVENT
END:VCALENDAR