BEGIN:VCALENDAR
VERSION:2.0
PRODID:-//ArtsConnect - ECPv6.15.20//NONSGML v1.0//EN
CALSCALE:GREGORIAN
METHOD:PUBLISH
X-ORIGINAL-URL:https://artsconnect.ing
X-WR-CALDESC:Events for ArtsConnect
REFRESH-INTERVAL;VALUE=DURATION:PT1H
X-Robots-Tag:noindex
X-PUBLISHED-TTL:PT1H
BEGIN:VTIMEZONE
TZID:America/Vancouver
BEGIN:DAYLIGHT
TZOFFSETFROM:-0800
TZOFFSETTO:-0700
TZNAME:PDT
DTSTART:20250309T100000
END:DAYLIGHT
BEGIN:STANDARD
TZOFFSETFROM:-0700
TZOFFSETTO:-0800
TZNAME:PST
DTSTART:20251102T090000
END:STANDARD
BEGIN:DAYLIGHT
TZOFFSETFROM:-0800
TZOFFSETTO:-0700
TZNAME:PDT
DTSTART:20260308T100000
END:DAYLIGHT
BEGIN:STANDARD
TZOFFSETFROM:-0700
TZOFFSETTO:-0800
TZNAME:PST
DTSTART:20261101T090000
END:STANDARD
BEGIN:DAYLIGHT
TZOFFSETFROM:-0800
TZOFFSETTO:-0700
TZNAME:PDT
DTSTART:20270314T100000
END:DAYLIGHT
BEGIN:STANDARD
TZOFFSETFROM:-0700
TZOFFSETTO:-0800
TZNAME:PST
DTSTART:20271107T090000
END:STANDARD
END:VTIMEZONE
BEGIN:VEVENT
DTSTART;TZID=America/Vancouver:20260122T190000
DTEND;TZID=America/Vancouver:20260122T190000
DTSTAMP:20260424T030315
CREATED:20260121T165346Z
LAST-MODIFIED:20260121T165346Z
UID:10000928-1769108400-1769108400@artsconnect.ing
SUMMARY:Word in the Burbs
DESCRIPTION:Mark your calendars! We are starting off the new year with a wonderful line-up of writers for our first Words in the Burbs of 2026. We’ve got poetry\, CNF\, fantasy\, GG-nominated YA and more. Join us Thursday\, January 22 at Western Sky Books for a fabulous readings from Deb Vail\, Nick Perry\, Bonnie Jacoby\, Lea Taranto\, and David Cowper.
URL:https://artsconnect.ing/artscalendar/word-in-the-burbs/
LOCATION:Western Sky Books\, 2132-2850 Shaughnessy St.\, Port Coquitlam\, BC\, V3C 6K5\, Canada
CATEGORIES:Literary Arts
ATTACH;FMTTYPE=image/jpeg:https://artsconnect.ing/wp-content/uploads/2026/01/597383282_1152968090155592_1313238851355346542_n.jpg
END:VEVENT
END:VCALENDAR