BEGIN:VCALENDAR
VERSION:2.0
PRODID:-//ArtsConnect - ECPv6.15.20//NONSGML v1.0//EN
CALSCALE:GREGORIAN
METHOD:PUBLISH
X-WR-CALNAME:ArtsConnect
X-ORIGINAL-URL:https://artsconnect.ing
X-WR-CALDESC:Events for ArtsConnect
REFRESH-INTERVAL;VALUE=DURATION:PT1H
X-Robots-Tag:noindex
X-PUBLISHED-TTL:PT1H
BEGIN:VTIMEZONE
TZID:America/Vancouver
BEGIN:DAYLIGHT
TZOFFSETFROM:-0800
TZOFFSETTO:-0700
TZNAME:PDT
DTSTART:20250309T100000
END:DAYLIGHT
BEGIN:STANDARD
TZOFFSETFROM:-0700
TZOFFSETTO:-0800
TZNAME:PST
DTSTART:20251102T090000
END:STANDARD
BEGIN:DAYLIGHT
TZOFFSETFROM:-0800
TZOFFSETTO:-0700
TZNAME:PDT
DTSTART:20260308T100000
END:DAYLIGHT
BEGIN:STANDARD
TZOFFSETFROM:-0700
TZOFFSETTO:-0800
TZNAME:PST
DTSTART:20261101T090000
END:STANDARD
BEGIN:DAYLIGHT
TZOFFSETFROM:-0800
TZOFFSETTO:-0700
TZNAME:PDT
DTSTART:20270314T100000
END:DAYLIGHT
BEGIN:STANDARD
TZOFFSETFROM:-0700
TZOFFSETTO:-0800
TZNAME:PST
DTSTART:20271107T090000
END:STANDARD
END:VTIMEZONE
BEGIN:VEVENT
DTSTART;TZID=America/Vancouver:20260217T000000
DTEND;TZID=America/Vancouver:20260217T235959
DTSTAMP:20260424T032616
CREATED:20260211T192518Z
LAST-MODIFIED:20260211T192518Z
UID:10001069-1771286400-1771372799@artsconnect.ing
SUMMARY:2026 Art Out Side Festival: Artist Applications
DESCRIPTION:💥SAVE THE DATE 💥 Artist applications open February 17 for the 2026 Art Out Side Festival in Port Moody. \nIf you are an artist who wants to explore and innovate\, creating art in unexpected places and in conversation with the community\, we want to meet you 🙌 \nStay tuned for more! \nhttps://www.pomoarts.ca/artoutside
URL:https://artsconnect.ing/artscalendar/2026-art-out-side-festival-artist-applications/
LOCATION:PoMoArts\, 2425 St. Johns Street\, Port Moody\, BC\, V3H 2B2\, Canada
CATEGORIES:Dance,Festival,Literary Arts,Music,Photography,Poetry,Visual Arts
ATTACH;FMTTYPE=image/webp:https://artsconnect.ing/wp-content/uploads/2026/02/630335455_1344178014415369_5568053875147953865_n.webp
ORGANIZER;CN="PoMoArts":MAILTO:info@pomoarts.ca
END:VEVENT
BEGIN:VEVENT
DTSTART;TZID=America/Vancouver:20260218T140000
DTEND;TZID=America/Vancouver:20260218T160000
DTSTAMP:20260424T032616
CREATED:20260216T181346Z
LAST-MODIFIED:20260216T181346Z
UID:10001080-1771423200-1771430400@artsconnect.ing
SUMMARY:Silent Book Club at the Ibex Cafe
DESCRIPTION:Join us out in the community at Ibex Cafe for tasty book choices and tastier food! This is an in person program located at IBEX CAFE. \nEver been interested in attending a book club but don’t want to commit to the conversation? What to enjoy some choice books in like minded company? Like tasty food and drinks? Come to Ibex cafe to grab a book from a specially themed library selection while eating and drinking a treat! Each of the featured Wednesdays a librarian will bring a curated mini collection to pick from\, and other library resources to ask questions about and enjoy. Grab a book\, buy a snack\, and relax in the beautiful cafe surroundings. Come support both your local library and a local business! \nThis program will be held at IBEX CAFE located at 3537 Princeton Ave\, Coquitlam\, BC V3E 0K3\, part of the Burke Mountain Discovery Center. See cafe details here: https://www.cafeibex.ca/ \nAll ages are welcome at the cafe but book collections will be mostly adult collections with a limited selection of children’s materials. Anyone can (and should!) swing by to peruse but table space will be limited to patrons who purchase items from the cafe. This program is weather dependent and will follow cafe or library closures in inclement weather.
URL:https://artsconnect.ing/artscalendar/silent-book-club-at-the-ibex-cafe/
LOCATION:Ibex Cafe + Kitchen\, 3537 Princeton Avenue\, Coquitlam\, BC\, V3E 0K3\, Canada
CATEGORIES:Literary Arts
ATTACH;FMTTYPE=image/webp:https://artsconnect.ing/wp-content/uploads/2026/02/Ibex_cafe.webp
ORGANIZER;CN="Coquitlam Public Library - The City Centre Branch":MAILTO:https://www.coqlibrary.ca/about-us/contact-us
END:VEVENT
BEGIN:VEVENT
DTSTART;TZID=America/Vancouver:20260222T131500
DTEND;TZID=America/Vancouver:20260222T151500
DTSTAMP:20260424T032616
CREATED:20260123T184736Z
LAST-MODIFIED:20260123T184817Z
UID:10000951-1771766100-1771773300@artsconnect.ing
SUMMARY:Authors Afternoon at PoMo Arts Centre Featuring: Mallee Stanley | Krista Wallace | Ming Louie Stein | Suzanne Grant
DESCRIPTION:Come out and enjoy a literary adventure with us! 
URL:https://artsconnect.ing/artscalendar/authors-afternoon-at-pomo-arts-centre-featuring-mallee-stanley-krista-wallace-ming-louie-stein-suzanne-grant/
LOCATION:PoMoArts\, 2425 St. Johns Street\, Port Moody\, BC\, V3H 2B2\, Canada
CATEGORIES:Literary Arts
ATTACH;FMTTYPE=image/webp:https://artsconnect.ing/wp-content/uploads/2026/01/617564765_122163263192867806_4462573723242231674_n.webp
ORGANIZER;CN="PoMoArts":MAILTO:info@pomoarts.ca
END:VEVENT
END:VCALENDAR