BEGIN:VCALENDAR
VERSION:2.0
PRODID:-//ArtsConnect - ECPv6.15.20//NONSGML v1.0//EN
CALSCALE:GREGORIAN
METHOD:PUBLISH
X-ORIGINAL-URL:https://artsconnect.ing
X-WR-CALDESC:Events for ArtsConnect
REFRESH-INTERVAL;VALUE=DURATION:PT1H
X-Robots-Tag:noindex
X-PUBLISHED-TTL:PT1H
BEGIN:VTIMEZONE
TZID:America/Vancouver
BEGIN:DAYLIGHT
TZOFFSETFROM:-0800
TZOFFSETTO:-0700
TZNAME:PDT
DTSTART:20250309T100000
END:DAYLIGHT
BEGIN:STANDARD
TZOFFSETFROM:-0700
TZOFFSETTO:-0800
TZNAME:PST
DTSTART:20251102T090000
END:STANDARD
BEGIN:DAYLIGHT
TZOFFSETFROM:-0800
TZOFFSETTO:-0700
TZNAME:PDT
DTSTART:20260308T100000
END:DAYLIGHT
BEGIN:STANDARD
TZOFFSETFROM:-0700
TZOFFSETTO:-0800
TZNAME:PST
DTSTART:20261101T090000
END:STANDARD
BEGIN:DAYLIGHT
TZOFFSETFROM:-0800
TZOFFSETTO:-0700
TZNAME:PDT
DTSTART:20270314T100000
END:DAYLIGHT
BEGIN:STANDARD
TZOFFSETFROM:-0700
TZOFFSETTO:-0800
TZNAME:PST
DTSTART:20271107T090000
END:STANDARD
END:VTIMEZONE
BEGIN:VEVENT
DTSTART;TZID=America/Vancouver:20260311T190000
DTEND;TZID=America/Vancouver:20260311T220000
DTSTAMP:20260424T000630
CREATED:20260211T185536Z
LAST-MODIFIED:20260211T191327Z
UID:10001047-1773255600-1773266400@artsconnect.ing
SUMMARY:Port Coquitlam Writers Group - Drop In
DESCRIPTION:Engage with other local writers through prompts\, readings\, and brainstorming\, and discover a safe space to work on your craft. \n\n\n\n\nDo you love to write or feel like you have poetry or stories just waiting to come out? Come to the Port Coquitlam Writers Group at the Gathering Place on the 2nd and 4th Wednesday of every month from 6:30-8pm. Engage with other local writers through prompts\, readings\, and brainstorming\, and discover a safe space to work on your craft. Open to beginning\, emerging\, or established wordsmiths\, 16 and older; attending the first meeting is free\, then you can purchase a Poco Arts Council annual membership for $10. Bring a pen and paper or laptop and your creativity!
URL:https://artsconnect.ing/artscalendar/port-coquitlam-writers-group-drop-in/2026-03-11/
LOCATION:Leigh Square\, 2253 Leigh Square Pl\, Port Coquitlam\, BC\, V3C 3B8\, Canada
CATEGORIES:Literary Arts
ATTACH;FMTTYPE=image/webp:https://artsconnect.ing/wp-content/uploads/2026/02/Port-Coquitlam-Writers-Group-Drop-In.webp
ORGANIZER;CN="Poco Arts Council":MAILTO:https://pocoarts.wordpress.com/contact/
END:VEVENT
BEGIN:VEVENT
DTSTART;TZID=America/Vancouver:20260312T140000
DTEND;TZID=America/Vancouver:20260312T160000
DTSTAMP:20260424T000630
CREATED:20260225T140518Z
LAST-MODIFIED:20260225T140518Z
UID:10001108-1773324000-1773331200@artsconnect.ing
SUMMARY:Museum Book Club
DESCRIPTION:On the second Thursday of each month from 2 PM – 4 PM\, the museum book club meets to converse over a new book in our 1909 parlour. Stop by to make friends\, connect with community\, and engage in some light-hearted literary discussion. Here is the reading list for the following months: \nJanuary: Small Things Like These by Claire Keegan\nFebruary: Three Days in June by Anne Tyler\nMarch: The Dictionary of Last Words by Pup Williams\nApril: Intermezzo by Sally Rooney\nMay: Wide Wide Sea by Hampton sides\nJune: Spoon Stealer by Lesley crew \nFree. No registration required. Ages 18+. \nPlease note: Attendees are responsible for acquiring their own books. On occasion\, library books may be available at Mackin House Museum for the upcoming months reading.
URL:https://artsconnect.ing/artscalendar/museum-book-club-2/
LOCATION:Mackin House\, 1116 Brunette Avenue\, Coquitlam\, BC\, V3K 1G2\, Canada
CATEGORIES:Discussion,Literary Arts
ATTACH;FMTTYPE=image/webp:https://artsconnect.ing/wp-content/uploads/2026/02/Bookclub-Websiteimage.webp
ORGANIZER;CN="Coquitlam Heritage":MAILTO:info@coquitlamheritage.ca
END:VEVENT
BEGIN:VEVENT
DTSTART;TZID=America/Vancouver:20260315T235900
DTEND;TZID=America/Vancouver:20260315T235900
DTSTAMP:20260424T000630
CREATED:20260226T180538Z
LAST-MODIFIED:20260226T180538Z
UID:10001120-1773619140-1773619140@artsconnect.ing
SUMMARY:Art Out Side 2026: Call for Artists: Deadline
DESCRIPTION:Calling local artists to transform Port Moody through the arts this summer! Applications are now open to submit your proposal 💥 \nArt Out Side 2026 is a city-wide multidisciplinary arts festival taking place August 7–16. From waterfronts to commercial hubs\, alleyways to park benches\, the festival invites bold artistic voices to animate public space and reimagine how and where art is experienced. \nCurated by PoMoArts with the support of the City of Port Moody. \nWe invite artists of all disciplines to propose engaging works in visual and media arts\, performance\, poetry\, sound\, interactive installations\, film\, sculpture\, dance\, and other creative forms: \n🎥 Solo or group-led projects that meaningfully transform public space\n🎸 One-day or one-night performances at designated festival sites\n🧑‍🎨 Temporary installations (short-term or multi-day)\n🎭 Large-scale activations (mass movement\, participatory art\, immersive environments\, collective performance)\n🏘️ Lead muralists for pre-approved sites (teams welcome)\n🎤 Roaming performers\, pop-up artists\, and buskers animating designated festival zones \nApply now by March 15\, 2026 at https://www.pomoarts.ca/artoutside
URL:https://artsconnect.ing/artscalendar/art-out-side-2026-call-for-artists-deadline/
LOCATION:PoMoArts\, 2425 St. Johns Street\, Port Moody\, BC\, V3H 2B2\, Canada
CATEGORIES:Dance,Festival,Literary Arts,Music,Photography,Poetry,Visual Arts
ATTACH;FMTTYPE=image/webp:https://artsconnect.ing/wp-content/uploads/2026/02/633659077_1350232077143296_8366537446944865181_n.webp
ORGANIZER;CN="PoMoArts":MAILTO:info@pomoarts.ca
END:VEVENT
END:VCALENDAR