BEGIN:VCALENDAR
VERSION:2.0
PRODID:-//ArtsConnect - ECPv6.15.20//NONSGML v1.0//EN
CALSCALE:GREGORIAN
METHOD:PUBLISH
X-WR-CALNAME:ArtsConnect
X-ORIGINAL-URL:https://artsconnect.ing
X-WR-CALDESC:Events for ArtsConnect
REFRESH-INTERVAL;VALUE=DURATION:PT1H
X-Robots-Tag:noindex
X-PUBLISHED-TTL:PT1H
BEGIN:VTIMEZONE
TZID:America/Vancouver
BEGIN:DAYLIGHT
TZOFFSETFROM:-0800
TZOFFSETTO:-0700
TZNAME:PDT
DTSTART:20250309T100000
END:DAYLIGHT
BEGIN:STANDARD
TZOFFSETFROM:-0700
TZOFFSETTO:-0800
TZNAME:PST
DTSTART:20251102T090000
END:STANDARD
BEGIN:DAYLIGHT
TZOFFSETFROM:-0800
TZOFFSETTO:-0700
TZNAME:PDT
DTSTART:20260308T100000
END:DAYLIGHT
BEGIN:STANDARD
TZOFFSETFROM:-0700
TZOFFSETTO:-0800
TZNAME:PST
DTSTART:20261101T090000
END:STANDARD
BEGIN:DAYLIGHT
TZOFFSETFROM:-0800
TZOFFSETTO:-0700
TZNAME:PDT
DTSTART:20270314T100000
END:DAYLIGHT
BEGIN:STANDARD
TZOFFSETFROM:-0700
TZOFFSETTO:-0800
TZNAME:PST
DTSTART:20271107T090000
END:STANDARD
END:VTIMEZONE
BEGIN:VEVENT
DTSTART;TZID=America/Vancouver:20260408T190000
DTEND;TZID=America/Vancouver:20260408T203000
DTSTAMP:20260423T173052
CREATED:20260408T143813Z
LAST-MODIFIED:20260408T143813Z
UID:10001243-1775674800-1775680200@artsconnect.ing
SUMMARY:Writers in Our Midst #30
DESCRIPTION:Writers in Our Midst (WiOM) is a popular reading series of fiction\, poetry\, and performance. This family-friendly affair is back with Writers in our Midst #30: Historical Fiction. Join us in the library tomorrow evening for a chance to hear and meet local authors! No registration required. \nDate: April 8th\nTime: 7PM-8:30PM \nParticipating authors include:\nTrevor Atkins\nNargis Abraham\nMing Louie Stein\nDeborah White\nCheryl Andrichuk\nNancy McNeil\nMallee Stanley
URL:https://artsconnect.ing/artscalendar/writers-in-our-midst-30/
LOCATION:Port Moody Public Library\, 100 Newport Drive\, Port Moody\, BC\, V3H 5C3\, Canada
CATEGORIES:Literary Arts
ATTACH;FMTTYPE=image/webp:https://artsconnect.ing/wp-content/uploads/2026/04/666302384_1342854397868085_4710546799597829622_n.webp
ORGANIZER;CN="Port Moody Public Library":MAILTO:https://forms.portmoodylibrary.ca/Contact-Us-Online
END:VEVENT
BEGIN:VEVENT
DTSTART;TZID=America/Vancouver:20260408T190000
DTEND;TZID=America/Vancouver:20260408T220000
DTSTAMP:20260423T173052
CREATED:20260211T185536Z
LAST-MODIFIED:20260211T191327Z
UID:10001048-1775674800-1775685600@artsconnect.ing
SUMMARY:Port Coquitlam Writers Group - Drop In
DESCRIPTION:Engage with other local writers through prompts\, readings\, and brainstorming\, and discover a safe space to work on your craft. \n\n\n\n\nDo you love to write or feel like you have poetry or stories just waiting to come out? Come to the Port Coquitlam Writers Group at the Gathering Place on the 2nd and 4th Wednesday of every month from 6:30-8pm. Engage with other local writers through prompts\, readings\, and brainstorming\, and discover a safe space to work on your craft. Open to beginning\, emerging\, or established wordsmiths\, 16 and older; attending the first meeting is free\, then you can purchase a Poco Arts Council annual membership for $10. Bring a pen and paper or laptop and your creativity!
URL:https://artsconnect.ing/artscalendar/port-coquitlam-writers-group-drop-in/2026-04-08/
LOCATION:Leigh Square\, 2253 Leigh Square Pl\, Port Coquitlam\, BC\, V3C 3B8\, Canada
CATEGORIES:Literary Arts
ATTACH;FMTTYPE=image/webp:https://artsconnect.ing/wp-content/uploads/2026/02/Port-Coquitlam-Writers-Group-Drop-In.webp
ORGANIZER;CN="Poco Arts Council":MAILTO:https://pocoarts.wordpress.com/contact/
END:VEVENT
BEGIN:VEVENT
DTSTART;TZID=America/Vancouver:20260411T133000
DTEND;TZID=America/Vancouver:20260411T160000
DTSTAMP:20260423T173052
CREATED:20260316T132557Z
LAST-MODIFIED:20260316T132644Z
UID:10001180-1775914200-1775923200@artsconnect.ing
SUMMARY:The Power of Sound for Storytelling\, Poetry & Art with Carmy Stubbs
DESCRIPTION:The Power of Sound for Storytelling\, Poetry & Art\nA Healing through Writing\, Storytelling & Art Workshop\nSat.\, Apr. 11th\, 2026\n​1:30 – 4PM\nwith Carmy Stubbs \nRegister: tri-citywordsmiths.ca\n​ \nWorkshop Info:\nIn this interactive workshop\, first we’ll revisit how writing\, storytelling and art can be used to heal\, transform\, and inspire our lives\, to then delve into the power of sound as a unique healing and transformative tool. We’ll see examples through some of my own experiences of how sound can be used to enhance or inspire a story\, poem\, or drawing\, followed by various sound-based activities and exercises where you’ll be able to try out for yourself. And most importantly\, no specific talent in writing or the arts is required! *Worksheet and art supplies provided but feel free to bring your own notebook and coloured pencils. \nBio:\nCARMY STUBBS is a lover of the Word and its power for transformation and healing. Through her poetry\, short stories\, writings\, and illustrations\, she explores the creative force of the Heart and the finding of one’s True Voice. Carmy is the author of the novel The Six Knowings of ASAIRA\, a metaphysical fantasy\, where all her loves ~ the poems\, the magic\, the storytelling\, and the search for the Divine~ weave themselves alchemically through text and illustration. Carmy also holds monthly meetings on creativity through meditation\, and workshops on healing through the arts. She is a member of the Tri-City Wordsmiths and ArtsConnect\, and lives in Port Coquitlam\, British Columbia\, with her husband\, Antonio\, and their dog\, Milo.
URL:https://artsconnect.ing/artscalendar/the-power-of-sound-for-storytelling-poetry-art-with-carmy-stubbs/
LOCATION:Terry Fox Library\, 2150 Wilson Avenue\, Port Coquitlam\, BC\, V3C 6J5\, Canada
CATEGORIES:Literary Arts,Poetry
ATTACH;FMTTYPE=image/webp:https://artsconnect.ing/wp-content/uploads/2026/03/649551405_905984425743340_2099916876867577050_n.webp
END:VEVENT
END:VCALENDAR