BEGIN:VCALENDAR
VERSION:2.0
PRODID:-//ArtsConnect - ECPv6.15.20//NONSGML v1.0//EN
CALSCALE:GREGORIAN
METHOD:PUBLISH
X-ORIGINAL-URL:https://artsconnect.ing
X-WR-CALDESC:Events for ArtsConnect
REFRESH-INTERVAL;VALUE=DURATION:PT1H
X-Robots-Tag:noindex
X-PUBLISHED-TTL:PT1H
BEGIN:VTIMEZONE
TZID:America/Vancouver
BEGIN:DAYLIGHT
TZOFFSETFROM:-0800
TZOFFSETTO:-0700
TZNAME:PDT
DTSTART:20240310T100000
END:DAYLIGHT
BEGIN:STANDARD
TZOFFSETFROM:-0700
TZOFFSETTO:-0800
TZNAME:PST
DTSTART:20241103T090000
END:STANDARD
BEGIN:DAYLIGHT
TZOFFSETFROM:-0800
TZOFFSETTO:-0700
TZNAME:PDT
DTSTART:20250309T100000
END:DAYLIGHT
BEGIN:STANDARD
TZOFFSETFROM:-0700
TZOFFSETTO:-0800
TZNAME:PST
DTSTART:20251102T090000
END:STANDARD
BEGIN:DAYLIGHT
TZOFFSETFROM:-0800
TZOFFSETTO:-0700
TZNAME:PDT
DTSTART:20260308T100000
END:DAYLIGHT
BEGIN:STANDARD
TZOFFSETFROM:-0700
TZOFFSETTO:-0800
TZNAME:PST
DTSTART:20261101T090000
END:STANDARD
END:VTIMEZONE
BEGIN:VEVENT
DTSTART;TZID=America/Vancouver:20251203T130000
DTEND;TZID=America/Vancouver:20251203T150000
DTSTAMP:20260424T025924
CREATED:20251124T181747Z
LAST-MODIFIED:20251124T181747Z
UID:10000761-1764766800-1764774000@artsconnect.ing
SUMMARY:Creative People Talking: Season of Sharing
DESCRIPTION:It’s a great time to share your creativity. Similar to our “Show & Tell” theme\, we invite you to speak or demonstrate what you do best. The salon is a welcoming discussion group of creatives of different levels in the area. Free to attend.
URL:https://artsconnect.ing/artscalendar/creative-people-talking-season-of-sharing/
LOCATION:Bevees\, 203-2748 Lougheed Hwy\, Port Coquitlam\, BC\, V3B 6P2\, Canada
CATEGORIES:Meetup
ATTACH;FMTTYPE=image/webp:https://artsconnect.ing/wp-content/uploads/2025/11/586414277_10163623367189872_6765122932728158584_n.webp
END:VEVENT
BEGIN:VEVENT
DTSTART;TZID=America/Vancouver:20251206T140000
DTEND;TZID=America/Vancouver:20251206T160000
DTSTAMP:20260424T025924
CREATED:20251116T182257Z
LAST-MODIFIED:20251116T182503Z
UID:10000735-1765029600-1765036800@artsconnect.ing
SUMMARY:Another Photography Club
DESCRIPTION:Meetup at Grit Cafe \nShow & Tell Your Fave Photobooks
URL:https://artsconnect.ing/artscalendar/another-photography-club/
LOCATION:Grit Studio\, 50 Queens Street\, Port Moody\, BC\, V3H 2N4\, Canada
CATEGORIES:Meetup,Photography
ATTACH;FMTTYPE=image/png:https://artsconnect.ing/wp-content/uploads/2025/11/Another-Photography-Club-12_06_25.png
ORGANIZER;CN="Another Photography Club":MAILTO:info@beauphoto.com
END:VEVENT
BEGIN:VEVENT
DTSTART;TZID=America/Vancouver:20251207T110000
DTEND;TZID=America/Vancouver:20251207T150000
DTSTAMP:20260424T025924
CREATED:20251117T193317Z
LAST-MODIFIED:20251117T193553Z
UID:10000743-1765105200-1765119600@artsconnect.ing
SUMMARY:Holiday Tea on the Train
DESCRIPTION:Holiday Tea on the train\, December 7 & 14 with a choice of three seatings: 11 am\, 1 pm or 3 pm. \nImagine it’s 1921 and you are on a trip across Canada\, sitting in the dining car\, and watching the Rocky Mountains pass by. Come aboard with your family and friends on our historic first-class train car on December 7th or 14th and experience history as you enjoy tea and catering at our biggest event of the year! \nFor only $40 per person (before Tax)\, join us and enjoy a wonderful selection from PalaTable Catering & Events! Want to come on board? Contact info@pomo.museum or call (604) 939-1648
URL:https://artsconnect.ing/artscalendar/holiday-tea-on-the-train/2025-12-07/
LOCATION:POMO Museum\, 2734 Murray Street\, Port Moody\, BC\, V3H 1X2\, Canada
CATEGORIES:Meetup
ATTACH;FMTTYPE=image/webp:https://artsconnect.ing/wp-content/uploads/2025/11/holidayteaonthetrain2.webp
ORGANIZER;CN="POMO Museum":MAILTO:info@pomo.museum
END:VEVENT
BEGIN:VEVENT
DTSTART;TZID=America/Vancouver:20251214T110000
DTEND;TZID=America/Vancouver:20251214T150000
DTSTAMP:20260424T025924
CREATED:20251117T193317Z
LAST-MODIFIED:20251117T193553Z
UID:10000744-1765710000-1765724400@artsconnect.ing
SUMMARY:Holiday Tea on the Train
DESCRIPTION:Holiday Tea on the train\, December 7 & 14 with a choice of three seatings: 11 am\, 1 pm or 3 pm. \nImagine it’s 1921 and you are on a trip across Canada\, sitting in the dining car\, and watching the Rocky Mountains pass by. Come aboard with your family and friends on our historic first-class train car on December 7th or 14th and experience history as you enjoy tea and catering at our biggest event of the year! \nFor only $40 per person (before Tax)\, join us and enjoy a wonderful selection from PalaTable Catering & Events! Want to come on board? Contact info@pomo.museum or call (604) 939-1648
URL:https://artsconnect.ing/artscalendar/holiday-tea-on-the-train/2025-12-14/
LOCATION:POMO Museum\, 2734 Murray Street\, Port Moody\, BC\, V3H 1X2\, Canada
CATEGORIES:Meetup
ATTACH;FMTTYPE=image/webp:https://artsconnect.ing/wp-content/uploads/2025/11/holidayteaonthetrain2.webp
ORGANIZER;CN="POMO Museum":MAILTO:info@pomo.museum
END:VEVENT
BEGIN:VEVENT
DTSTART;TZID=America/Vancouver:20251217T130000
DTEND;TZID=America/Vancouver:20251217T160000
DTSTAMP:20260424T025924
CREATED:20250929T182718Z
LAST-MODIFIED:20250929T182836Z
UID:10000551-1765976400-1765987200@artsconnect.ing
SUMMARY:Art Focus: December Art Salon
DESCRIPTION:Everyone is welcome to attend our December art salon from 1-4 pm in the Michael Wright Gallery. Everyone is welcome to bring their art supplies and create art alongside Art Focus members. Musicians are also welcome to play their music while we create. This is a free event. Come join us!
URL:https://artsconnect.ing/artscalendar/art-focus-december-art-salon/
LOCATION:Michael Wright Art Gallery\, 200-2253 Leigh Square\, Port Coquitlam\, BC\, V3C 3B8\, Canada
CATEGORIES:Meetup,Music,Visual Arts
ATTACH;FMTTYPE=image/webp:https://artsconnect.ing/wp-content/uploads/2025/09/d74daacce12946798b6448cc1fb350c5.webp
END:VEVENT
END:VCALENDAR