BEGIN:VCALENDAR
VERSION:2.0
PRODID:-//ArtsConnect - ECPv6.15.20//NONSGML v1.0//EN
CALSCALE:GREGORIAN
METHOD:PUBLISH
X-WR-CALNAME:ArtsConnect
X-ORIGINAL-URL:https://artsconnect.ing
X-WR-CALDESC:Events for ArtsConnect
REFRESH-INTERVAL;VALUE=DURATION:PT1H
X-Robots-Tag:noindex
X-PUBLISHED-TTL:PT1H
BEGIN:VTIMEZONE
TZID:America/Vancouver
BEGIN:DAYLIGHT
TZOFFSETFROM:-0800
TZOFFSETTO:-0700
TZNAME:PDT
DTSTART:20250309T100000
END:DAYLIGHT
BEGIN:STANDARD
TZOFFSETFROM:-0700
TZOFFSETTO:-0800
TZNAME:PST
DTSTART:20251102T090000
END:STANDARD
BEGIN:DAYLIGHT
TZOFFSETFROM:-0800
TZOFFSETTO:-0700
TZNAME:PDT
DTSTART:20260308T100000
END:DAYLIGHT
BEGIN:STANDARD
TZOFFSETFROM:-0700
TZOFFSETTO:-0800
TZNAME:PST
DTSTART:20261101T090000
END:STANDARD
BEGIN:DAYLIGHT
TZOFFSETFROM:-0800
TZOFFSETTO:-0700
TZNAME:PDT
DTSTART:20270314T100000
END:DAYLIGHT
BEGIN:STANDARD
TZOFFSETFROM:-0700
TZOFFSETTO:-0800
TZNAME:PST
DTSTART:20271107T090000
END:STANDARD
END:VTIMEZONE
BEGIN:VEVENT
DTSTART;TZID=America/Vancouver:20260107T130000
DTEND;TZID=America/Vancouver:20260107T150000
DTSTAMP:20260424T025027
CREATED:20251229T195557Z
LAST-MODIFIED:20251229T195557Z
UID:10000814-1767790800-1767798000@artsconnect.ing
SUMMARY:Creative People Talking: Open Topic
DESCRIPTION:The start of a new year and a gathering of local creatives around a table to share goals and stories of our art experiences. We welcome new people all year\, so come and join us and help build the artistic community in the suburbs. Cheers to 2026!
URL:https://artsconnect.ing/artscalendar/creative-people-talking-open-topic/
LOCATION:Bevees\, 203-2748 Lougheed Hwy\, Port Coquitlam\, BC\, V3B 6P2\, Canada
CATEGORIES:Meetup
ATTACH;FMTTYPE=image/webp:https://artsconnect.ing/wp-content/uploads/2025/12/605333337_10163773798339872_7928188508837059884_n.webp
END:VEVENT
BEGIN:VEVENT
DTSTART;TZID=America/Vancouver:20260121T130000
DTEND;TZID=America/Vancouver:20260121T160000
DTSTAMP:20260424T025027
CREATED:20251106T050623Z
LAST-MODIFIED:20260119T181835Z
UID:10000690-1769000400-1769011200@artsconnect.ing
SUMMARY:Art Focus: January Art Salon
DESCRIPTION:Warm up your paint brushes for our first Art Salon of the year! Everyone is welcome to Michael Wright Gallery. Join to create your art with other art focus members\, or maybe meet someone new. Since this event is free and open to the public! Details will come closer to the date.
URL:https://artsconnect.ing/artscalendar/art-focus-january-art-salon/
LOCATION:Michael Wright Art Gallery\, 200-2253 Leigh Square\, Port Coquitlam\, BC\, V3C 3B8\, Canada
CATEGORIES:Meetup,Music,Visual Arts
ATTACH;FMTTYPE=image/webp:https://artsconnect.ing/wp-content/uploads/2025/11/615403332_1445252700937684_5618124808815638930_n.webp
END:VEVENT
END:VCALENDAR