BEGIN:VCALENDAR
VERSION:2.0
PRODID:-//ArtsConnect - ECPv6.15.20//NONSGML v1.0//EN
CALSCALE:GREGORIAN
METHOD:PUBLISH
X-ORIGINAL-URL:https://artsconnect.ing
X-WR-CALDESC:Events for ArtsConnect
REFRESH-INTERVAL;VALUE=DURATION:PT1H
X-Robots-Tag:noindex
X-PUBLISHED-TTL:PT1H
BEGIN:VTIMEZONE
TZID:America/Vancouver
BEGIN:DAYLIGHT
TZOFFSETFROM:-0800
TZOFFSETTO:-0700
TZNAME:PDT
DTSTART:20250309T100000
END:DAYLIGHT
BEGIN:STANDARD
TZOFFSETFROM:-0700
TZOFFSETTO:-0800
TZNAME:PST
DTSTART:20251102T090000
END:STANDARD
BEGIN:DAYLIGHT
TZOFFSETFROM:-0800
TZOFFSETTO:-0700
TZNAME:PDT
DTSTART:20260308T100000
END:DAYLIGHT
BEGIN:STANDARD
TZOFFSETFROM:-0700
TZOFFSETTO:-0800
TZNAME:PST
DTSTART:20261101T090000
END:STANDARD
BEGIN:DAYLIGHT
TZOFFSETFROM:-0800
TZOFFSETTO:-0700
TZNAME:PDT
DTSTART:20270314T100000
END:DAYLIGHT
BEGIN:STANDARD
TZOFFSETFROM:-0700
TZOFFSETTO:-0800
TZNAME:PST
DTSTART:20271107T090000
END:STANDARD
END:VTIMEZONE
BEGIN:VEVENT
DTSTART;TZID=America/Vancouver:20260506T130000
DTEND;TZID=America/Vancouver:20260506T160000
DTSTAMP:20260423T154233
CREATED:20260422T153357Z
LAST-MODIFIED:20260422T153357Z
UID:10001274-1778072400-1778083200@artsconnect.ing
SUMMARY:Creative People Talking: Optimism!
DESCRIPTION:Our regular monthly artist salon/gathering where we converse and get to know our fellow creatives. It’s spring and I feel a sense of optimism in the air with multiple happenings in the local arts community. Everyone is welcome! If you have any questions\, feel free to message me.
URL:https://artsconnect.ing/artscalendar/creative-people-talking-optimism/
LOCATION:Bevees\, 203-2748 Lougheed Hwy\, Port Coquitlam\, BC\, V3B 6P2\, Canada
CATEGORIES:Meetup
ATTACH;FMTTYPE=image/jpeg:https://artsconnect.ing/wp-content/uploads/2026/04/672684146_10164286704439872_4859041829697434249_n.jpg
END:VEVENT
END:VCALENDAR