BEGIN:VCALENDAR
VERSION:2.0
PRODID:-//ArtsConnect - ECPv6.15.20//NONSGML v1.0//EN
CALSCALE:GREGORIAN
METHOD:PUBLISH
X-WR-CALNAME:ArtsConnect
X-ORIGINAL-URL:https://artsconnect.ing
X-WR-CALDESC:Events for ArtsConnect
REFRESH-INTERVAL;VALUE=DURATION:PT1H
X-Robots-Tag:noindex
X-PUBLISHED-TTL:PT1H
BEGIN:VTIMEZONE
TZID:America/Vancouver
BEGIN:DAYLIGHT
TZOFFSETFROM:-0800
TZOFFSETTO:-0700
TZNAME:PDT
DTSTART:20250309T100000
END:DAYLIGHT
BEGIN:STANDARD
TZOFFSETFROM:-0700
TZOFFSETTO:-0800
TZNAME:PST
DTSTART:20251102T090000
END:STANDARD
BEGIN:DAYLIGHT
TZOFFSETFROM:-0800
TZOFFSETTO:-0700
TZNAME:PDT
DTSTART:20260308T100000
END:DAYLIGHT
BEGIN:STANDARD
TZOFFSETFROM:-0700
TZOFFSETTO:-0800
TZNAME:PST
DTSTART:20261101T090000
END:STANDARD
BEGIN:DAYLIGHT
TZOFFSETFROM:-0800
TZOFFSETTO:-0700
TZNAME:PDT
DTSTART:20270314T100000
END:DAYLIGHT
BEGIN:STANDARD
TZOFFSETFROM:-0700
TZOFFSETTO:-0800
TZNAME:PST
DTSTART:20271107T090000
END:STANDARD
END:VTIMEZONE
BEGIN:VEVENT
DTSTART;TZID=America/Vancouver:20260120T173000
DTEND;TZID=America/Vancouver:20260120T203000
DTSTAMP:20260424T025740
CREATED:20251220T192119Z
LAST-MODIFIED:20251220T192119Z
UID:10000800-1768930200-1768941000@artsconnect.ing
SUMMARY:Brave Voices
DESCRIPTION:Join us for our free poetry open mic! Performers are welcome to sign up at 5:30 for a 5 minute time slot. Spots are first come first serve\, open to anyone 19+\, those under 19 must be supervised by a guardian. \nWe welcome all types of performance with the only rule being: No Hate Speech! We strive to create an inclusive space and ask all participants to be kind. \nSee you there!
URL:https://artsconnect.ing/artscalendar/brave-voices-2/
LOCATION:Brave Brewing Company\, 2617 Murray Street\, Port Moody\, BC\, V3H 1X1\, Canada
CATEGORIES:Open Mic,Poetry
ATTACH;FMTTYPE=image/webp:https://artsconnect.ing/wp-content/uploads/2025/07/BraveVoiceswebsite.webp
ORGANIZER;CN="Tri Cities Poetry":MAILTO:tricitiespoetry@gmail.com
END:VEVENT
BEGIN:VEVENT
DTSTART;TZID=America/Vancouver:20260120T180000
DTEND;TZID=America/Vancouver:20260120T210000
DTSTAMP:20260424T025740
CREATED:20260115T173719Z
LAST-MODIFIED:20260115T173719Z
UID:10000876-1768932000-1768942800@artsconnect.ing
SUMMARY:Rocky Point Spirits Open Mic
DESCRIPTION:ROCKY POINT SPIRITS OPEN MIC! Tuesday January 20th 2026! 6-9pm \nLocated at: Rocky Point Spirits 2805 Murray St\, Port Moody\, BC V3H 1X3\nEvery Tuesday 6-9pm\, hosted by Pam Burns \n‘Rocky Point Spirits Open Mic’ is a place for musicians to play their own music (originals or covers) for audience to enjoy 🎶 (NOT a Karaoke\, No Stand-up Comedy\, 19yrs+ 😊) \nHope to See you there! 🎶👍
URL:https://artsconnect.ing/artscalendar/rocky-point-spirits-open-mic-35/
LOCATION:Rocky Point Spirits\, 2805 Murray Street\, Port Moody\, BC\, V3H 1X3\, Canada
CATEGORIES:Music,Open Mic
ATTACH;FMTTYPE=image/webp:https://artsconnect.ing/wp-content/uploads/2026/01/616823722_10163252491627326_5823080027842869390_n.webp
ORGANIZER;CN="Rocky Point Spirits":MAILTO:info@rockypointspirits.ca
END:VEVENT
BEGIN:VEVENT
DTSTART;TZID=America/Vancouver:20260122T180000
DTEND;TZID=America/Vancouver:20260122T210000
DTSTAMP:20260424T025740
CREATED:20260108T165216Z
LAST-MODIFIED:20260108T165216Z
UID:10000863-1769104800-1769115600@artsconnect.ing
SUMMARY:Brave Brewing Company: Open Mic
DESCRIPTION:Open Mic Night dates for January 🌟🎤 \nJoin us from 6-9pm!
URL:https://artsconnect.ing/artscalendar/brave-brewing-company-open-mic-4/2026-01-22/
LOCATION:Brave Brewing Company\, 2617 Murray Street\, Port Moody\, BC\, V3H 1X1\, Canada
CATEGORIES:Music,Open Mic
ATTACH;FMTTYPE=image/webp:https://artsconnect.ing/wp-content/uploads/2026/01/611277890_17994843278856331_996839844192276662_n.webp
ORGANIZER;CN="Brave Brewing Company":MAILTO:info@brave.beer
END:VEVENT
END:VCALENDAR