BEGIN:VCALENDAR
VERSION:2.0
PRODID:-//ArtsConnect - ECPv6.15.20//NONSGML v1.0//EN
CALSCALE:GREGORIAN
METHOD:PUBLISH
X-WR-CALNAME:ArtsConnect
X-ORIGINAL-URL:https://artsconnect.ing
X-WR-CALDESC:Events for ArtsConnect
REFRESH-INTERVAL;VALUE=DURATION:PT1H
X-Robots-Tag:noindex
X-PUBLISHED-TTL:PT1H
BEGIN:VTIMEZONE
TZID:America/Vancouver
BEGIN:DAYLIGHT
TZOFFSETFROM:-0800
TZOFFSETTO:-0700
TZNAME:PDT
DTSTART:20250309T100000
END:DAYLIGHT
BEGIN:STANDARD
TZOFFSETFROM:-0700
TZOFFSETTO:-0800
TZNAME:PST
DTSTART:20251102T090000
END:STANDARD
BEGIN:DAYLIGHT
TZOFFSETFROM:-0800
TZOFFSETTO:-0700
TZNAME:PDT
DTSTART:20260308T100000
END:DAYLIGHT
BEGIN:STANDARD
TZOFFSETFROM:-0700
TZOFFSETTO:-0800
TZNAME:PST
DTSTART:20261101T090000
END:STANDARD
BEGIN:DAYLIGHT
TZOFFSETFROM:-0800
TZOFFSETTO:-0700
TZNAME:PDT
DTSTART:20270314T100000
END:DAYLIGHT
BEGIN:STANDARD
TZOFFSETFROM:-0700
TZOFFSETTO:-0800
TZNAME:PST
DTSTART:20271107T090000
END:STANDARD
END:VTIMEZONE
BEGIN:VEVENT
DTSTART;TZID=America/Vancouver:20260127T180000
DTEND;TZID=America/Vancouver:20260127T180000
DTSTAMP:20260424T025745
CREATED:20260104T184245Z
LAST-MODIFIED:20260104T184402Z
UID:10000848-1769536800-1769536800@artsconnect.ing
SUMMARY:Taylight Open Mic: January
DESCRIPTION:Come sing your heart out with a fantastic group of people! Starting at 6 PM. First-come\, first-served sign up at the brewery. Upcoming Dates: Jan 13th\, and 27th!
URL:https://artsconnect.ing/artscalendar/taylight-open-mic-january/2026-01-27/
LOCATION:Taylight Brewing\, #402 - 1485 Coast Meridian Road\, Port Coquitlam\, BC\, V3C 5P1\, Canada
CATEGORIES:Music,Open Mic
ATTACH;FMTTYPE=image/webp:https://artsconnect.ing/wp-content/uploads/2026/01/610680926_17918360853246441_8371437181813177338_n.webp
ORGANIZER;CN="Taylight Brewing":MAILTO:cheers@taylightbrewing.com
END:VEVENT
BEGIN:VEVENT
DTSTART;TZID=America/Vancouver:20260127T180000
DTEND;TZID=America/Vancouver:20260127T210000
DTSTAMP:20260424T025745
CREATED:20260123T185203Z
LAST-MODIFIED:20260123T185203Z
UID:10000952-1769536800-1769547600@artsconnect.ing
SUMMARY:Rocky Point Spirits Open Mic
DESCRIPTION:ROCKY POINT SPIRITS OPEN MIC! Tuesday January 27th 2026! 6-9pm \nLocated at: Rocky Point Spirits 2805 Murray St\, Port Moody\, BC V3H 1X3\nEvery Tuesday 6-9pm\, hosted by Pam Burns \n‘Rocky Point Spirits Open Mic’ is a place for musicians to play their own music (originals or covers) for audience to enjoy 🎶 (NOT a Karaoke\, No Stand-up Comedy\, 19yrs+ 😊) \nHope to See you there! 🎶👍
URL:https://artsconnect.ing/artscalendar/rocky-point-spirits-open-mic-36/
LOCATION:Rocky Point Spirits\, 2805 Murray Street\, Port Moody\, BC\, V3H 1X3\, Canada
CATEGORIES:Music,Open Mic
ATTACH;FMTTYPE=image/webp:https://artsconnect.ing/wp-content/uploads/2026/01/616846664_10163285249992326_7369241720106017747_n.webp
ORGANIZER;CN="Rocky Point Spirits":MAILTO:info@rockypointspirits.ca
END:VEVENT
BEGIN:VEVENT
DTSTART;TZID=America/Vancouver:20260130T190000
DTEND;TZID=America/Vancouver:20260130T220000
DTSTAMP:20260424T025745
CREATED:20251220T192541Z
LAST-MODIFIED:20251220T192842Z
UID:10000801-1769799600-1769810400@artsconnect.ing
SUMMARY:All Ages Slam
DESCRIPTION:Any and all levels of experience are welcome to participate in both the competition slam and our short open mic. For the competition slam\, there will be prizes for the top 3 scoring poets. \nOpen mic spots and slam spots are first come first serve\, there will be a limited amount of slots for both. \nVenue requests $5 Minimum purchase per person.
URL:https://artsconnect.ing/artscalendar/all-ages-slam/
LOCATION:Bevees\, 203-2748 Lougheed Hwy\, Port Coquitlam\, BC\, V3B 6P2\, Canada
CATEGORIES:Open Mic,Poetry
ATTACH;FMTTYPE=image/webp:https://artsconnect.ing/wp-content/uploads/2025/12/AllAgesJan1.webp
ORGANIZER;CN="Tri Cities Poetry":MAILTO:tricitiespoetry@gmail.com
END:VEVENT
END:VCALENDAR