BEGIN:VCALENDAR
VERSION:2.0
PRODID:-//ArtsConnect - ECPv6.15.20//NONSGML v1.0//EN
CALSCALE:GREGORIAN
METHOD:PUBLISH
X-ORIGINAL-URL:https://artsconnect.ing
X-WR-CALDESC:Events for ArtsConnect
REFRESH-INTERVAL;VALUE=DURATION:PT1H
X-Robots-Tag:noindex
X-PUBLISHED-TTL:PT1H
BEGIN:VTIMEZONE
TZID:America/Vancouver
BEGIN:DAYLIGHT
TZOFFSETFROM:-0800
TZOFFSETTO:-0700
TZNAME:PDT
DTSTART:20250309T100000
END:DAYLIGHT
BEGIN:STANDARD
TZOFFSETFROM:-0700
TZOFFSETTO:-0800
TZNAME:PST
DTSTART:20251102T090000
END:STANDARD
BEGIN:DAYLIGHT
TZOFFSETFROM:-0800
TZOFFSETTO:-0700
TZNAME:PDT
DTSTART:20260308T100000
END:DAYLIGHT
BEGIN:STANDARD
TZOFFSETFROM:-0700
TZOFFSETTO:-0800
TZNAME:PST
DTSTART:20261101T090000
END:STANDARD
BEGIN:DAYLIGHT
TZOFFSETFROM:-0800
TZOFFSETTO:-0700
TZNAME:PDT
DTSTART:20270314T100000
END:DAYLIGHT
BEGIN:STANDARD
TZOFFSETFROM:-0700
TZOFFSETTO:-0800
TZNAME:PST
DTSTART:20271107T090000
END:STANDARD
END:VTIMEZONE
BEGIN:VEVENT
DTSTART;TZID=America/Vancouver:20260224T180000
DTEND;TZID=America/Vancouver:20260224T210000
DTSTAMP:20260423T204322
CREATED:20260223T162021Z
LAST-MODIFIED:20260223T162021Z
UID:10001100-1771956000-1771966800@artsconnect.ing
SUMMARY:Rocky Point Spirits Open Mic
DESCRIPTION:ROCKY POINT SPIRITS OPEN MIC! Tuesday February 24th 2026! 6-9pm \nLocated at: Rocky Point Spirits 2805 Murray St\, Port Moody\, BC V3H 1X3 \nEvery Tuesday 6-9pm\, hosted by Joel David Shook \n‘Rocky Point Spirits Open Mic’ is a place for musicians to play their own music (originals or covers) for audience to enjoy 🎶 (NOT a Karaoke\, No Stand-up Comedy\, 19yrs+ 😊) \nHope to See you there! 🎶👍
URL:https://artsconnect.ing/artscalendar/rocky-point-spirits-open-mic-39/
LOCATION:Rocky Point Spirits\, 2805 Murray Street\, Port Moody\, BC\, V3H 1X3\, Canada
CATEGORIES:Music,Open Mic
ATTACH;FMTTYPE=image/webp:https://artsconnect.ing/wp-content/uploads/2026/02/637887288_10163731485710590_2480975094998489366_n.webp
ORGANIZER;CN="Rocky Point Spirits":MAILTO:info@rockypointspirits.ca
END:VEVENT
BEGIN:VEVENT
DTSTART;TZID=America/Vancouver:20260227T190000
DTEND;TZID=America/Vancouver:20260227T210000
DTSTAMP:20260423T204322
CREATED:20260202T173515Z
LAST-MODIFIED:20260202T173515Z
UID:10000980-1772218800-1772226000@artsconnect.ing
SUMMARY:All Ages Poetry Slam with Open Mic
DESCRIPTION:Our event starts with an open mic where performers have 5 minute time slots. The second half of the event is a poetry slam\, a competition poetry reading where any and all levels of experience are encouraged. Top 3 scoring poets will win prizes. Both open mic spots and slam spots are limited and first come first serve. \nTickets are free\, but we suggest reserving your spot ahead of time to guarantee a spot using the link below. Our venue requests a $5 minimum purchase per person as well.
URL:https://artsconnect.ing/artscalendar/all-ages-poetry-slam-with-open-mic/
LOCATION:Bevees\, 203-2748 Lougheed Hwy\, Port Coquitlam\, BC\, V3B 6P2\, Canada
CATEGORIES:Open Mic,Poetry
ATTACH;FMTTYPE=image/webp:https://artsconnect.ing/wp-content/uploads/2026/02/AllAgesFeb.webp
ORGANIZER;CN="Tri Cities Poetry":MAILTO:tricitiespoetry@gmail.com
END:VEVENT
END:VCALENDAR