BEGIN:VCALENDAR
VERSION:2.0
PRODID:-//ArtsConnect - ECPv6.15.20//NONSGML v1.0//EN
CALSCALE:GREGORIAN
METHOD:PUBLISH
X-WR-CALNAME:ArtsConnect
X-ORIGINAL-URL:https://artsconnect.ing
X-WR-CALDESC:Events for ArtsConnect
REFRESH-INTERVAL;VALUE=DURATION:PT1H
X-Robots-Tag:noindex
X-PUBLISHED-TTL:PT1H
BEGIN:VTIMEZONE
TZID:America/Vancouver
BEGIN:DAYLIGHT
TZOFFSETFROM:-0800
TZOFFSETTO:-0700
TZNAME:PDT
DTSTART:20250309T100000
END:DAYLIGHT
BEGIN:STANDARD
TZOFFSETFROM:-0700
TZOFFSETTO:-0800
TZNAME:PST
DTSTART:20251102T090000
END:STANDARD
BEGIN:DAYLIGHT
TZOFFSETFROM:-0800
TZOFFSETTO:-0700
TZNAME:PDT
DTSTART:20260308T100000
END:DAYLIGHT
BEGIN:STANDARD
TZOFFSETFROM:-0700
TZOFFSETTO:-0800
TZNAME:PST
DTSTART:20261101T090000
END:STANDARD
BEGIN:DAYLIGHT
TZOFFSETFROM:-0800
TZOFFSETTO:-0700
TZNAME:PDT
DTSTART:20270314T100000
END:DAYLIGHT
BEGIN:STANDARD
TZOFFSETFROM:-0700
TZOFFSETTO:-0800
TZNAME:PST
DTSTART:20271107T090000
END:STANDARD
END:VTIMEZONE
BEGIN:VEVENT
DTSTART;TZID=America/Vancouver:20260323T183000
DTEND;TZID=America/Vancouver:20260323T230000
DTSTAMP:20260423T234224
CREATED:20260305T185044Z
LAST-MODIFIED:20260321T175057Z
UID:10001195-1774290600-1774306800@artsconnect.ing
SUMMARY:Train Wreck Brewing: Open Mic
DESCRIPTION:Join us every Monday and share your talents. Music\, comedy\, poetry\, or whatever you’ve got. The stage is yours!
URL:https://artsconnect.ing/artscalendar/train-wreck-brewing-open-mic-3/2026-03-23/
LOCATION:Train Wreck Brewing\, 3044 St Johns Street\, Port Moody\, BC\, V3H 2C5\, Canada
CATEGORIES:Comedy,Music,Open Mic,Poetry
ATTACH;FMTTYPE=image/jpeg:https://artsconnect.ing/wp-content/uploads/2026/03/655832404_10163996512723805_4157259386927779590_n.jpg
ORGANIZER;CN="Train Wreck Brewing":MAILTO:info@trainwreckbrewing.ca
END:VEVENT
BEGIN:VEVENT
DTSTART;TZID=America/Vancouver:20260324T180000
DTEND;TZID=America/Vancouver:20260324T180000
DTSTAMP:20260423T234224
CREATED:20260302T204228Z
LAST-MODIFIED:20260302T204228Z
UID:10001142-1774375200-1774375200@artsconnect.ing
SUMMARY:Taylight Open Mic
DESCRIPTION:Come sing your heart out with a fantastic group of people! Starting at 6 PM. First-come\, first-served sign up at the brewery. Upcoming Dates: March 10th and 24th
URL:https://artsconnect.ing/artscalendar/taylight-open-mic/2026-03-24/
LOCATION:Taylight Brewing\, #402 - 1485 Coast Meridian Road\, Port Coquitlam\, BC\, V3C 5P1\, Canada
CATEGORIES:Music,Open Mic
ATTACH;FMTTYPE=image/webp:https://artsconnect.ing/wp-content/uploads/2026/03/641206201_17925403923246441_6102958667687519945_n.webp
ORGANIZER;CN="Taylight Brewing":MAILTO:cheers@taylightbrewing.com
END:VEVENT
BEGIN:VEVENT
DTSTART;TZID=America/Vancouver:20260324T180000
DTEND;TZID=America/Vancouver:20260324T210000
DTSTAMP:20260423T234224
CREATED:20260322T165036Z
LAST-MODIFIED:20260322T165036Z
UID:10001200-1774375200-1774386000@artsconnect.ing
SUMMARY:Rocky Point Spirits Open Mic
DESCRIPTION:ROCKY POINT SPIRITS OPEN MIC! Tuesday March 24th 2026! 6-9pm \nLocated at: Rocky Point Spirits 2805 Murray St\, Port Moody\, BC V3H 1X3 \nEvery Tuesday 6-9pm\, hosted by Joel David Shook \n‘Rocky Point Spirits Open Mic’ is a place for musicians to play their own music (originals or covers) for audience to enjoy 🎶 (NOT a Karaoke\, No Stand-up Comedy\, 19yrs+ 😊) \nHope to See you there! 🎶👍
URL:https://artsconnect.ing/artscalendar/rocky-point-spirits-open-mic-43/
LOCATION:Rocky Point Spirits\, 2805 Murray Street\, Port Moody\, BC\, V3H 1X3\, Canada
CATEGORIES:Music,Open Mic
ATTACH;FMTTYPE=image/jpeg:https://artsconnect.ing/wp-content/uploads/2026/03/656812786_10163900945305590_4905507949787618124_n.jpg
ORGANIZER;CN="Rocky Point Spirits":MAILTO:info@rockypointspirits.ca
END:VEVENT
END:VCALENDAR