BEGIN:VCALENDAR
VERSION:2.0
PRODID:-//ArtsConnect - ECPv6.15.20//NONSGML v1.0//EN
CALSCALE:GREGORIAN
METHOD:PUBLISH
X-ORIGINAL-URL:https://artsconnect.ing
X-WR-CALDESC:Events for ArtsConnect
REFRESH-INTERVAL;VALUE=DURATION:PT1H
X-Robots-Tag:noindex
X-PUBLISHED-TTL:PT1H
BEGIN:VTIMEZONE
TZID:America/Vancouver
BEGIN:DAYLIGHT
TZOFFSETFROM:-0800
TZOFFSETTO:-0700
TZNAME:PDT
DTSTART:20250309T100000
END:DAYLIGHT
BEGIN:STANDARD
TZOFFSETFROM:-0700
TZOFFSETTO:-0800
TZNAME:PST
DTSTART:20251102T090000
END:STANDARD
BEGIN:DAYLIGHT
TZOFFSETFROM:-0800
TZOFFSETTO:-0700
TZNAME:PDT
DTSTART:20260308T100000
END:DAYLIGHT
BEGIN:STANDARD
TZOFFSETFROM:-0700
TZOFFSETTO:-0800
TZNAME:PST
DTSTART:20261101T090000
END:STANDARD
BEGIN:DAYLIGHT
TZOFFSETFROM:-0800
TZOFFSETTO:-0700
TZNAME:PDT
DTSTART:20270314T100000
END:DAYLIGHT
BEGIN:STANDARD
TZOFFSETFROM:-0700
TZOFFSETTO:-0800
TZNAME:PST
DTSTART:20271107T090000
END:STANDARD
END:VTIMEZONE
BEGIN:VEVENT
DTSTART;TZID=America/Vancouver:20260420T183000
DTEND;TZID=America/Vancouver:20260420T230000
DTSTAMP:20260423T154249
CREATED:20260305T185044Z
LAST-MODIFIED:20260321T175057Z
UID:10001198-1776709800-1776726000@artsconnect.ing
SUMMARY:Train Wreck Brewing: Open Mic
DESCRIPTION:Join us every Monday and share your talents. Music\, comedy\, poetry\, or whatever you’ve got. The stage is yours!
URL:https://artsconnect.ing/artscalendar/train-wreck-brewing-open-mic-3/2026-04-20/
LOCATION:Train Wreck Brewing\, 3044 St Johns Street\, Port Moody\, BC\, V3H 2C5\, Canada
CATEGORIES:Comedy,Music,Open Mic,Poetry
ATTACH;FMTTYPE=image/jpeg:https://artsconnect.ing/wp-content/uploads/2026/03/655832404_10163996512723805_4157259386927779590_n.jpg
ORGANIZER;CN="Train Wreck Brewing":MAILTO:info@trainwreckbrewing.ca
END:VEVENT
BEGIN:VEVENT
DTSTART;TZID=America/Vancouver:20260421T180000
DTEND;TZID=America/Vancouver:20260421T180000
DTSTAMP:20260423T154249
CREATED:20260409T162317Z
LAST-MODIFIED:20260409T162317Z
UID:10001246-1776794400-1776794400@artsconnect.ing
SUMMARY:Taylight Open Mic
DESCRIPTION:Come sing your heart out with a fantastic group of people! Starting at 6 PM. First-come\, first-served sign up at the brewery.
URL:https://artsconnect.ing/artscalendar/taylight-open-mic-2/
LOCATION:Taylight Brewing\, #402 - 1485 Coast Meridian Road\, Port Coquitlam\, BC\, V3C 5P1\, Canada
CATEGORIES:Music,Open Mic
ATTACH;FMTTYPE=image/jpeg:https://artsconnect.ing/wp-content/uploads/2026/04/657336166_17930234298246441_1746749021090618238_n.jpg
ORGANIZER;CN="Taylight Brewing":MAILTO:cheers@taylightbrewing.com
END:VEVENT
BEGIN:VEVENT
DTSTART;TZID=America/Vancouver:20260421T180000
DTEND;TZID=America/Vancouver:20260421T210000
DTSTAMP:20260423T154249
CREATED:20260419T161038Z
LAST-MODIFIED:20260419T161825Z
UID:10001265-1776794400-1776805200@artsconnect.ing
SUMMARY:Rocky Point Spirits Open Mic
DESCRIPTION:ROCKY POINT SPIRITS OPEN MIC! Tuesday April 21st 2026! 6-9pm \nLocated at: Rocky Point Spirits 2805 Murray St\, Port Moody\, BC V3H 1X3 \nEvery Tuesday 6-9pm\, hosted by Joel David Shook \n‘Rocky Point Spirits Open Mic’ is a place for musicians to play their own music (originals or covers) for audience to enjoy 🎶 (NOT a Karaoke\, No Stand-up Comedy\, 19yrs+ 😊) \nHope to See you there! 🎶👍
URL:https://artsconnect.ing/artscalendar/rocky-point-spirits-open-mic-47/
LOCATION:Rocky Point Spirits\, 2805 Murray Street\, Port Moody\, BC\, V3H 1X3\, Canada
CATEGORIES:Music,Open Mic
ATTACH;FMTTYPE=image/jpeg:https://artsconnect.ing/wp-content/uploads/2026/04/671735948_10164028083650590_5418494558187518204_n.jpg
ORGANIZER;CN="Rocky Point Spirits":MAILTO:info@rockypointspirits.ca
END:VEVENT
BEGIN:VEVENT
DTSTART;TZID=America/Vancouver:20260425T130000
DTEND;TZID=America/Vancouver:20260425T160000
DTSTAMP:20260423T154249
CREATED:20260415T165909Z
LAST-MODIFIED:20260415T165909Z
UID:10001262-1777122000-1777132800@artsconnect.ing
SUMMARY:Train Wreck Brewing: Open Jam
DESCRIPTION:PORT MOODY! THIS ONE’S FOR THE MUSIC LOVERS \nOur Open Jam is going down and the stage is yours. Whether you play\, sing\, or just want to soak in the vibes this is where you want to be. \n🗓 Saturday\, April 25\n⏰ 1PM – 4PM \n🎸 Full backline ready\n🎤 Host band – The Train Wreck Crew\n🍻 Cold beer\, great food\, and even better energy \nPull up\, grab a drink\, and let’s make some noise 🎶
URL:https://artsconnect.ing/artscalendar/train-wreck-brewing-open-jam/
LOCATION:Train Wreck Brewing\, 3044 St Johns Street\, Port Moody\, BC\, V3H 2C5\, Canada
CATEGORIES:Music,Open Mic
ATTACH;FMTTYPE=image/webp:https://artsconnect.ing/wp-content/uploads/2026/04/671663872_122296151456134237_928653961842129971_n.webp
ORGANIZER;CN="Train Wreck Brewing":MAILTO:info@trainwreckbrewing.ca
END:VEVENT
END:VCALENDAR