BEGIN:VCALENDAR
VERSION:2.0
PRODID:-//ArtsConnect - ECPv6.15.20//NONSGML v1.0//EN
CALSCALE:GREGORIAN
METHOD:PUBLISH
X-ORIGINAL-URL:https://artsconnect.ing
X-WR-CALDESC:Events for ArtsConnect
REFRESH-INTERVAL;VALUE=DURATION:PT1H
X-Robots-Tag:noindex
X-PUBLISHED-TTL:PT1H
BEGIN:VTIMEZONE
TZID:America/Vancouver
BEGIN:DAYLIGHT
TZOFFSETFROM:-0800
TZOFFSETTO:-0700
TZNAME:PDT
DTSTART:20240310T100000
END:DAYLIGHT
BEGIN:STANDARD
TZOFFSETFROM:-0700
TZOFFSETTO:-0800
TZNAME:PST
DTSTART:20241103T090000
END:STANDARD
BEGIN:DAYLIGHT
TZOFFSETFROM:-0800
TZOFFSETTO:-0700
TZNAME:PDT
DTSTART:20250309T100000
END:DAYLIGHT
BEGIN:STANDARD
TZOFFSETFROM:-0700
TZOFFSETTO:-0800
TZNAME:PST
DTSTART:20251102T090000
END:STANDARD
BEGIN:DAYLIGHT
TZOFFSETFROM:-0800
TZOFFSETTO:-0700
TZNAME:PDT
DTSTART:20260308T100000
END:DAYLIGHT
BEGIN:STANDARD
TZOFFSETFROM:-0700
TZOFFSETTO:-0800
TZNAME:PST
DTSTART:20261101T090000
END:STANDARD
END:VTIMEZONE
BEGIN:VEVENT
DTSTART;TZID=America/Vancouver:20251109T073000
DTEND;TZID=America/Vancouver:20251109T223000
DTSTAMP:20260424T030124
CREATED:20251029T052007Z
LAST-MODIFIED:20251029T052007Z
UID:10000639-1762673400-1762727400@artsconnect.ing
SUMMARY:Sunday Sunrise Photo Walk on Port Moody’s Inlet Trail\, Landscapes\, Birds
DESCRIPTION:Start your Sunday with a creative boost. This guided sunrise photo walk along Port Moody’s Inlet Trail runs from Rocky Point Park to Old Orchard Park\, with stops to capture mist on the inlet\, active bird life\, and the soft glow of golden-hour light. \nThis isn’t just a walk\, it’s hands-on learning with a photographer who brings 30+ years of professional experience across events\, wildlife\, headshots\, and landscapes\, and has taught workshops internationally. Ask me anything\, analog or digital\, and I’ll be right beside you helping dial in settings\, metering\, exposure\, focus\, and composition. Beginners to advanced are welcome; I can meet you at your level and push you further. \nWhat you can expect \n\n3 hours of relaxed walking (~4 km round trip\, easy flat trail)\nLive\, on-the-spot guidance: exposure/metering (film & digital)\, focusing\, depth of field\, framing\nLandscape & bird photography opportunities tailored to morning conditions\n1:1 moments for personalized feedback and gear questions\nA supportive space where film is celebrated and digital is welcome\nPractical tips you can use immediately\, far beyond what you get from videos\n\nBring your camera\, extra batteries\, a few rolls of film if you shoot analog\, and curiosity. We’ll photograph the inlet rain or shine\, and you’ll leave with stronger images\, and the know-how behind them. \nSpots are limited and the light won’t wait\, lock in your seat now and be part of the first sunrise crew on the inlet. \nCome for the golden light\, leave with images you’re proud of\, and the skills to repeat them anywhere. \nJoin a small\, driven group of photographers chasing first light\, learn fast\, shoot better\, and start your Sunday inspired.
URL:https://artsconnect.ing/artscalendar/sunday-sunrise-photo-walk-on-port-moodys-inlet-trail-landscapes-birds/
LOCATION:Rocky Point Park\, 2800 Murray Street\, Port Moody\, BC\, V3H 1X2\, Canada
CATEGORIES:Photography
ATTACH;FMTTYPE=image/webp:https://artsconnect.ing/wp-content/uploads/2025/10/https___cdn.evbuc_.com_images_1139472633_222180871919_1_original.webp
END:VEVENT
BEGIN:VEVENT
DTSTART;TZID=America/Vancouver:20251122T090000
DTEND;TZID=America/Vancouver:20251122T160000
DTSTAMP:20260424T030124
CREATED:20251022T165340Z
LAST-MODIFIED:20251022T165340Z
UID:10000623-1763802000-1763827200@artsconnect.ing
SUMMARY:Dogwood Visual Arts Show and Sale
DESCRIPTION:Join us for the fall Dogwood Visual Arts Show and Sale featuring Dogwood Senior Society Activity Groups: Coquitlam Art Club\, Dogwood Designs Gift Shop\, Lapidary\, Woodcarving\, Woodworking and Photography Club. The groups will have items displayed and for sale at both Dogwood Pavilion and the Centennial Pavilion.
URL:https://artsconnect.ing/artscalendar/dogwood-visual-arts-show-and-sale/2025-11-22/
LOCATION:Dogwood Pavilion\, 1655 Winslow Avenue\, Coquitlam\, BC\, V3J 0E7\, Canada
CATEGORIES:Arts and Crafts,Photography,Visual Arts
ATTACH;FMTTYPE=image/webp:https://artsconnect.ing/wp-content/uploads/2025/10/558601928_1367068015037352_4096866096760991520_n.webp
END:VEVENT
BEGIN:VEVENT
DTSTART;TZID=America/Vancouver:20251123T090000
DTEND;TZID=America/Vancouver:20251123T150000
DTSTAMP:20260424T030124
CREATED:20251022T165340Z
LAST-MODIFIED:20251022T165340Z
UID:10000624-1763888400-1763910000@artsconnect.ing
SUMMARY:Dogwood Visual Arts Show and Sale
DESCRIPTION:Join us for the fall Dogwood Visual Arts Show and Sale featuring Dogwood Senior Society Activity Groups: Coquitlam Art Club\, Dogwood Designs Gift Shop\, Lapidary\, Woodcarving\, Woodworking and Photography Club. The groups will have items displayed and for sale at both Dogwood Pavilion and the Centennial Pavilion.
URL:https://artsconnect.ing/artscalendar/dogwood-visual-arts-show-and-sale/2025-11-23/
LOCATION:Dogwood Pavilion\, 1655 Winslow Avenue\, Coquitlam\, BC\, V3J 0E7\, Canada
CATEGORIES:Arts and Crafts,Photography,Visual Arts
ATTACH;FMTTYPE=image/webp:https://artsconnect.ing/wp-content/uploads/2025/10/558601928_1367068015037352_4096866096760991520_n.webp
END:VEVENT
BEGIN:VEVENT
DTSTART;TZID=America/Vancouver:20251126T190000
DTEND;TZID=America/Vancouver:20251126T213000
DTSTAMP:20260424T030124
CREATED:20251118T191639Z
LAST-MODIFIED:20251118T191639Z
UID:10000745-1764183600-1764192600@artsconnect.ing
SUMMARY:Pacific Digital Photography Club: In Person Meeting
DESCRIPTION:Topic: Curate your own pictures \nNancie Green \nRoom 214 (as the Drama room is booked). \nSubmit 3 pictures and get feedback. What works and what does not. \nGuests are always welcome so if you would like to join us simply show up at the school anytime after 7:00 PM.  The meeting will begin at 7:30 PM.  If you would like more information simply drop us at email at: mailto:guest@pdpc.ca
URL:https://artsconnect.ing/artscalendar/pacific-digital-photography-club-in-person-meeting/
LOCATION:Port Moody Secondary School\, 300 Albert Street\, Port Moody\, BC\, V3H 2M5\, Canada
CATEGORIES:Photography
ATTACH;FMTTYPE=image/webp:https://artsconnect.ing/wp-content/uploads/2025/11/Pacific-Digital-Photography-Club.webp
ORGANIZER;CN="Pacific Digital Photography Club":MAILTO:https://www.pdpc.ca/
END:VEVENT
END:VCALENDAR