BEGIN:VCALENDAR
VERSION:2.0
PRODID:-//ArtsConnect - ECPv6.15.20//NONSGML v1.0//EN
CALSCALE:GREGORIAN
METHOD:PUBLISH
X-ORIGINAL-URL:https://artsconnect.ing
X-WR-CALDESC:Events for ArtsConnect
REFRESH-INTERVAL;VALUE=DURATION:PT1H
X-Robots-Tag:noindex
X-PUBLISHED-TTL:PT1H
BEGIN:VTIMEZONE
TZID:America/Vancouver
BEGIN:DAYLIGHT
TZOFFSETFROM:-0800
TZOFFSETTO:-0700
TZNAME:PDT
DTSTART:20250309T100000
END:DAYLIGHT
BEGIN:STANDARD
TZOFFSETFROM:-0700
TZOFFSETTO:-0800
TZNAME:PST
DTSTART:20251102T090000
END:STANDARD
BEGIN:DAYLIGHT
TZOFFSETFROM:-0800
TZOFFSETTO:-0700
TZNAME:PDT
DTSTART:20260308T100000
END:DAYLIGHT
BEGIN:STANDARD
TZOFFSETFROM:-0700
TZOFFSETTO:-0800
TZNAME:PST
DTSTART:20261101T090000
END:STANDARD
BEGIN:DAYLIGHT
TZOFFSETFROM:-0800
TZOFFSETTO:-0700
TZNAME:PDT
DTSTART:20270314T100000
END:DAYLIGHT
BEGIN:STANDARD
TZOFFSETFROM:-0700
TZOFFSETTO:-0800
TZNAME:PST
DTSTART:20271107T090000
END:STANDARD
END:VTIMEZONE
BEGIN:VEVENT
DTSTART;TZID=America/Vancouver:20260307T140000
DTEND;TZID=America/Vancouver:20260307T163000
DTSTAMP:20260423T155251
CREATED:20260219T183733Z
LAST-MODIFIED:20260306T232237Z
UID:10001096-1772892000-1772901000@artsconnect.ing
SUMMARY:"Every Surface Is a Shrine" Opening Reception & Artist Tour
DESCRIPTION:Photo credit: Karen Zalamea\, Sunken Garden (Chico)\, 2025\, inkjet print on canvas. Courtesy of the Artist. \nKaren Zalamea: Every Surface Is a Shrine\nMarch 7 – May 24\, 2026\nOPENING RECEPTION & ARTIST TOUR\nKAREN ZALAMEA: EVERY SURFACE IS A SHRINE \nJoin us on Saturday\, March 7 to celebrate the opening of Karen Zalamea: Every Surface Is a Shrine. This event begins with a free exhibition tour with artist Karen Zalamea and AGE curator Katherine Dennis at 2PM. \nThen\, enjoy light refreshments and stimulating conversation at the opening reception in Evergreen’s beautiful lakeside lobby. This event is wheelchair accessible. \nABOUT THE EXHIBITION\nThe Art Gallery at Evergreen is pleased to present Every Surface Is a Shrine\, which brings together a selection of photo-based works by Karen Zalamea that traces the shifting boundaries between material\, memory and place. Rooted in a critical exploration of photography’s expanded possibilities\, Zalamea’s practice reimagines the medium not only as an image-making tool but as a methodology of care\, labour and cultural inquiry. \nThis exhibition is part of the 2026 Capture Photography Festival Selected Exhibition Program.
URL:https://artsconnect.ing/artscalendar/every-surface-is-a-shrine-opening-reception-artist-tour/
LOCATION:Art Gallery at Evergreen\, 1205 Pinetree Way\, Coquitlam\, BC\, V3B 7Y3\, Canada
CATEGORIES:Photography
ATTACH;FMTTYPE=image/webp:https://artsconnect.ing/wp-content/uploads/2026/02/02_KarenZalamea_SunkenGarden_Chico-1.webp
END:VEVENT
BEGIN:VEVENT
DTSTART;TZID=America/Vancouver:20260311T190000
DTEND;TZID=America/Vancouver:20260311T213000
DTSTAMP:20260423T155251
CREATED:20260215T200026Z
LAST-MODIFIED:20260215T200046Z
UID:10001074-1773255600-1773264600@artsconnect.ing
SUMMARY:Pacific Digital Photography Club: In Person Meeting
DESCRIPTION:Topic: Pending \nGuests are always welcome so if you would like to join us simply show up at the school anytime after 7:00 PM.  The meeting will begin at 7:30 PM.  If you would mike more information simply drop us at email at: mailto:guest@pdpc.ca
URL:https://artsconnect.ing/artscalendar/pacific-digital-photography-club-in-person-meeting-5/
LOCATION:Port Moody Secondary School\, 300 Albert Street\, Port Moody\, BC\, V3H 2M5\, Canada
CATEGORIES:Photography
ATTACH;FMTTYPE=image/webp:https://artsconnect.ing/wp-content/uploads/2025/11/Pacific-Digital-Photography-Club.webp
ORGANIZER;CN="Pacific Digital Photography Club":MAILTO:https://www.pdpc.ca/
END:VEVENT
BEGIN:VEVENT
DTSTART;TZID=America/Vancouver:20260313T130000
DTEND;TZID=America/Vancouver:20260313T133000
DTSTAMP:20260423T155251
CREATED:20260219T184436Z
LAST-MODIFIED:20260219T184436Z
UID:10001097-1773406800-1773408600@artsconnect.ing
SUMMARY:"Every Surface Is a Shrine" Exhibition Tour
DESCRIPTION:EXHIBITION TOUR\nKAREN ZALAMEA: EVERY SURFACE IS A SHRINE \nJoin curator Katherine Dennis (March 13) and Assistant Curator Anna Be (May 16) for a free\, drop-in tour of Karen Zalamea: Every Surface Is a Shrine.   \nABOUT THE EXHIBITION\nThe Art Gallery at Evergreen is pleased to present Every Surface Is a Shrine\, which brings together a selection of photo-based works by Karen Zalamea that traces the shifting boundaries between material\, memory and place. Rooted in a critical exploration of photography’s expanded possibilities\, Zalamea’s practice reimagines the medium not only as an image-making tool but as a methodology of care\, labour and cultural inquiry. \nThis exhibition is part of the 2026 Capture Photography Festival Selected Exhibition Program.
URL:https://artsconnect.ing/artscalendar/every-surface-is-a-shrine-exhibition-tour/
LOCATION:Art Gallery at Evergreen\, 1205 Pinetree Way\, Coquitlam\, BC\, V3B 7Y3\, Canada
CATEGORIES:Photography
ATTACH;FMTTYPE=image/webp:https://artsconnect.ing/wp-content/uploads/2026/02/DSC_0142-scaled-1.webp
END:VEVENT
BEGIN:VEVENT
DTSTART;TZID=America/Vancouver:20260315T235900
DTEND;TZID=America/Vancouver:20260315T235900
DTSTAMP:20260423T155251
CREATED:20260226T180538Z
LAST-MODIFIED:20260226T180538Z
UID:10001120-1773619140-1773619140@artsconnect.ing
SUMMARY:Art Out Side 2026: Call for Artists: Deadline
DESCRIPTION:Calling local artists to transform Port Moody through the arts this summer! Applications are now open to submit your proposal 💥 \nArt Out Side 2026 is a city-wide multidisciplinary arts festival taking place August 7–16. From waterfronts to commercial hubs\, alleyways to park benches\, the festival invites bold artistic voices to animate public space and reimagine how and where art is experienced. \nCurated by PoMoArts with the support of the City of Port Moody. \nWe invite artists of all disciplines to propose engaging works in visual and media arts\, performance\, poetry\, sound\, interactive installations\, film\, sculpture\, dance\, and other creative forms: \n🎥 Solo or group-led projects that meaningfully transform public space\n🎸 One-day or one-night performances at designated festival sites\n🧑‍🎨 Temporary installations (short-term or multi-day)\n🎭 Large-scale activations (mass movement\, participatory art\, immersive environments\, collective performance)\n🏘️ Lead muralists for pre-approved sites (teams welcome)\n🎤 Roaming performers\, pop-up artists\, and buskers animating designated festival zones \nApply now by March 15\, 2026 at https://www.pomoarts.ca/artoutside
URL:https://artsconnect.ing/artscalendar/art-out-side-2026-call-for-artists-deadline/
LOCATION:PoMoArts\, 2425 St. Johns Street\, Port Moody\, BC\, V3H 2B2\, Canada
CATEGORIES:Dance,Festival,Literary Arts,Music,Photography,Poetry,Visual Arts
ATTACH;FMTTYPE=image/webp:https://artsconnect.ing/wp-content/uploads/2026/02/633659077_1350232077143296_8366537446944865181_n.webp
ORGANIZER;CN="PoMoArts":MAILTO:info@pomoarts.ca
END:VEVENT
END:VCALENDAR