BEGIN:VCALENDAR
VERSION:2.0
PRODID:-//ArtsConnect - ECPv6.15.20//NONSGML v1.0//EN
CALSCALE:GREGORIAN
METHOD:PUBLISH
X-ORIGINAL-URL:https://artsconnect.ing
X-WR-CALDESC:Events for ArtsConnect
REFRESH-INTERVAL;VALUE=DURATION:PT1H
X-Robots-Tag:noindex
X-PUBLISHED-TTL:PT1H
BEGIN:VTIMEZONE
TZID:America/Vancouver
BEGIN:DAYLIGHT
TZOFFSETFROM:-0800
TZOFFSETTO:-0700
TZNAME:PDT
DTSTART:20240310T100000
END:DAYLIGHT
BEGIN:STANDARD
TZOFFSETFROM:-0700
TZOFFSETTO:-0800
TZNAME:PST
DTSTART:20241103T090000
END:STANDARD
BEGIN:DAYLIGHT
TZOFFSETFROM:-0800
TZOFFSETTO:-0700
TZNAME:PDT
DTSTART:20250309T100000
END:DAYLIGHT
BEGIN:STANDARD
TZOFFSETFROM:-0700
TZOFFSETTO:-0800
TZNAME:PST
DTSTART:20251102T090000
END:STANDARD
BEGIN:DAYLIGHT
TZOFFSETFROM:-0800
TZOFFSETTO:-0700
TZNAME:PDT
DTSTART:20260308T100000
END:DAYLIGHT
BEGIN:STANDARD
TZOFFSETFROM:-0700
TZOFFSETTO:-0800
TZNAME:PST
DTSTART:20261101T090000
END:STANDARD
BEGIN:DAYLIGHT
TZOFFSETFROM:-0800
TZOFFSETTO:-0700
TZNAME:PDT
DTSTART:20270314T100000
END:DAYLIGHT
BEGIN:STANDARD
TZOFFSETFROM:-0700
TZOFFSETTO:-0800
TZNAME:PST
DTSTART:20271107T090000
END:STANDARD
END:VTIMEZONE
BEGIN:VEVENT
DTSTART;TZID=America/Vancouver:20260422T235900
DTEND;TZID=America/Vancouver:20260422T235900
DTSTAMP:20260423T141646
CREATED:20260402T172200Z
LAST-MODIFIED:20260402T172349Z
UID:10001213-1776902340-1776902340@artsconnect.ing
SUMMARY:Call for Submissions: Share Your Fishing Memories: Deadline
DESCRIPTION:(Photo Courtesy of Katherine Dennis) \nCALL FOR SUBMISSIONS! \nSHARE YOUR FISHING MEMORIES \nDo you have a photo of a great catch\, a first catch\, or a memorable family fishing trip? The Art Gallery at Evergreen is seeking meaningful photos that reflect local stories\, traditions\, and experiences on the water.\nAn extension of our upcoming exhibition\, Lure\, selected images will be included in a temporary window display highlighting the shared joys of fishing and the people who make these moments special. \nThis is not a photography contest! Professional or artistic photos are not required\, and all submissions are welcome. \nLearn More
URL:https://artsconnect.ing/artscalendar/call-for-submissions-share-your-fishing-memories-deadline/
LOCATION:Evergreen Cultural Centre\, 1205 Pinetree Way\, Coquitlam\, BC\, V3B 7Z4\, Canada
CATEGORIES:Photography
ATTACH;FMTTYPE=image/png:https://artsconnect.ing/wp-content/uploads/2026/04/Courtesy-of-Katherine-Dennis.png
END:VEVENT
BEGIN:VEVENT
DTSTART;TZID=America/Vancouver:20260422T190000
DTEND;TZID=America/Vancouver:20260422T213000
DTSTAMP:20260423T141646
CREATED:20260215T200830Z
LAST-MODIFIED:20260215T200830Z
UID:10001076-1776884400-1776893400@artsconnect.ing
SUMMARY:Pacific Digital Photography Club: In Person Meeting
DESCRIPTION:Topic: Pending \nGuests are always welcome so if you would like to join us simply show up at the school anytime after 7:00 PM.  The meeting will begin at 7:30 PM.  If you would mike more information simply drop us at email at: mailto:guest@pdpc.ca
URL:https://artsconnect.ing/artscalendar/pacific-digital-photography-club-in-person-meeting-6/
LOCATION:Port Moody Secondary School\, 300 Albert Street\, Port Moody\, BC\, V3H 2M5\, Canada
CATEGORIES:Photography
ATTACH;FMTTYPE=image/webp:https://artsconnect.ing/wp-content/uploads/2025/11/Pacific-Digital-Photography-Club.webp
ORGANIZER;CN="Pacific Digital Photography Club":MAILTO:https://www.pdpc.ca/
END:VEVENT
BEGIN:VEVENT
DTSTART;TZID=America/Vancouver:20260412T235900
DTEND;TZID=America/Vancouver:20260412T235900
DTSTAMP:20260423T141646
CREATED:20260402T180303Z
LAST-MODIFIED:20260402T180303Z
UID:10001221-1776038340-1776038340@artsconnect.ing
SUMMARY:2026 Minnekhada As Muse Photography Project: Deadline
DESCRIPTION:ATTENTION PHOTOGRAPHERS! Our 2026 Minnekhada As Muse photography project is now OPEN for registration! \nThis year\, we endeavor to expand on last year’s inaugural photography Muse project which was very successful. This year our goal is to deepen\, expand and enhance people’s connection\, appreciation and knowledge to/of nature directly and indirectly\, particularly at Minnekhada – through using photography as the creative vehicle\, in combination with social media to tell a story. \nFor more information and to register — https://minnekhada.ca/minnekhada-as-muse-photography-2026/
URL:https://artsconnect.ing/artscalendar/2026-minnekhada-as-muse-photography-project-deadline/
LOCATION:Minnekhada Regional Park\, 4000 Quarry Road\, Coquitlam\, BC\, V3E 3H5\, Canada
CATEGORIES:Photography
ATTACH;FMTTYPE=image/jpeg:https://artsconnect.ing/wp-content/uploads/2026/04/657156013_1339148174914131_3434973313697079513_n.jpg
ORGANIZER;CN="Minnekhada Regional Park":MAILTO:communications@minnekhada.ca
END:VEVENT
BEGIN:VEVENT
DTSTART;TZID=America/Vancouver:20260411T130000
DTEND;TZID=America/Vancouver:20260411T160000
DTSTAMP:20260423T141646
CREATED:20260402T173931Z
LAST-MODIFIED:20260402T173931Z
UID:10001216-1775912400-1775923200@artsconnect.ing
SUMMARY:SLOW ART DAY
DESCRIPTION:SLOW ART DAY\nKAREN ZALAMEA: EVERY SURFACE IS A SHRINE  \nJoin us for Slow Art Day\, a global annual event that encourages people to discover for themselves the joy of experiencing art. Various prompts will be available for a self-guided\, slow-looking experience in the gallery. \nFree to attend\, drop-ins welcome. \nABOUT THE EXHIBITION\nThe Art Gallery at Evergreen is pleased to present Every Surface Is a Shrine\, which brings together a selection of photo-based works by Karen Zalamea that traces the shifting boundaries between material\, memory and place. Rooted in a critical exploration of photography’s expanded possibilities\, Zalamea’s practice reimagines the medium not only as an image-making tool but as a methodology of care\, labour and cultural inquiry. \nThis exhibition is part of the 2026 Capture Photography Festival Selected Exhibition Program.
URL:https://artsconnect.ing/artscalendar/slow-art-day/
LOCATION:Art Gallery at Evergreen\, 1205 Pinetree Way\, Coquitlam\, BC\, V3B 7Y3\, Canada
CATEGORIES:Photography
ATTACH;FMTTYPE=image/png:https://artsconnect.ing/wp-content/uploads/2026/04/Website-Images_2560-x-2048px-1.png
END:VEVENT
BEGIN:VEVENT
DTSTART;TZID=America/Vancouver:20260408T223000
DTEND;TZID=America/Vancouver:20260409T003000
DTSTAMP:20260423T141646
CREATED:20260215T200600Z
LAST-MODIFIED:20260215T200600Z
UID:10001075-1775687400-1775694600@artsconnect.ing
SUMMARY:Pacific Digital Photography Club: Online Meeting
DESCRIPTION:Pending theme \nUse this Zoom link to join: \nTBD \nGuests are always welcome so if you would like to join us simply show up  anytime after 7:00 PM.  The meeting will begin at 7:30 PM.  If you would mike more information simply drop us at email at: mailto:guest@pdpc.ca
URL:https://artsconnect.ing/artscalendar/pacific-digital-photography-club-online-meeting-3/
LOCATION:https://www.pdpc.ca/event-details-registration/online-meeting-14
CATEGORIES:Photography
ATTACH;FMTTYPE=image/webp:https://artsconnect.ing/wp-content/uploads/2025/11/Pacific-Digital-Photography-Club.webp
ORGANIZER;CN="Pacific Digital Photography Club":MAILTO:https://www.pdpc.ca/
END:VEVENT
BEGIN:VEVENT
DTSTART;TZID=America/Vancouver:20260315T235900
DTEND;TZID=America/Vancouver:20260315T235900
DTSTAMP:20260423T141646
CREATED:20260226T180538Z
LAST-MODIFIED:20260226T180538Z
UID:10001120-1773619140-1773619140@artsconnect.ing
SUMMARY:Art Out Side 2026: Call for Artists: Deadline
DESCRIPTION:Calling local artists to transform Port Moody through the arts this summer! Applications are now open to submit your proposal 💥 \nArt Out Side 2026 is a city-wide multidisciplinary arts festival taking place August 7–16. From waterfronts to commercial hubs\, alleyways to park benches\, the festival invites bold artistic voices to animate public space and reimagine how and where art is experienced. \nCurated by PoMoArts with the support of the City of Port Moody. \nWe invite artists of all disciplines to propose engaging works in visual and media arts\, performance\, poetry\, sound\, interactive installations\, film\, sculpture\, dance\, and other creative forms: \n🎥 Solo or group-led projects that meaningfully transform public space\n🎸 One-day or one-night performances at designated festival sites\n🧑‍🎨 Temporary installations (short-term or multi-day)\n🎭 Large-scale activations (mass movement\, participatory art\, immersive environments\, collective performance)\n🏘️ Lead muralists for pre-approved sites (teams welcome)\n🎤 Roaming performers\, pop-up artists\, and buskers animating designated festival zones \nApply now by March 15\, 2026 at https://www.pomoarts.ca/artoutside
URL:https://artsconnect.ing/artscalendar/art-out-side-2026-call-for-artists-deadline/
LOCATION:PoMoArts\, 2425 St. Johns Street\, Port Moody\, BC\, V3H 2B2\, Canada
CATEGORIES:Dance,Festival,Literary Arts,Music,Photography,Poetry,Visual Arts
ATTACH;FMTTYPE=image/webp:https://artsconnect.ing/wp-content/uploads/2026/02/633659077_1350232077143296_8366537446944865181_n.webp
ORGANIZER;CN="PoMoArts":MAILTO:info@pomoarts.ca
END:VEVENT
BEGIN:VEVENT
DTSTART;TZID=America/Vancouver:20260313T130000
DTEND;TZID=America/Vancouver:20260313T133000
DTSTAMP:20260423T141646
CREATED:20260219T184436Z
LAST-MODIFIED:20260219T184436Z
UID:10001097-1773406800-1773408600@artsconnect.ing
SUMMARY:"Every Surface Is a Shrine" Exhibition Tour
DESCRIPTION:EXHIBITION TOUR\nKAREN ZALAMEA: EVERY SURFACE IS A SHRINE \nJoin curator Katherine Dennis (March 13) and Assistant Curator Anna Be (May 16) for a free\, drop-in tour of Karen Zalamea: Every Surface Is a Shrine.   \nABOUT THE EXHIBITION\nThe Art Gallery at Evergreen is pleased to present Every Surface Is a Shrine\, which brings together a selection of photo-based works by Karen Zalamea that traces the shifting boundaries between material\, memory and place. Rooted in a critical exploration of photography’s expanded possibilities\, Zalamea’s practice reimagines the medium not only as an image-making tool but as a methodology of care\, labour and cultural inquiry. \nThis exhibition is part of the 2026 Capture Photography Festival Selected Exhibition Program.
URL:https://artsconnect.ing/artscalendar/every-surface-is-a-shrine-exhibition-tour/
LOCATION:Art Gallery at Evergreen\, 1205 Pinetree Way\, Coquitlam\, BC\, V3B 7Y3\, Canada
CATEGORIES:Photography
ATTACH;FMTTYPE=image/webp:https://artsconnect.ing/wp-content/uploads/2026/02/DSC_0142-scaled-1.webp
END:VEVENT
BEGIN:VEVENT
DTSTART;TZID=America/Vancouver:20260311T190000
DTEND;TZID=America/Vancouver:20260311T213000
DTSTAMP:20260423T141646
CREATED:20260215T200026Z
LAST-MODIFIED:20260215T200046Z
UID:10001074-1773255600-1773264600@artsconnect.ing
SUMMARY:Pacific Digital Photography Club: In Person Meeting
DESCRIPTION:Topic: Pending \nGuests are always welcome so if you would like to join us simply show up at the school anytime after 7:00 PM.  The meeting will begin at 7:30 PM.  If you would mike more information simply drop us at email at: mailto:guest@pdpc.ca
URL:https://artsconnect.ing/artscalendar/pacific-digital-photography-club-in-person-meeting-5/
LOCATION:Port Moody Secondary School\, 300 Albert Street\, Port Moody\, BC\, V3H 2M5\, Canada
CATEGORIES:Photography
ATTACH;FMTTYPE=image/webp:https://artsconnect.ing/wp-content/uploads/2025/11/Pacific-Digital-Photography-Club.webp
ORGANIZER;CN="Pacific Digital Photography Club":MAILTO:https://www.pdpc.ca/
END:VEVENT
BEGIN:VEVENT
DTSTART;TZID=America/Vancouver:20260307T140000
DTEND;TZID=America/Vancouver:20260307T163000
DTSTAMP:20260423T141646
CREATED:20260219T183733Z
LAST-MODIFIED:20260306T232237Z
UID:10001096-1772892000-1772901000@artsconnect.ing
SUMMARY:"Every Surface Is a Shrine" Opening Reception & Artist Tour
DESCRIPTION:Photo credit: Karen Zalamea\, Sunken Garden (Chico)\, 2025\, inkjet print on canvas. Courtesy of the Artist. \nKaren Zalamea: Every Surface Is a Shrine\nMarch 7 – May 24\, 2026\nOPENING RECEPTION & ARTIST TOUR\nKAREN ZALAMEA: EVERY SURFACE IS A SHRINE \nJoin us on Saturday\, March 7 to celebrate the opening of Karen Zalamea: Every Surface Is a Shrine. This event begins with a free exhibition tour with artist Karen Zalamea and AGE curator Katherine Dennis at 2PM. \nThen\, enjoy light refreshments and stimulating conversation at the opening reception in Evergreen’s beautiful lakeside lobby. This event is wheelchair accessible. \nABOUT THE EXHIBITION\nThe Art Gallery at Evergreen is pleased to present Every Surface Is a Shrine\, which brings together a selection of photo-based works by Karen Zalamea that traces the shifting boundaries between material\, memory and place. Rooted in a critical exploration of photography’s expanded possibilities\, Zalamea’s practice reimagines the medium not only as an image-making tool but as a methodology of care\, labour and cultural inquiry. \nThis exhibition is part of the 2026 Capture Photography Festival Selected Exhibition Program.
URL:https://artsconnect.ing/artscalendar/every-surface-is-a-shrine-opening-reception-artist-tour/
LOCATION:Art Gallery at Evergreen\, 1205 Pinetree Way\, Coquitlam\, BC\, V3B 7Y3\, Canada
CATEGORIES:Photography
ATTACH;FMTTYPE=image/webp:https://artsconnect.ing/wp-content/uploads/2026/02/02_KarenZalamea_SunkenGarden_Chico-1.webp
END:VEVENT
BEGIN:VEVENT
DTSTART;TZID=America/Vancouver:20260225T200000
DTEND;TZID=America/Vancouver:20260225T223000
DTSTAMP:20260423T141646
CREATED:20260104T174956Z
LAST-MODIFIED:20260104T174956Z
UID:10000819-1772049600-1772058600@artsconnect.ing
SUMMARY:Pacific Digital Photography Club: In Person Meeting
DESCRIPTION:Topic: Pending \nGuests are always welcome so if you would like to join us simply show up at the school anytime after 7:00 PM.  The meeting will begin at 7:30 PM.  If you would mike more information simply drop us at email at: mailto:guest@pdpc.ca
URL:https://artsconnect.ing/artscalendar/pacific-digital-photography-club-in-person-meeting-4/
LOCATION:Port Moody Secondary School\, 300 Albert Street\, Port Moody\, BC\, V3H 2M5\, Canada
CATEGORIES:Photography
ATTACH;FMTTYPE=image/webp:https://artsconnect.ing/wp-content/uploads/2025/11/Pacific-Digital-Photography-Club.webp
ORGANIZER;CN="Pacific Digital Photography Club":MAILTO:https://www.pdpc.ca/
END:VEVENT
BEGIN:VEVENT
DTSTART;TZID=America/Vancouver:20260217T000000
DTEND;TZID=America/Vancouver:20260217T235959
DTSTAMP:20260423T141646
CREATED:20260211T192518Z
LAST-MODIFIED:20260211T192518Z
UID:10001069-1771286400-1771372799@artsconnect.ing
SUMMARY:2026 Art Out Side Festival: Artist Applications
DESCRIPTION:💥SAVE THE DATE 💥 Artist applications open February 17 for the 2026 Art Out Side Festival in Port Moody. \nIf you are an artist who wants to explore and innovate\, creating art in unexpected places and in conversation with the community\, we want to meet you 🙌 \nStay tuned for more! \nhttps://www.pomoarts.ca/artoutside
URL:https://artsconnect.ing/artscalendar/2026-art-out-side-festival-artist-applications/
LOCATION:PoMoArts\, 2425 St. Johns Street\, Port Moody\, BC\, V3H 2B2\, Canada
CATEGORIES:Dance,Festival,Literary Arts,Music,Photography,Poetry,Visual Arts
ATTACH;FMTTYPE=image/webp:https://artsconnect.ing/wp-content/uploads/2026/02/630335455_1344178014415369_5568053875147953865_n.webp
ORGANIZER;CN="PoMoArts":MAILTO:info@pomoarts.ca
END:VEVENT
BEGIN:VEVENT
DTSTART;TZID=America/Vancouver:20260211T213000
DTEND;TZID=America/Vancouver:20260211T233000
DTSTAMP:20260423T141646
CREATED:20260104T174737Z
LAST-MODIFIED:20260104T174737Z
UID:10000818-1770845400-1770852600@artsconnect.ing
SUMMARY:Pacific Digital Photography Club: Online Meeting
DESCRIPTION:Pending theme \nUse this Zoom link to join: \nTBD \n Guests are always welcome so if you would like to join us simply show up  anytime after 7:00 PM.  The meeting will begin at 7:30 PM.  If you would mike more information simply drop us at email at: mailto:guest@pdpc.ca
URL:https://artsconnect.ing/artscalendar/pacific-digital-photography-club-online-meeting-2/
LOCATION:https://www.pdpc.ca/event-details-registration/online-meeting-13
CATEGORIES:Photography
ATTACH;FMTTYPE=image/webp:https://artsconnect.ing/wp-content/uploads/2025/11/Pacific-Digital-Photography-Club.webp
ORGANIZER;CN="Pacific Digital Photography Club":MAILTO:https://www.pdpc.ca/
END:VEVENT
BEGIN:VEVENT
DTSTART;TZID=America/Vancouver:20260128T190000
DTEND;TZID=America/Vancouver:20260128T213000
DTSTAMP:20260423T141646
CREATED:20260104T173924Z
LAST-MODIFIED:20260104T174401Z
UID:10000817-1769626800-1769635800@artsconnect.ing
SUMMARY:Pacific Digital Photography Club: In Person Meeting
DESCRIPTION:Topic: Pending \nGuests are always welcome so if you would like to join us simply show up at the school anytime after 7:00 PM.  The meeting will begin at 7:30 PM.  If you would mike more information simply drop us at email at: mailto:guest@pdpc.ca
URL:https://artsconnect.ing/artscalendar/pacific-digital-photography-club-in-person-meeting-3/
LOCATION:Port Moody Secondary School\, 300 Albert Street\, Port Moody\, BC\, V3H 2M5\, Canada
CATEGORIES:Photography
ATTACH;FMTTYPE=image/webp:https://artsconnect.ing/wp-content/uploads/2025/11/Pacific-Digital-Photography-Club.webp
ORGANIZER;CN="Pacific Digital Photography Club":MAILTO:https://www.pdpc.ca/
END:VEVENT
BEGIN:VEVENT
DTSTART;TZID=America/Vancouver:20260114T203000
DTEND;TZID=America/Vancouver:20260114T223000
DTSTAMP:20260423T141646
CREATED:20260104T173324Z
LAST-MODIFIED:20260104T173612Z
UID:10000816-1768422600-1768429800@artsconnect.ing
SUMMARY:Pacific Digital Photography Club: Online Meeting
DESCRIPTION:Pending theme \nUse this Zoom link to join: \nTBD \n Guests are always welcome so if you would like to join us simply show up  anytime after 7:00 PM.  The meeting will begin at 7:30 PM.  If you would mike more information simply drop us at email at: mailto:guest@pdpc.ca
URL:https://artsconnect.ing/artscalendar/pacific-digital-photography-club-online-meeting/
LOCATION:https://www.pdpc.ca/event-details-registration/online-meeting-12
CATEGORIES:Photography
ATTACH;FMTTYPE=image/webp:https://artsconnect.ing/wp-content/uploads/2025/11/Pacific-Digital-Photography-Club.webp
ORGANIZER;CN="Pacific Digital Photography Club":MAILTO:https://www.pdpc.ca/
END:VEVENT
BEGIN:VEVENT
DTSTART;TZID=America/Vancouver:20251210T190000
DTEND;TZID=America/Vancouver:20251210T213000
DTSTAMP:20260423T141646
CREATED:20251118T192044Z
LAST-MODIFIED:20251118T192044Z
UID:10000746-1765393200-1765402200@artsconnect.ing
SUMMARY:Pacific Digital Photography Club: In Person Meeting
DESCRIPTION:Topic: Members night \nSubmit up to 10 photos on any subject. We also have some sort of treats and social time to wrap up the first half of the season. \nGuests are always welcome so if you would like to join us simply show up at the school anytime after 7:00 PM.  The meeting will begin at 7:30 PM.  If you would like more information simply drop us at email at: mailto:guest@pdpc.ca
URL:https://artsconnect.ing/artscalendar/pacific-digital-photography-club-in-person-meeting-2/
LOCATION:Port Moody Secondary School\, 300 Albert Street\, Port Moody\, BC\, V3H 2M5\, Canada
CATEGORIES:Photography
ATTACH;FMTTYPE=image/webp:https://artsconnect.ing/wp-content/uploads/2025/11/Pacific-Digital-Photography-Club.webp
ORGANIZER;CN="Pacific Digital Photography Club":MAILTO:https://www.pdpc.ca/
END:VEVENT
BEGIN:VEVENT
DTSTART;TZID=America/Vancouver:20251206T140000
DTEND;TZID=America/Vancouver:20251206T160000
DTSTAMP:20260423T141646
CREATED:20251116T182257Z
LAST-MODIFIED:20251116T182503Z
UID:10000735-1765029600-1765036800@artsconnect.ing
SUMMARY:Another Photography Club
DESCRIPTION:Meetup at Grit Cafe \nShow & Tell Your Fave Photobooks
URL:https://artsconnect.ing/artscalendar/another-photography-club/
LOCATION:Grit Studio\, 50 Queens Street\, Port Moody\, BC\, V3H 2N4\, Canada
CATEGORIES:Meetup,Photography
ATTACH;FMTTYPE=image/png:https://artsconnect.ing/wp-content/uploads/2025/11/Another-Photography-Club-12_06_25.png
ORGANIZER;CN="Another Photography Club":MAILTO:info@beauphoto.com
END:VEVENT
BEGIN:VEVENT
DTSTART;TZID=America/Vancouver:20251126T190000
DTEND;TZID=America/Vancouver:20251126T213000
DTSTAMP:20260423T141646
CREATED:20251118T191639Z
LAST-MODIFIED:20251118T191639Z
UID:10000745-1764183600-1764192600@artsconnect.ing
SUMMARY:Pacific Digital Photography Club: In Person Meeting
DESCRIPTION:Topic: Curate your own pictures \nNancie Green \nRoom 214 (as the Drama room is booked). \nSubmit 3 pictures and get feedback. What works and what does not. \nGuests are always welcome so if you would like to join us simply show up at the school anytime after 7:00 PM.  The meeting will begin at 7:30 PM.  If you would like more information simply drop us at email at: mailto:guest@pdpc.ca
URL:https://artsconnect.ing/artscalendar/pacific-digital-photography-club-in-person-meeting/
LOCATION:Port Moody Secondary School\, 300 Albert Street\, Port Moody\, BC\, V3H 2M5\, Canada
CATEGORIES:Photography
ATTACH;FMTTYPE=image/webp:https://artsconnect.ing/wp-content/uploads/2025/11/Pacific-Digital-Photography-Club.webp
ORGANIZER;CN="Pacific Digital Photography Club":MAILTO:https://www.pdpc.ca/
END:VEVENT
BEGIN:VEVENT
DTSTART;TZID=America/Vancouver:20251123T090000
DTEND;TZID=America/Vancouver:20251123T150000
DTSTAMP:20260423T141646
CREATED:20251022T165340Z
LAST-MODIFIED:20251022T165340Z
UID:10000624-1763888400-1763910000@artsconnect.ing
SUMMARY:Dogwood Visual Arts Show and Sale
DESCRIPTION:Join us for the fall Dogwood Visual Arts Show and Sale featuring Dogwood Senior Society Activity Groups: Coquitlam Art Club\, Dogwood Designs Gift Shop\, Lapidary\, Woodcarving\, Woodworking and Photography Club. The groups will have items displayed and for sale at both Dogwood Pavilion and the Centennial Pavilion.
URL:https://artsconnect.ing/artscalendar/dogwood-visual-arts-show-and-sale/2025-11-23/
LOCATION:Dogwood Pavilion\, 1655 Winslow Avenue\, Coquitlam\, BC\, V3J 0E7\, Canada
CATEGORIES:Arts and Crafts,Photography,Visual Arts
ATTACH;FMTTYPE=image/webp:https://artsconnect.ing/wp-content/uploads/2025/10/558601928_1367068015037352_4096866096760991520_n.webp
END:VEVENT
BEGIN:VEVENT
DTSTART;TZID=America/Vancouver:20251122T090000
DTEND;TZID=America/Vancouver:20251122T160000
DTSTAMP:20260423T141646
CREATED:20251022T165340Z
LAST-MODIFIED:20251022T165340Z
UID:10000623-1763802000-1763827200@artsconnect.ing
SUMMARY:Dogwood Visual Arts Show and Sale
DESCRIPTION:Join us for the fall Dogwood Visual Arts Show and Sale featuring Dogwood Senior Society Activity Groups: Coquitlam Art Club\, Dogwood Designs Gift Shop\, Lapidary\, Woodcarving\, Woodworking and Photography Club. The groups will have items displayed and for sale at both Dogwood Pavilion and the Centennial Pavilion.
URL:https://artsconnect.ing/artscalendar/dogwood-visual-arts-show-and-sale/2025-11-22/
LOCATION:Dogwood Pavilion\, 1655 Winslow Avenue\, Coquitlam\, BC\, V3J 0E7\, Canada
CATEGORIES:Arts and Crafts,Photography,Visual Arts
ATTACH;FMTTYPE=image/webp:https://artsconnect.ing/wp-content/uploads/2025/10/558601928_1367068015037352_4096866096760991520_n.webp
END:VEVENT
BEGIN:VEVENT
DTSTART;TZID=America/Vancouver:20251109T073000
DTEND;TZID=America/Vancouver:20251109T223000
DTSTAMP:20260423T141646
CREATED:20251029T052007Z
LAST-MODIFIED:20251029T052007Z
UID:10000639-1762673400-1762727400@artsconnect.ing
SUMMARY:Sunday Sunrise Photo Walk on Port Moody’s Inlet Trail\, Landscapes\, Birds
DESCRIPTION:Start your Sunday with a creative boost. This guided sunrise photo walk along Port Moody’s Inlet Trail runs from Rocky Point Park to Old Orchard Park\, with stops to capture mist on the inlet\, active bird life\, and the soft glow of golden-hour light. \nThis isn’t just a walk\, it’s hands-on learning with a photographer who brings 30+ years of professional experience across events\, wildlife\, headshots\, and landscapes\, and has taught workshops internationally. Ask me anything\, analog or digital\, and I’ll be right beside you helping dial in settings\, metering\, exposure\, focus\, and composition. Beginners to advanced are welcome; I can meet you at your level and push you further. \nWhat you can expect \n\n3 hours of relaxed walking (~4 km round trip\, easy flat trail)\nLive\, on-the-spot guidance: exposure/metering (film & digital)\, focusing\, depth of field\, framing\nLandscape & bird photography opportunities tailored to morning conditions\n1:1 moments for personalized feedback and gear questions\nA supportive space where film is celebrated and digital is welcome\nPractical tips you can use immediately\, far beyond what you get from videos\n\nBring your camera\, extra batteries\, a few rolls of film if you shoot analog\, and curiosity. We’ll photograph the inlet rain or shine\, and you’ll leave with stronger images\, and the know-how behind them. \nSpots are limited and the light won’t wait\, lock in your seat now and be part of the first sunrise crew on the inlet. \nCome for the golden light\, leave with images you’re proud of\, and the skills to repeat them anywhere. \nJoin a small\, driven group of photographers chasing first light\, learn fast\, shoot better\, and start your Sunday inspired.
URL:https://artsconnect.ing/artscalendar/sunday-sunrise-photo-walk-on-port-moodys-inlet-trail-landscapes-birds/
LOCATION:Rocky Point Park\, 2800 Murray Street\, Port Moody\, BC\, V3H 1X2\, Canada
CATEGORIES:Photography
ATTACH;FMTTYPE=image/webp:https://artsconnect.ing/wp-content/uploads/2025/10/https___cdn.evbuc_.com_images_1139472633_222180871919_1_original.webp
END:VEVENT
BEGIN:VEVENT
DTSTART;TZID=America/Vancouver:20251018T140000
DTEND;TZID=America/Vancouver:20251018T160000
DTSTAMP:20260423T141646
CREATED:20251009T205907Z
LAST-MODIFIED:20251009T205907Z
UID:10000577-1760796000-1760803200@artsconnect.ing
SUMMARY:The Grit Sessions: An Analog Conversation with Fabri Belar
DESCRIPTION:I’m a local photographer hosting a casual talk about analog photography\, the kind you can see and touch. \nCome by to view real large format slides up close\, look at some large prints\, hear about my process\, and chat about why film still matters today. \nGrab a coffee\, meet some locals\, and experience photography the old-school way. \nDetails on the flyer below\, hope to see you there!
URL:https://artsconnect.ing/artscalendar/the-grit-sessions-an-analog-conversation-with-fabri-belar/
LOCATION:Grit Studio\, 50 Queens Street\, Port Moody\, BC\, V3H 2N4\, Canada
CATEGORIES:Discussion,Photography
ATTACH;FMTTYPE=image/webp:https://artsconnect.ing/wp-content/uploads/2025/10/557138201_2258745017902544_1007864025581430735_n.webp
ORGANIZER;CN="Grit Studio":MAILTO:life@gritstudio.ca
END:VEVENT
END:VCALENDAR