BEGIN:VCALENDAR
VERSION:2.0
PRODID:-//ArtsConnect - ECPv6.15.20//NONSGML v1.0//EN
CALSCALE:GREGORIAN
METHOD:PUBLISH
X-ORIGINAL-URL:https://artsconnect.ing
X-WR-CALDESC:Events for ArtsConnect
REFRESH-INTERVAL;VALUE=DURATION:PT1H
X-Robots-Tag:noindex
X-PUBLISHED-TTL:PT1H
BEGIN:VTIMEZONE
TZID:America/Vancouver
BEGIN:DAYLIGHT
TZOFFSETFROM:-0800
TZOFFSETTO:-0700
TZNAME:PDT
DTSTART:20250309T100000
END:DAYLIGHT
BEGIN:STANDARD
TZOFFSETFROM:-0700
TZOFFSETTO:-0800
TZNAME:PST
DTSTART:20251102T090000
END:STANDARD
BEGIN:DAYLIGHT
TZOFFSETFROM:-0800
TZOFFSETTO:-0700
TZNAME:PDT
DTSTART:20260308T100000
END:DAYLIGHT
BEGIN:STANDARD
TZOFFSETFROM:-0700
TZOFFSETTO:-0800
TZNAME:PST
DTSTART:20261101T090000
END:STANDARD
BEGIN:DAYLIGHT
TZOFFSETFROM:-0800
TZOFFSETTO:-0700
TZNAME:PDT
DTSTART:20270314T100000
END:DAYLIGHT
BEGIN:STANDARD
TZOFFSETFROM:-0700
TZOFFSETTO:-0800
TZNAME:PST
DTSTART:20271107T090000
END:STANDARD
END:VTIMEZONE
BEGIN:VEVENT
DTSTART;TZID=America/Vancouver:20260430T180000
DTEND;TZID=America/Vancouver:20260430T210000
DTSTAMP:20260423T123753
CREATED:20260407T152435Z
LAST-MODIFIED:20260407T152435Z
UID:10001240-1777572000-1777582800@artsconnect.ing
SUMMARY:Connecting with Coquitlam's Past: Exhibit Opening Party
DESCRIPTION:Coquitlam Heritage Society and Coquitlam Grill have worked together to create a new\, permanent exhibit of archival photos & select artifacts\, allowing patrons to connect with our city’s history while dining at the iconic Coquitlam establishment. Items on display include images of firefighters and police officers & cooking tools from early in Coquitlam’s history. \nIn celebration of the exhibit\, the two organizations will be hosting a free opening party! Guests will be able to mingle and enjoy refreshments while taking in the displays. Those over 19+ will also receive a drink ticket upon arrival! \nThursday\, April 30th from 6:00 PM – 9:00 PM\nFree. All Ages.\nRegistration required (link here)\nCoquitlam Grill\, 2635 Barnet Hwy #108\, Coquitlam
URL:https://artsconnect.ing/artscalendar/connecting-with-coquitlams-past-exhibit-opening-party/
LOCATION:Coquitlam Grill\, 2635 Barnet Hwy #108\, Coquitlam\, BC\, V3E 1K9\, Canada
CATEGORIES:Photography
ATTACH;FMTTYPE=image/jpeg:https://artsconnect.ing/wp-content/uploads/2026/04/663043959_1526659839460899_1300824675626829611_n.jpg
ORGANIZER;CN="Coquitlam Heritage":MAILTO:info@coquitlamheritage.ca
END:VEVENT
BEGIN:VEVENT
DTSTART;TZID=America/Vancouver:20260513T193000
DTEND;TZID=America/Vancouver:20260513T213000
DTSTAMP:20260423T123753
CREATED:20260215T201114Z
LAST-MODIFIED:20260215T201114Z
UID:10001077-1778700600-1778707800@artsconnect.ing
SUMMARY:Pacific Digital Photography Club: Online Meeting
DESCRIPTION:Pending theme \nUse this Zoom link to join: \nTBD \nGuests are always welcome so if you would like to join us simply show up  anytime after 7:00 PM.  The meeting will begin at 7:30 PM.  If you would mike more information simply drop us at email at: mailto:guest@pdpc.ca
URL:https://artsconnect.ing/artscalendar/pacific-digital-photography-club-online-meeting-4/
LOCATION:https://www.pdpc.ca/event-details-registration/online-meeting-15
CATEGORIES:Photography
ATTACH;FMTTYPE=image/webp:https://artsconnect.ing/wp-content/uploads/2025/11/Pacific-Digital-Photography-Club.webp
ORGANIZER;CN="Pacific Digital Photography Club":MAILTO:https://www.pdpc.ca/
END:VEVENT
BEGIN:VEVENT
DTSTART;TZID=America/Vancouver:20260516T130000
DTEND;TZID=America/Vancouver:20260516T133000
DTSTAMP:20260423T123753
CREATED:20260219T184624Z
LAST-MODIFIED:20260219T184624Z
UID:10001098-1778936400-1778938200@artsconnect.ing
SUMMARY:"Every Surface Is a Shrine" Exhibition Tour
DESCRIPTION:EXHIBITION TOUR\nKAREN ZALAMEA: EVERY SURFACE IS A SHRINE \nJoin curator Katherine Dennis (March 13) and Assistant Curator Anna Be (May 16) for a free\, drop-in tour of Karen Zalamea: Every Surface Is a Shrine.   \nABOUT THE EXHIBITION\nThe Art Gallery at Evergreen is pleased to present Every Surface Is a Shrine\, which brings together a selection of photo-based works by Karen Zalamea that traces the shifting boundaries between material\, memory and place. Rooted in a critical exploration of photography’s expanded possibilities\, Zalamea’s practice reimagines the medium not only as an image-making tool but as a methodology of care\, labour and cultural inquiry. \nThis exhibition is part of the 2026 Capture Photography Festival Selected Exhibition Program.
URL:https://artsconnect.ing/artscalendar/every-surface-is-a-shrine-exhibition-tour-2/
LOCATION:Art Gallery at Evergreen\, 1205 Pinetree Way\, Coquitlam\, BC\, V3B 7Y3\, Canada
CATEGORIES:Photography
ATTACH;FMTTYPE=image/webp:https://artsconnect.ing/wp-content/uploads/2026/02/DSC_0142-scaled-1.webp
END:VEVENT
BEGIN:VEVENT
DTSTART;TZID=America/Vancouver:20260527T190000
DTEND;TZID=America/Vancouver:20260527T213000
DTSTAMP:20260423T123753
CREATED:20260215T201446Z
LAST-MODIFIED:20260215T201446Z
UID:10001078-1779908400-1779917400@artsconnect.ing
SUMMARY:Pacific Digital Photography Club: In Person Meeting
DESCRIPTION:Topic: Members night \nGuests are always welcome so if you would like to join us simply show up at the school anytime after 7:00 PM. The meeting will begin at 7:30 PM. If you would mike more information simply drop us at email at: mailto:guest@pdpc.ca
URL:https://artsconnect.ing/artscalendar/pacific-digital-photography-club-in-person-meeting-7/
LOCATION:Port Moody Secondary School\, 300 Albert Street\, Port Moody\, BC\, V3H 2M5\, Canada
CATEGORIES:Photography
ATTACH;FMTTYPE=image/webp:https://artsconnect.ing/wp-content/uploads/2025/11/Pacific-Digital-Photography-Club.webp
ORGANIZER;CN="Pacific Digital Photography Club":MAILTO:https://www.pdpc.ca/
END:VEVENT
BEGIN:VEVENT
DTSTART;TZID=America/Vancouver:20261012T235900
DTEND;TZID=America/Vancouver:20261012T235900
DTSTAMP:20260423T123753
CREATED:20260129T173250Z
LAST-MODIFIED:20260129T173250Z
UID:10000966-1791849540-1791849540@artsconnect.ing
SUMMARY:City of Port Moody: Online Calendar Photo Submission Deadline
DESCRIPTION:Submit your photos for our 2027 City calendar! \nWe want your photos for Port Moody’s 2027 City Calendar! Share your snapshots of our city’s natural beauty for a chance to be featured in our most popular publication. Upload your stunning sunrises\, scenic landscapes\, and shots that highlight the best of our community. The deadline for submissions is Monday October 12\, 2026. In addition to a photo credit\, we may feature your image on our website and social media pages.
URL:https://artsconnect.ing/artscalendar/city-of-port-moody-online-calendar-photo-submission-deadline/
LOCATION:City of Port Moody\, Port Moody\, BC\, Canada
CATEGORIES:Photography
ATTACH;FMTTYPE=image/webp:https://artsconnect.ing/wp-content/uploads/2026/01/622158076_1496585095807147_1900715166145572783_n.webp
END:VEVENT
END:VCALENDAR