BEGIN:VCALENDAR
VERSION:2.0
PRODID:-//ArtsConnect - ECPv6.15.20//NONSGML v1.0//EN
CALSCALE:GREGORIAN
METHOD:PUBLISH
X-WR-CALNAME:ArtsConnect
X-ORIGINAL-URL:https://artsconnect.ing
X-WR-CALDESC:Events for ArtsConnect
REFRESH-INTERVAL;VALUE=DURATION:PT1H
X-Robots-Tag:noindex
X-PUBLISHED-TTL:PT1H
BEGIN:VTIMEZONE
TZID:America/Vancouver
BEGIN:DAYLIGHT
TZOFFSETFROM:-0800
TZOFFSETTO:-0700
TZNAME:PDT
DTSTART:20250309T100000
END:DAYLIGHT
BEGIN:STANDARD
TZOFFSETFROM:-0700
TZOFFSETTO:-0800
TZNAME:PST
DTSTART:20251102T090000
END:STANDARD
BEGIN:DAYLIGHT
TZOFFSETFROM:-0800
TZOFFSETTO:-0700
TZNAME:PDT
DTSTART:20260308T100000
END:DAYLIGHT
BEGIN:STANDARD
TZOFFSETFROM:-0700
TZOFFSETTO:-0800
TZNAME:PST
DTSTART:20261101T090000
END:STANDARD
BEGIN:DAYLIGHT
TZOFFSETFROM:-0800
TZOFFSETTO:-0700
TZNAME:PDT
DTSTART:20270314T100000
END:DAYLIGHT
BEGIN:STANDARD
TZOFFSETFROM:-0700
TZOFFSETTO:-0800
TZNAME:PST
DTSTART:20271107T090000
END:STANDARD
END:VTIMEZONE
BEGIN:VEVENT
DTSTART;TZID=America/Vancouver:20260203T173000
DTEND;TZID=America/Vancouver:20260203T203000
DTSTAMP:20260423T172026
CREATED:20260126T233248Z
LAST-MODIFIED:20260126T233248Z
UID:10000956-1770139800-1770150600@artsconnect.ing
SUMMARY:Poetry Open Mic Featuring Catie Frost
DESCRIPTION:A familiar face for our February feature. \nBio: \nCatherine has been writing poetry since age 12. She found the page to be a safe space for intense expression in a challenging world. A former drag show mascot\, concert and event producer\, she now counts beans\, writes\, and thinks up new magical mystery tours and adventures. She also loves to write spontaneous flash micro-poems inspired by ‘Phrase of the Day’ in a compulsive quest to win prizes. \nAs always our show starts at 6pm\nCome early for open mic sign up at 5:30.🖊
URL:https://artsconnect.ing/artscalendar/poetry-open-mic-featuring-catie-frost/
LOCATION:Brave Brewing Company\, 2617 Murray Street\, Port Moody\, BC\, V3H 1X1\, Canada
CATEGORIES:Poetry
ATTACH;FMTTYPE=image/webp:https://artsconnect.ing/wp-content/uploads/2026/01/622348679_122229251810292890_7731958536424031168_n.webp
ORGANIZER;CN="Tri Cities Poetry":MAILTO:tricitiespoetry@gmail.com
END:VEVENT
BEGIN:VEVENT
DTSTART;TZID=America/Vancouver:20260217T000000
DTEND;TZID=America/Vancouver:20260217T235959
DTSTAMP:20260423T172026
CREATED:20260211T192518Z
LAST-MODIFIED:20260211T192518Z
UID:10001069-1771286400-1771372799@artsconnect.ing
SUMMARY:2026 Art Out Side Festival: Artist Applications
DESCRIPTION:💥SAVE THE DATE 💥 Artist applications open February 17 for the 2026 Art Out Side Festival in Port Moody. \nIf you are an artist who wants to explore and innovate\, creating art in unexpected places and in conversation with the community\, we want to meet you 🙌 \nStay tuned for more! \nhttps://www.pomoarts.ca/artoutside
URL:https://artsconnect.ing/artscalendar/2026-art-out-side-festival-artist-applications/
LOCATION:PoMoArts\, 2425 St. Johns Street\, Port Moody\, BC\, V3H 2B2\, Canada
CATEGORIES:Dance,Festival,Literary Arts,Music,Photography,Poetry,Visual Arts
ATTACH;FMTTYPE=image/webp:https://artsconnect.ing/wp-content/uploads/2026/02/630335455_1344178014415369_5568053875147953865_n.webp
ORGANIZER;CN="PoMoArts":MAILTO:info@pomoarts.ca
END:VEVENT
BEGIN:VEVENT
DTSTART;TZID=America/Vancouver:20260217T173000
DTEND;TZID=America/Vancouver:20260217T203000
DTSTAMP:20260423T172026
CREATED:20260202T172934Z
LAST-MODIFIED:20260202T172934Z
UID:10000979-1771349400-1771360200@artsconnect.ing
SUMMARY:Brave Voices: Poetry Open Mic
DESCRIPTION:Join us for our poetry open mic! Entry is free\, with an option to donate at the door. Performers are welcome to sign up at 5:30 for a 5 minute time slot. Spots are first come first serve\, open to anyone 19+\, those under 19 must be supervised by a guardian. \nWe welcome all types of performance with the only rule being: No Hate Speech! We strive to create an inclusive space and ask all participants to be kind. You can always expect something new and fun at our open mics! \nSee you there!
URL:https://artsconnect.ing/artscalendar/brave-voices-poetry-open-mic/
LOCATION:Brave Brewing Company\, 2617 Murray Street\, Port Moody\, BC\, V3H 1X1\, Canada
CATEGORIES:Open Mic,Poetry
ATTACH;FMTTYPE=image/webp:https://artsconnect.ing/wp-content/uploads/2026/02/624487505_122229911264292890_7353792443455285348_n.webp
ORGANIZER;CN="Tri Cities Poetry":MAILTO:tricitiespoetry@gmail.com
END:VEVENT
BEGIN:VEVENT
DTSTART;TZID=America/Vancouver:20260218T190000
DTEND;TZID=America/Vancouver:20260218T210000
DTSTAMP:20260423T172026
CREATED:20260211T175917Z
LAST-MODIFIED:20260211T175917Z
UID:10001021-1771441200-1771448400@artsconnect.ing
SUMMARY:Open Mic Night
DESCRIPTION:Come join us for a fun-filled night of music\, karaoke\, live performances\, and spoken word – show off your talent or just enjoy the show! \n\n\n\n\nWelcome to Open Mic Night at The Gathering Place! Join us for a night filled with Karaoke\, Live Performances\, and Spoken Word! Show off your talent or simply enjoy the show. Whether you’re a singer\, poet\, musician\, or just a fan of live entertainment\, this event is perfect for you. Come on down and let your creativity shine on our stage. Don’t miss out on a fun evening of music\, laughter\, and creativity! Hosted by the Poco Arts Council and the City of Port Coquitam.
URL:https://artsconnect.ing/artscalendar/open-mic-night/
LOCATION:The Gathering Place\, 200-2253 Leigh Square Pl\, Port Coquitlam\, BC\, V3C 3B8\, Canada
CATEGORIES:Music,Open Mic,Poetry
ATTACH;FMTTYPE=image/jpeg:https://artsconnect.ing/wp-content/uploads/2026/02/Open-Mic-Night-Poco-Arts-Council.jpeg
ORGANIZER;CN="Poco Arts Council":MAILTO:https://pocoarts.wordpress.com/contact/
END:VEVENT
BEGIN:VEVENT
DTSTART;TZID=America/Vancouver:20260227T180000
DTEND;TZID=America/Vancouver:20260227T200000
DTSTAMP:20260423T172026
CREATED:20260129T172131Z
LAST-MODIFIED:20260129T172131Z
UID:10000961-1772215200-1772222400@artsconnect.ing
SUMMARY:The Culture Club
DESCRIPTION:Join us each month as we discuss a novel\, comic\, movie\, poem\, or other media each rooted in themes of personal cultural heritage\, anti-racism\, and diversity. If you’re looking for a fun way to spend Friday evenings\, connect with community\, or read a more unique array of books\, the Culture Club may be perfect for you! \nHere’s our upcoming discussion line up: \nFebruary: The Sleeping Car Porter by Suzette Mayr (book – pick up at museum)\nMarch: Women Talking by Miriam Towes (book – pick up at museum) AND/OR Women Talking by Sarah Polley (film – available on Prime)\nApril: Beans by Tracey Deer (film – available for free on CBC Gem)\nMay: Denison Avenue by Christina Wong (book – pick up at museum)\nJune: Queer poetry club (we will link to recommendations of LGBTQ poets and people can also come with their own favourite) \nLast Friday of every month from 6 PM to 8 PM.\nRSVP appreciated but not required.\nFree. Ages 18+.\n1116 Brunette Avenue\, Coquitlam.
URL:https://artsconnect.ing/artscalendar/the-culture-club/2026-02-27/
LOCATION:Mackin House\, 1116 Brunette Avenue\, Coquitlam\, BC\, V3K 1G2\, Canada
CATEGORIES:Discussion,Film,Literary Arts,Poetry
ATTACH;FMTTYPE=image/webp:https://artsconnect.ing/wp-content/uploads/2026/01/TheCultureClub-WebImage.webp
ORGANIZER;CN="Coquitlam Heritage":MAILTO:info@coquitlamheritage.ca
END:VEVENT
BEGIN:VEVENT
DTSTART;TZID=America/Vancouver:20260227T190000
DTEND;TZID=America/Vancouver:20260227T210000
DTSTAMP:20260423T172026
CREATED:20260202T173515Z
LAST-MODIFIED:20260202T173515Z
UID:10000980-1772218800-1772226000@artsconnect.ing
SUMMARY:All Ages Poetry Slam with Open Mic
DESCRIPTION:Our event starts with an open mic where performers have 5 minute time slots. The second half of the event is a poetry slam\, a competition poetry reading where any and all levels of experience are encouraged. Top 3 scoring poets will win prizes. Both open mic spots and slam spots are limited and first come first serve. \nTickets are free\, but we suggest reserving your spot ahead of time to guarantee a spot using the link below. Our venue requests a $5 minimum purchase per person as well.
URL:https://artsconnect.ing/artscalendar/all-ages-poetry-slam-with-open-mic/
LOCATION:Bevees\, 203-2748 Lougheed Hwy\, Port Coquitlam\, BC\, V3B 6P2\, Canada
CATEGORIES:Open Mic,Poetry
ATTACH;FMTTYPE=image/webp:https://artsconnect.ing/wp-content/uploads/2026/02/AllAgesFeb.webp
ORGANIZER;CN="Tri Cities Poetry":MAILTO:tricitiespoetry@gmail.com
END:VEVENT
BEGIN:VEVENT
DTSTART;TZID=America/Vancouver:20260228T180000
DTEND;TZID=America/Vancouver:20260228T180000
DTSTAMP:20260423T172026
CREATED:20260113T174337Z
LAST-MODIFIED:20260113T174337Z
UID:10000873-1772301600-1772301600@artsconnect.ing
SUMMARY:Tri-Cities Poetry Fundraiser
DESCRIPTION:Inlet Connects Ministry is teaming up with Tri Cities Poetry to host an evening of poetry\, arts\, and community. Non-alcoholic beverages and snacks will be available and a silent auction will take place. \nHelp us to support this grassroots organization and keep their regular events free. \nFor information about Tri Cities Poetry visit https://www.tricitiespoetry.ca/ \nThis event requires tickets\, which you can purchase via Eventbrite – Click Here!
URL:https://artsconnect.ing/artscalendar/tri-cities-poetry-fundraiser/
LOCATION:Inlet United Church at the Springs\, 2315 Spring Street\, Port Moody\, BC\, V3H 0L7\, Canada
CATEGORIES:Fundraiser,Poetry
ATTACH;FMTTYPE=image/webp:https://artsconnect.ing/wp-content/uploads/2026/01/TC-Poetry-Fundraiser-Poster.webp
ORGANIZER;CN="Tri Cities Poetry":MAILTO:tricitiespoetry@gmail.com
END:VEVENT
END:VCALENDAR