BEGIN:VCALENDAR
VERSION:2.0
PRODID:-//ArtsConnect - ECPv6.15.20//NONSGML v1.0//EN
CALSCALE:GREGORIAN
METHOD:PUBLISH
X-WR-CALNAME:ArtsConnect
X-ORIGINAL-URL:https://artsconnect.ing
X-WR-CALDESC:Events for ArtsConnect
REFRESH-INTERVAL;VALUE=DURATION:PT1H
X-Robots-Tag:noindex
X-PUBLISHED-TTL:PT1H
BEGIN:VTIMEZONE
TZID:America/Vancouver
BEGIN:DAYLIGHT
TZOFFSETFROM:-0800
TZOFFSETTO:-0700
TZNAME:PDT
DTSTART:20250309T100000
END:DAYLIGHT
BEGIN:STANDARD
TZOFFSETFROM:-0700
TZOFFSETTO:-0800
TZNAME:PST
DTSTART:20251102T090000
END:STANDARD
BEGIN:DAYLIGHT
TZOFFSETFROM:-0800
TZOFFSETTO:-0700
TZNAME:PDT
DTSTART:20260308T100000
END:DAYLIGHT
BEGIN:STANDARD
TZOFFSETFROM:-0700
TZOFFSETTO:-0800
TZNAME:PST
DTSTART:20261101T090000
END:STANDARD
BEGIN:DAYLIGHT
TZOFFSETFROM:-0800
TZOFFSETTO:-0700
TZNAME:PDT
DTSTART:20270314T100000
END:DAYLIGHT
BEGIN:STANDARD
TZOFFSETFROM:-0700
TZOFFSETTO:-0800
TZNAME:PST
DTSTART:20271107T090000
END:STANDARD
END:VTIMEZONE
BEGIN:VEVENT
DTSTART;TZID=America/Vancouver:20260303T173000
DTEND;TZID=America/Vancouver:20260303T203000
DTSTAMP:20260423T154909
CREATED:20260302T202228Z
LAST-MODIFIED:20260302T202228Z
UID:10001134-1772559000-1772569800@artsconnect.ing
SUMMARY:Brave Voices: Featuring Nathan
DESCRIPTION:Join us for our free poetry open mic! Performers are welcome to sign up at 5:30 for a 5 minute time slot. Spots are first come first serve\, open to anyone 19+\, those under 19 must be supervised by a guardian. \nWe welcome all types of performance with the only rule being: No Hate Speech! We strive to create an inclusive space and ask all participants to be kind. \nSee you there!
URL:https://artsconnect.ing/artscalendar/brave-voices-featuring-nathan/
LOCATION:Brave Brewing Company\, 2617 Murray Street\, Port Moody\, BC\, V3H 1X1\, Canada
CATEGORIES:Poetry
ATTACH;FMTTYPE=image/webp:https://artsconnect.ing/wp-content/uploads/2026/03/BRAVEVOICES.webp
ORGANIZER;CN="Tri Cities Poetry":MAILTO:tricitiespoetry@gmail.com
END:VEVENT
BEGIN:VEVENT
DTSTART;TZID=America/Vancouver:20260309T103000
DTEND;TZID=America/Vancouver:20260309T113000
DTSTAMP:20260423T154909
CREATED:20260306T184819Z
LAST-MODIFIED:20260306T184819Z
UID:10001172-1773052200-1773055800@artsconnect.ing
SUMMARY:Rhymes of Times
DESCRIPTION:Interested in rhymes? Like a good poem? Join us at the museum and share your stories with us!\nRhymes of Times is a reminiscing session led by Julie Schmidt. \nNo registration required. Admission is free!
URL:https://artsconnect.ing/artscalendar/rhymes-of-times/
LOCATION:PoCo Heritage Museum and Achives\, 2248 McAllister Ave #150\, Port Coquitlam\, BC\, V3C 2A5\, Canada
CATEGORIES:Poetry
ATTACH;FMTTYPE=image/webp:https://artsconnect.ing/wp-content/uploads/2026/03/PoCo_Heritage_Transparent_Resized.webp
ORGANIZER;CN="PoCo Heritage Museum and Archives":MAILTO:info@pocoheritage.org
END:VEVENT
BEGIN:VEVENT
DTSTART;TZID=America/Vancouver:20260309T183000
DTEND;TZID=America/Vancouver:20260309T230000
DTSTAMP:20260423T154909
CREATED:20260305T185044Z
LAST-MODIFIED:20260321T175057Z
UID:10001193-1773081000-1773097200@artsconnect.ing
SUMMARY:Train Wreck Brewing: Open Mic
DESCRIPTION:Join us every Monday and share your talents. Music\, comedy\, poetry\, or whatever you’ve got. The stage is yours!
URL:https://artsconnect.ing/artscalendar/train-wreck-brewing-open-mic-3/2026-03-09/
LOCATION:Train Wreck Brewing\, 3044 St Johns Street\, Port Moody\, BC\, V3H 2C5\, Canada
CATEGORIES:Comedy,Music,Open Mic,Poetry
ATTACH;FMTTYPE=image/jpeg:https://artsconnect.ing/wp-content/uploads/2026/03/655832404_10163996512723805_4157259386927779590_n.jpg
ORGANIZER;CN="Train Wreck Brewing":MAILTO:info@trainwreckbrewing.ca
END:VEVENT
BEGIN:VEVENT
DTSTART;TZID=America/Vancouver:20260315T235900
DTEND;TZID=America/Vancouver:20260315T235900
DTSTAMP:20260423T154909
CREATED:20260226T180538Z
LAST-MODIFIED:20260226T180538Z
UID:10001120-1773619140-1773619140@artsconnect.ing
SUMMARY:Art Out Side 2026: Call for Artists: Deadline
DESCRIPTION:Calling local artists to transform Port Moody through the arts this summer! Applications are now open to submit your proposal 💥 \nArt Out Side 2026 is a city-wide multidisciplinary arts festival taking place August 7–16. From waterfronts to commercial hubs\, alleyways to park benches\, the festival invites bold artistic voices to animate public space and reimagine how and where art is experienced. \nCurated by PoMoArts with the support of the City of Port Moody. \nWe invite artists of all disciplines to propose engaging works in visual and media arts\, performance\, poetry\, sound\, interactive installations\, film\, sculpture\, dance\, and other creative forms: \n🎥 Solo or group-led projects that meaningfully transform public space\n🎸 One-day or one-night performances at designated festival sites\n🧑‍🎨 Temporary installations (short-term or multi-day)\n🎭 Large-scale activations (mass movement\, participatory art\, immersive environments\, collective performance)\n🏘️ Lead muralists for pre-approved sites (teams welcome)\n🎤 Roaming performers\, pop-up artists\, and buskers animating designated festival zones \nApply now by March 15\, 2026 at https://www.pomoarts.ca/artoutside
URL:https://artsconnect.ing/artscalendar/art-out-side-2026-call-for-artists-deadline/
LOCATION:PoMoArts\, 2425 St. Johns Street\, Port Moody\, BC\, V3H 2B2\, Canada
CATEGORIES:Dance,Festival,Literary Arts,Music,Photography,Poetry,Visual Arts
ATTACH;FMTTYPE=image/webp:https://artsconnect.ing/wp-content/uploads/2026/02/633659077_1350232077143296_8366537446944865181_n.webp
ORGANIZER;CN="PoMoArts":MAILTO:info@pomoarts.ca
END:VEVENT
BEGIN:VEVENT
DTSTART;TZID=America/Vancouver:20260316T183000
DTEND;TZID=America/Vancouver:20260316T230000
DTSTAMP:20260423T154909
CREATED:20260305T185044Z
LAST-MODIFIED:20260321T175057Z
UID:10001194-1773685800-1773702000@artsconnect.ing
SUMMARY:Train Wreck Brewing: Open Mic
DESCRIPTION:Join us every Monday and share your talents. Music\, comedy\, poetry\, or whatever you’ve got. The stage is yours!
URL:https://artsconnect.ing/artscalendar/train-wreck-brewing-open-mic-3/2026-03-16/
LOCATION:Train Wreck Brewing\, 3044 St Johns Street\, Port Moody\, BC\, V3H 2C5\, Canada
CATEGORIES:Comedy,Music,Open Mic,Poetry
ATTACH;FMTTYPE=image/jpeg:https://artsconnect.ing/wp-content/uploads/2026/03/655832404_10163996512723805_4157259386927779590_n.jpg
ORGANIZER;CN="Train Wreck Brewing":MAILTO:info@trainwreckbrewing.ca
END:VEVENT
BEGIN:VEVENT
DTSTART;TZID=America/Vancouver:20260317T173000
DTEND;TZID=America/Vancouver:20260317T203000
DTSTAMP:20260423T154909
CREATED:20260302T202654Z
LAST-MODIFIED:20260302T202654Z
UID:10001135-1773768600-1773779400@artsconnect.ing
SUMMARY:Brave Voices
DESCRIPTION:Join us for our poetry open mic! Entry is free\, with an option to donate at the door. Performers are welcome to sign up at 5:30 for a 5 minute time slot. Spots are first come first serve\, open to anyone 19+\, those under 19 must be supervised by a guardian. \nWe welcome all types of performance with the only rule being: No Hate Speech! We strive to create an inclusive space and ask all participants to be kind. You can always expect something new and fun at our open mics! \nSee you there!
URL:https://artsconnect.ing/artscalendar/brave-voices-3/
LOCATION:Brave Brewing Company\, 2617 Murray Street\, Port Moody\, BC\, V3H 1X1\, Canada
CATEGORIES:Poetry
ATTACH;FMTTYPE=image/webp:https://artsconnect.ing/wp-content/uploads/2026/03/BraveVoiceswebsite.webp
ORGANIZER;CN="Tri Cities Poetry":MAILTO:tricitiespoetry@gmail.com
END:VEVENT
BEGIN:VEVENT
DTSTART;TZID=America/Vancouver:20260323T183000
DTEND;TZID=America/Vancouver:20260323T230000
DTSTAMP:20260423T154909
CREATED:20260305T185044Z
LAST-MODIFIED:20260321T175057Z
UID:10001195-1774290600-1774306800@artsconnect.ing
SUMMARY:Train Wreck Brewing: Open Mic
DESCRIPTION:Join us every Monday and share your talents. Music\, comedy\, poetry\, or whatever you’ve got. The stage is yours!
URL:https://artsconnect.ing/artscalendar/train-wreck-brewing-open-mic-3/2026-03-23/
LOCATION:Train Wreck Brewing\, 3044 St Johns Street\, Port Moody\, BC\, V3H 2C5\, Canada
CATEGORIES:Comedy,Music,Open Mic,Poetry
ATTACH;FMTTYPE=image/jpeg:https://artsconnect.ing/wp-content/uploads/2026/03/655832404_10163996512723805_4157259386927779590_n.jpg
ORGANIZER;CN="Train Wreck Brewing":MAILTO:info@trainwreckbrewing.ca
END:VEVENT
BEGIN:VEVENT
DTSTART;TZID=America/Vancouver:20260326T180000
DTEND;TZID=America/Vancouver:20260326T190000
DTSTAMP:20260423T154909
CREATED:20260226T174034Z
LAST-MODIFIED:20260226T174252Z
UID:10001117-1774548000-1774551600@artsconnect.ing
SUMMARY:Poetry with Desserts
DESCRIPTION:Come for FREE Gelato or a coffee! \nFresh\, New\, Original Poetry!
URL:https://artsconnect.ing/artscalendar/poetry-with-desserts/2026-03-26/
LOCATION:Matteo’s Gelato\, 2615 Mary Hill Road\, Port Coquitlam\, BC\, V3C 3A9\, Canada
CATEGORIES:Poetry
ATTACH;FMTTYPE=image/webp:https://artsconnect.ing/wp-content/uploads/2025/09/Troupe-de-poetry-black-lines-logo.webp
ORGANIZER;CN="The Troupe de Poetry":MAILTO:karenh61@hotmail.com
END:VEVENT
BEGIN:VEVENT
DTSTART;TZID=America/Vancouver:20260327T180000
DTEND;TZID=America/Vancouver:20260327T200000
DTSTAMP:20260423T154909
CREATED:20260129T172131Z
LAST-MODIFIED:20260129T172131Z
UID:10000962-1774634400-1774641600@artsconnect.ing
SUMMARY:The Culture Club
DESCRIPTION:Join us each month as we discuss a novel\, comic\, movie\, poem\, or other media each rooted in themes of personal cultural heritage\, anti-racism\, and diversity. If you’re looking for a fun way to spend Friday evenings\, connect with community\, or read a more unique array of books\, the Culture Club may be perfect for you! \nHere’s our upcoming discussion line up: \nFebruary: The Sleeping Car Porter by Suzette Mayr (book – pick up at museum)\nMarch: Women Talking by Miriam Towes (book – pick up at museum) AND/OR Women Talking by Sarah Polley (film – available on Prime)\nApril: Beans by Tracey Deer (film – available for free on CBC Gem)\nMay: Denison Avenue by Christina Wong (book – pick up at museum)\nJune: Queer poetry club (we will link to recommendations of LGBTQ poets and people can also come with their own favourite) \nLast Friday of every month from 6 PM to 8 PM.\nRSVP appreciated but not required.\nFree. Ages 18+.\n1116 Brunette Avenue\, Coquitlam.
URL:https://artsconnect.ing/artscalendar/the-culture-club/2026-03-27/
LOCATION:Mackin House\, 1116 Brunette Avenue\, Coquitlam\, BC\, V3K 1G2\, Canada
CATEGORIES:Discussion,Film,Literary Arts,Poetry
ATTACH;FMTTYPE=image/webp:https://artsconnect.ing/wp-content/uploads/2026/01/TheCultureClub-WebImage.webp
ORGANIZER;CN="Coquitlam Heritage":MAILTO:info@coquitlamheritage.ca
END:VEVENT
BEGIN:VEVENT
DTSTART;TZID=America/Vancouver:20260327T190000
DTEND;TZID=America/Vancouver:20260327T210000
DTSTAMP:20260423T154909
CREATED:20260302T203019Z
LAST-MODIFIED:20260302T203019Z
UID:10001136-1774638000-1774645200@artsconnect.ing
SUMMARY:All Ages Slam
DESCRIPTION:Our event starts with an open mic where performers have 5 minute time slots. The second half of the event is a poetry slam\, a competition poetry reading where any and all levels of experience are encouraged. Top 3 scoring poets will win prizes. Both open mic spots and slam spots are limited and first come first serve. \nTickets are free\, but we suggest reserving your spot ahead of time to guarantee a spot using the link below. Our venue requests a $5 minimum purchase per person as well.
URL:https://artsconnect.ing/artscalendar/all-ages-slam-2/
LOCATION:Bevees\, 203-2748 Lougheed Hwy\, Port Coquitlam\, BC\, V3B 6P2\, Canada
CATEGORIES:Poetry
ATTACH;FMTTYPE=image/webp:https://artsconnect.ing/wp-content/uploads/2026/03/AllAgesMarch.webp
ORGANIZER;CN="Tri Cities Poetry":MAILTO:tricitiespoetry@gmail.com
END:VEVENT
BEGIN:VEVENT
DTSTART;TZID=America/Vancouver:20260330T183000
DTEND;TZID=America/Vancouver:20260330T230000
DTSTAMP:20260423T154909
CREATED:20260305T185044Z
LAST-MODIFIED:20260321T175057Z
UID:10001196-1774895400-1774911600@artsconnect.ing
SUMMARY:Train Wreck Brewing: Open Mic
DESCRIPTION:Join us every Monday and share your talents. Music\, comedy\, poetry\, or whatever you’ve got. The stage is yours!
URL:https://artsconnect.ing/artscalendar/train-wreck-brewing-open-mic-3/2026-03-30/
LOCATION:Train Wreck Brewing\, 3044 St Johns Street\, Port Moody\, BC\, V3H 2C5\, Canada
CATEGORIES:Comedy,Music,Open Mic,Poetry
ATTACH;FMTTYPE=image/jpeg:https://artsconnect.ing/wp-content/uploads/2026/03/655832404_10163996512723805_4157259386927779590_n.jpg
ORGANIZER;CN="Train Wreck Brewing":MAILTO:info@trainwreckbrewing.ca
END:VEVENT
BEGIN:VEVENT
DTSTART;TZID=America/Vancouver:20260331T235900
DTEND;TZID=America/Vancouver:20260331T235900
DTSTAMP:20260423T154909
CREATED:20260322T170020Z
LAST-MODIFIED:20260322T170020Z
UID:10001201-1775001540-1775001540@artsconnect.ing
SUMMARY:2 Year Anniversary Chapbook: Submissions Deadline
DESCRIPTION:Opportunity awaits! \nWe are now accepting submissions for our next chapbook- celebrating our 2nd anniversary of running events. \n* If you have attended any of our events in the past\, we welcome you to submit your work through the google form in our bio. \n📔Submissions will close on March 31st and selected poets will be informed by the beginning of April. \n📖 Selected poets will receive a free copy and be invited to perform at our two year anniversary show on May 5th. \nPlease email tricitiespoetry@gmail.com with any questions
URL:https://artsconnect.ing/artscalendar/2-year-anniversary-chapbook-submissions-deadline/
LOCATION:BC
CATEGORIES:Poetry
ATTACH;FMTTYPE=image/jpeg:https://artsconnect.ing/wp-content/uploads/2026/03/654795613_122235440294292890_8668220865993808238_n.jpg
ORGANIZER;CN="Tri Cities Poetry":MAILTO:tricitiespoetry@gmail.com
END:VEVENT
END:VCALENDAR